BEGIN:VCALENDAR
VERSION:2.0
PRODID:-//MyLaTrobe - ECPv6.15.20//NONSGML v1.0//EN
CALSCALE:GREGORIAN
METHOD:PUBLISH
X-ORIGINAL-URL:https://www.latrobe.edu.au/mylatrobe
X-WR-CALDESC:Events for MyLaTrobe
REFRESH-INTERVAL;VALUE=DURATION:PT1H
X-Robots-Tag:noindex
X-PUBLISHED-TTL:PT1H
BEGIN:VTIMEZONE
TZID:Australia/Melbourne
BEGIN:STANDARD
TZOFFSETFROM:+1100
TZOFFSETTO:+1000
TZNAME:AEST
DTSTART:20230401T160000
END:STANDARD
BEGIN:DAYLIGHT
TZOFFSETFROM:+1000
TZOFFSETTO:+1100
TZNAME:AEDT
DTSTART:20230930T160000
END:DAYLIGHT
BEGIN:STANDARD
TZOFFSETFROM:+1100
TZOFFSETTO:+1000
TZNAME:AEST
DTSTART:20240406T160000
END:STANDARD
BEGIN:DAYLIGHT
TZOFFSETFROM:+1000
TZOFFSETTO:+1100
TZNAME:AEDT
DTSTART:20241005T160000
END:DAYLIGHT
BEGIN:STANDARD
TZOFFSETFROM:+1100
TZOFFSETTO:+1000
TZNAME:AEST
DTSTART:20250405T160000
END:STANDARD
BEGIN:DAYLIGHT
TZOFFSETFROM:+1000
TZOFFSETTO:+1100
TZNAME:AEDT
DTSTART:20251004T160000
END:DAYLIGHT
END:VTIMEZONE
BEGIN:VEVENT
DTSTART;TZID=Australia/Melbourne:20240411T100000
DTEND;TZID=Australia/Melbourne:20240411T100000
DTSTAMP:20260420T091933
CREATED:20240320T232528Z
LAST-MODIFIED:20240320T232528Z
UID:43630-1712829600-1712829600@www.latrobe.edu.au
SUMMARY:Weekly Activation - Free Coffees
DESCRIPTION:Free Coffees on the LSU
URL:https://www.latrobe.edu.au/mylatrobe/event/weekly-activation-free-coffees-4/
CATEGORIES:Bendigo
END:VEVENT
BEGIN:VEVENT
DTSTART;TZID=Australia/Melbourne:20240411T110000
DTEND;TZID=Australia/Melbourne:20240411T110000
DTSTAMP:20260420T091933
CREATED:20240320T232528Z
LAST-MODIFIED:20240320T232528Z
UID:43634-1712833200-1712833200@www.latrobe.edu.au
SUMMARY:Green Thursdays: Brews & Blooms
DESCRIPTION:Step into a refreshing escape every Thursday with “Green Thursdays: Brews & Blooms\,” a unique blend of nature\, nurture\, and networking at the heart of the Melbourne city campus. As the week unfolds\, take a moment to slow down and savor the simple joys of barista-crafted coffee\, vegan and vegetarian delights\, amidst the tranquil beauty of our community garden. This is not just a coffee break; it’s an invitation to connect with fellow students and staff\, share stories\, and cultivate new friendships over the art of gardening and the taste of exquisite brews. Whether you’re a green thumb enthusiast or simply seeking a serene spot to unwind\, join us from 11:00 AM to 1:00 PM and be part of a growing tradition that celebrates community\, sustainability\, and the vibrant spirit of Melbourne. Don’t let the semester pass you by without experiencing the blossoming camaraderie of Green Thursdays: Brews & Blooms.
URL:https://www.latrobe.edu.au/mylatrobe/event/green-thursdays-brews-blooms-3/
CATEGORIES:City
END:VEVENT
BEGIN:VEVENT
DTSTART;TZID=Australia/Melbourne:20240411T110000
DTEND;TZID=Australia/Melbourne:20240411T130000
DTSTAMP:20260420T091933
CREATED:20240321T020510Z
LAST-MODIFIED:20240321T020510Z
UID:44027-1712833200-1712840400@www.latrobe.edu.au
SUMMARY:CU Agora Stall
DESCRIPTION:Come and talk to Christian Union in the Agora
URL:https://www.latrobe.edu.au/mylatrobe/event/cu-agora-stall-15/
CATEGORIES:Bundoora
END:VEVENT
BEGIN:VEVENT
DTSTART;TZID=Australia/Melbourne:20240411T113000
DTEND;TZID=Australia/Melbourne:20240411T113000
DTSTAMP:20260420T091933
CREATED:20240320T232527Z
LAST-MODIFIED:20240320T232527Z
UID:43631-1712835000-1712835000@www.latrobe.edu.au
SUMMARY:Market Day
DESCRIPTION:Club stalls\, internal or external stalls and promotions\, music
URL:https://www.latrobe.edu.au/mylatrobe/event/market-day-5/
CATEGORIES:Bundoora
END:VEVENT
BEGIN:VEVENT
DTSTART;TZID=Australia/Melbourne:20240411T120000
DTEND;TZID=Australia/Melbourne:20240411T120000
DTSTAMP:20260420T091933
CREATED:20240320T232527Z
LAST-MODIFIED:20240320T232527Z
UID:43633-1712836800-1712836800@www.latrobe.edu.au
SUMMARY:Weekly Activation
DESCRIPTION:Hot chip Thursdays – walk to TAFE
URL:https://www.latrobe.edu.au/mylatrobe/event/weekly-activation/
CATEGORIES:Albury-Wodonga
END:VEVENT
BEGIN:VEVENT
DTSTART;TZID=Australia/Melbourne:20240411T180000
DTEND;TZID=Australia/Melbourne:20240411T180000
DTSTAMP:20260420T091933
CREATED:20240320T232527Z
LAST-MODIFIED:20240320T232527Z
UID:43635-1712858400-1712858400@www.latrobe.edu.au
SUMMARY:STF x LUSoM Open Mic
DESCRIPTION:An open mic night hosted by STF and LUSoM as part of the Moat festival.
URL:https://www.latrobe.edu.au/mylatrobe/event/stf-x-lusom-open-mic/
CATEGORIES:Bundoora
END:VEVENT
BEGIN:VEVENT
DTSTART;TZID=Australia/Melbourne:20240411T180000
DTEND;TZID=Australia/Melbourne:20240411T180000
DTSTAMP:20260420T091933
CREATED:20240320T232527Z
LAST-MODIFIED:20240320T232527Z
UID:43632-1712858400-1712858400@www.latrobe.edu.au
SUMMARY:Cohort Catch Up - Nursing
DESCRIPTION:Dinner with nursing students and academics
URL:https://www.latrobe.edu.au/mylatrobe/event/cohort-catch-up-nursing/
CATEGORIES:Shepparton
END:VEVENT
END:VCALENDAR