BEGIN:VCALENDAR
VERSION:2.0
PRODID:-//MyLaTrobe - ECPv6.15.20//NONSGML v1.0//EN
CALSCALE:GREGORIAN
METHOD:PUBLISH
X-WR-CALNAME:MyLaTrobe
X-ORIGINAL-URL:https://www.latrobe.edu.au/mylatrobe
X-WR-CALDESC:Events for MyLaTrobe
REFRESH-INTERVAL;VALUE=DURATION:PT1H
X-Robots-Tag:noindex
X-PUBLISHED-TTL:PT1H
BEGIN:VTIMEZONE
TZID:Australia/Melbourne
BEGIN:STANDARD
TZOFFSETFROM:+1100
TZOFFSETTO:+1000
TZNAME:AEST
DTSTART:20230401T160000
END:STANDARD
BEGIN:DAYLIGHT
TZOFFSETFROM:+1000
TZOFFSETTO:+1100
TZNAME:AEDT
DTSTART:20230930T160000
END:DAYLIGHT
BEGIN:STANDARD
TZOFFSETFROM:+1100
TZOFFSETTO:+1000
TZNAME:AEST
DTSTART:20240406T160000
END:STANDARD
BEGIN:DAYLIGHT
TZOFFSETFROM:+1000
TZOFFSETTO:+1100
TZNAME:AEDT
DTSTART:20241005T160000
END:DAYLIGHT
BEGIN:STANDARD
TZOFFSETFROM:+1100
TZOFFSETTO:+1000
TZNAME:AEST
DTSTART:20250405T160000
END:STANDARD
BEGIN:DAYLIGHT
TZOFFSETFROM:+1000
TZOFFSETTO:+1100
TZNAME:AEDT
DTSTART:20251004T160000
END:DAYLIGHT
END:VTIMEZONE
BEGIN:VEVENT
DTSTART;TZID=Australia/Melbourne:20240514T113000
DTEND;TZID=Australia/Melbourne:20240514T113000
DTSTAMP:20260420T105544
CREATED:20240320T232336Z
LAST-MODIFIED:20240430T000937Z
UID:43735-1715686200-1715686200@www.latrobe.edu.au
SUMMARY:Market Day Takeover: Day Against LGBTQIA+ Discrimination
DESCRIPTION:Join our Market Day Takeover in solidarity with The Day Against LGBTQIA+ Discrimination. Let’s transform the market into a space of inclusion and celebration. Stand with us to support LGBTQIA+ rights and celebrate diversity. \nFeaturing free food\, club stalls and more!
URL:https://www.latrobe.edu.au/mylatrobe/event/market-day-4/
LOCATION:LSU
CATEGORIES:Bendigo
END:VEVENT
BEGIN:VEVENT
DTSTART;TZID=Australia/Melbourne:20240514T120000
DTEND;TZID=Australia/Melbourne:20240514T140000
DTSTAMP:20260420T105544
CREATED:20240321T004825Z
LAST-MODIFIED:20240502T010752Z
UID:43839-1715688000-1715695200@www.latrobe.edu.au
SUMMARY:Day Against LGBTQIA+ Discrimination
DESCRIPTION:Show your support for diversity on our campus as we celebrate the Day Against LGBTQIA+ Discrimination! Decorate your own rainbow cupcake and make your own badge with the LTSA. \nSupported by SSAF.  \nFree Event
URL:https://www.latrobe.edu.au/mylatrobe/event/weekly-activation-wind-down-wednesdays-idahobit-theme/
CATEGORIES:Albury-Wodonga
END:VEVENT
END:VCALENDAR