BEGIN:VCALENDAR
VERSION:2.0
PRODID:-//MyLaTrobe - ECPv6.15.20//NONSGML v1.0//EN
CALSCALE:GREGORIAN
METHOD:PUBLISH
X-WR-CALNAME:MyLaTrobe
X-ORIGINAL-URL:https://www.latrobe.edu.au/mylatrobe
X-WR-CALDESC:Events for MyLaTrobe
REFRESH-INTERVAL;VALUE=DURATION:PT1H
X-Robots-Tag:noindex
X-PUBLISHED-TTL:PT1H
BEGIN:VTIMEZONE
TZID:Australia/Melbourne
BEGIN:STANDARD
TZOFFSETFROM:+1100
TZOFFSETTO:+1000
TZNAME:AEST
DTSTART:20230401T160000
END:STANDARD
BEGIN:DAYLIGHT
TZOFFSETFROM:+1000
TZOFFSETTO:+1100
TZNAME:AEDT
DTSTART:20230930T160000
END:DAYLIGHT
BEGIN:STANDARD
TZOFFSETFROM:+1100
TZOFFSETTO:+1000
TZNAME:AEST
DTSTART:20240406T160000
END:STANDARD
BEGIN:DAYLIGHT
TZOFFSETFROM:+1000
TZOFFSETTO:+1100
TZNAME:AEDT
DTSTART:20241005T160000
END:DAYLIGHT
BEGIN:STANDARD
TZOFFSETFROM:+1100
TZOFFSETTO:+1000
TZNAME:AEST
DTSTART:20250405T160000
END:STANDARD
BEGIN:DAYLIGHT
TZOFFSETFROM:+1000
TZOFFSETTO:+1100
TZNAME:AEDT
DTSTART:20251004T160000
END:DAYLIGHT
END:VTIMEZONE
BEGIN:VEVENT
DTSTART;TZID=Australia/Melbourne:20240501T100000
DTEND;TZID=Australia/Melbourne:20240501T100000
DTSTAMP:20260420T091800
CREATED:20240320T232034Z
LAST-MODIFIED:20240320T232120Z
UID:43671-1714557600-1714557600@www.latrobe.edu.au
SUMMARY:Weekly Activation - LTU Student 'Get Caffinated' Free Coffee on Campus
DESCRIPTION:FREE Coffee each week from Common Ground Cafe. Simply show your student card to get 1 free coffee
URL:https://www.latrobe.edu.au/mylatrobe/event/weekly-activation-ltu-student-get-caffinated-free-coffee-on-campus/
CATEGORIES:Shepparton
END:VEVENT
BEGIN:VEVENT
DTSTART;TZID=Australia/Melbourne:20240501T120000
DTEND;TZID=Australia/Melbourne:20240501T120000
DTSTAMP:20260420T091800
CREATED:20240320T232034Z
LAST-MODIFIED:20240320T232120Z
UID:43668-1714564800-1714564800@www.latrobe.edu.au
SUMMARY:University Mental Health Day
DESCRIPTION:UMHD Activities
URL:https://www.latrobe.edu.au/mylatrobe/event/university-mental-health-day/
CATEGORIES:Albury-Wodonga
END:VEVENT
BEGIN:VEVENT
DTSTART;TZID=Australia/Melbourne:20240501T120000
DTEND;TZID=Australia/Melbourne:20240501T120000
DTSTAMP:20260420T091800
CREATED:20240320T232034Z
LAST-MODIFIED:20240320T232120Z
UID:43669-1714564800-1714564800@www.latrobe.edu.au
SUMMARY:University Basketball League - La Trobe Men
DESCRIPTION:La Trobe Men V RMIT Men  – Get down to support your La Trobe Eagles Men and Women University Basketball teams as they compete in the home and away fixture – The elite of the elite in Australian Univeristy Basketball. “For updated event information please visit\, @latrobesport on Instagram.’
URL:https://www.latrobe.edu.au/mylatrobe/event/university-basketball-league-la-trobe-men/
CATEGORIES:Bundoora
END:VEVENT
BEGIN:VEVENT
DTSTART;TZID=Australia/Melbourne:20240501T120000
DTEND;TZID=Australia/Melbourne:20240501T120000
DTSTAMP:20260420T091800
CREATED:20240320T232034Z
LAST-MODIFIED:20240320T232120Z
UID:43672-1714564800-1714564800@www.latrobe.edu.au
SUMMARY:UMHD Restival
DESCRIPTION:UMHD Activities
URL:https://www.latrobe.edu.au/mylatrobe/event/umhd-restival/
CATEGORIES:City
END:VEVENT
BEGIN:VEVENT
DTSTART;TZID=Australia/Melbourne:20240501T140000
DTEND;TZID=Australia/Melbourne:20240501T140000
DTSTAMP:20260420T091800
CREATED:20240320T232034Z
LAST-MODIFIED:20240320T232120Z
UID:43670-1714572000-1714572000@www.latrobe.edu.au
SUMMARY:University Basketball League - La Trobe Women
DESCRIPTION:La Trobe Women V RMIT Women – Get down to support your La Trobe Eagles Men and Women University Basketball teams as they compete in the home and away fixture – The elite of the elite in Australian Univeristy Basketball. “For updated event information please visit\, @latrobesport on Instagram.’
URL:https://www.latrobe.edu.au/mylatrobe/event/university-basketball-league-la-trobe-women/
CATEGORIES:Bundoora
END:VEVENT
END:VCALENDAR