BEGIN:VCALENDAR
VERSION:2.0
PRODID:-//MyLaTrobe - ECPv6.15.20//NONSGML v1.0//EN
CALSCALE:GREGORIAN
METHOD:PUBLISH
X-ORIGINAL-URL:https://www.latrobe.edu.au/mylatrobe
X-WR-CALDESC:Events for MyLaTrobe
REFRESH-INTERVAL;VALUE=DURATION:PT1H
X-Robots-Tag:noindex
X-PUBLISHED-TTL:PT1H
BEGIN:VTIMEZONE
TZID:Australia/Melbourne
BEGIN:STANDARD
TZOFFSETFROM:+1100
TZOFFSETTO:+1000
TZNAME:AEST
DTSTART:20230401T160000
END:STANDARD
BEGIN:DAYLIGHT
TZOFFSETFROM:+1000
TZOFFSETTO:+1100
TZNAME:AEDT
DTSTART:20230930T160000
END:DAYLIGHT
BEGIN:STANDARD
TZOFFSETFROM:+1100
TZOFFSETTO:+1000
TZNAME:AEST
DTSTART:20240406T160000
END:STANDARD
BEGIN:DAYLIGHT
TZOFFSETFROM:+1000
TZOFFSETTO:+1100
TZNAME:AEDT
DTSTART:20241005T160000
END:DAYLIGHT
BEGIN:STANDARD
TZOFFSETFROM:+1100
TZOFFSETTO:+1000
TZNAME:AEST
DTSTART:20250405T160000
END:STANDARD
BEGIN:DAYLIGHT
TZOFFSETFROM:+1000
TZOFFSETTO:+1100
TZNAME:AEDT
DTSTART:20251004T160000
END:DAYLIGHT
END:VTIMEZONE
BEGIN:VEVENT
DTSTART;TZID=Australia/Melbourne:20240327T100000
DTEND;TZID=Australia/Melbourne:20240327T100000
DTSTAMP:20260420T092429
CREATED:20240320T233929Z
LAST-MODIFIED:20240320T233929Z
UID:43618-1711533600-1711533600@www.latrobe.edu.au
SUMMARY:Weekly Activation - LTU Student 'Get Caffinated' Free Coffee on Campus
DESCRIPTION:FREE Coffee each week from Common Ground Cafe. Simply show your student card to get 1 free coffee
URL:https://www.latrobe.edu.au/mylatrobe/event/weekly-activation-ltu-student-get-caffinated-free-coffee-on-campus-6/
CATEGORIES:Shepparton
END:VEVENT
BEGIN:VEVENT
DTSTART;TZID=Australia/Melbourne:20240327T120000
DTEND;TZID=Australia/Melbourne:20240327T120000
DTSTAMP:20260420T092429
CREATED:20240320T233929Z
LAST-MODIFIED:20240320T233929Z
UID:43615-1711540800-1711540800@www.latrobe.edu.au
SUMMARY:University Basketball League - La Trobe Men
DESCRIPTION:La Trobe Men V Curtin University Men (WA) – Get down to support your La Trobe Eagles Men and Women University Basketball teams as they compete in the home and away fixture – The elite of the elite in Australian Univeristy Basketball. “For updated event information please visit\, @latrobesport on Instagram.’
URL:https://www.latrobe.edu.au/mylatrobe/event/university-basketball-league-la-trobe-men-4/
CATEGORIES:Bundoora
END:VEVENT
BEGIN:VEVENT
DTSTART;TZID=Australia/Melbourne:20240327T130000
DTEND;TZID=Australia/Melbourne:20240327T130000
DTSTAMP:20260420T092429
CREATED:20240320T233929Z
LAST-MODIFIED:20240321T002316Z
UID:43610-1711544400-1711544400@www.latrobe.edu.au
SUMMARY:Managing your Financial Wellbeing
DESCRIPTION:Managing your finances can be quite stressful\, especially with the current cost of living crisis\, not to mention trying to balance study with need to work and/or living away from home for the first time. To help relieve some of that stress and worry\, register for the following online session which will cover topics like budgeting\, knowing your Centrelink entitlements\, general money saving tips\, things to watch out for (scams!) and more.
URL:https://www.latrobe.edu.au/mylatrobe/event/manageing-your-financial-wellbeing-2/
CATEGORIES:Albury-Wodonga,Bendigo,Bundoora,City,Mildura,Online,Shepparton
END:VEVENT
BEGIN:VEVENT
DTSTART;TZID=Australia/Melbourne:20240327T140000
DTEND;TZID=Australia/Melbourne:20240327T140000
DTSTAMP:20260420T092429
CREATED:20240320T232530Z
LAST-MODIFIED:20240320T233929Z
UID:43616-1711548000-1711548000@www.latrobe.edu.au
SUMMARY:University Basketball League - La Trobe Women
DESCRIPTION:La Trobe Women V Curtin Univeristy Women (WA) – Get down to support your La Trobe Eagles Men and Women University Basketball teams as they compete in the home and away fixture – The elite of the elite in Australian Univeristy Basketball. “For updated event information please visit\, @latrobesport on Instagram.’
URL:https://www.latrobe.edu.au/mylatrobe/event/university-basketball-league-la-trobe-women-4/
CATEGORIES:Bundoora
END:VEVENT
BEGIN:VEVENT
DTSTART;TZID=Australia/Melbourne:20240327T173000
DTEND;TZID=Australia/Melbourne:20240327T173000
DTSTAMP:20260420T092429
CREATED:20240320T232530Z
LAST-MODIFIED:20240320T233929Z
UID:43614-1711560600-1711560600@www.latrobe.edu.au
SUMMARY:Trivia Night
DESCRIPTION:Get ready for an evening of mind-bending trivia\, cool drinks\, and great company at La Trobe’s Oasis Bar! Win prizes\, enjoy a free welcome drink\, and meet new friends at this can’t-miss student event. Register now and join the challenge!
URL:https://www.latrobe.edu.au/mylatrobe/event/trivia-night/
CATEGORIES:Bundoora
END:VEVENT
BEGIN:VEVENT
DTSTART;TZID=Australia/Melbourne:20240327T180000
DTEND;TZID=Australia/Melbourne:20240327T180000
DTSTAMP:20260420T092429
CREATED:20240320T232530Z
LAST-MODIFIED:20240320T233929Z
UID:43613-1711562400-1711562400@www.latrobe.edu.au
SUMMARY:ReOrientation Drag Trivia Night
DESCRIPTION:Drag Queen Trivia @ Piano Bar
URL:https://www.latrobe.edu.au/mylatrobe/event/reorientation-drag-trivia-night/
CATEGORIES:Bendigo
END:VEVENT
END:VCALENDAR