BEGIN:VCALENDAR
VERSION:2.0
PRODID:-//MyLaTrobe - ECPv6.15.20//NONSGML v1.0//EN
CALSCALE:GREGORIAN
METHOD:PUBLISH
X-WR-CALNAME:MyLaTrobe
X-ORIGINAL-URL:https://www.latrobe.edu.au/mylatrobe
X-WR-CALDESC:Events for MyLaTrobe
REFRESH-INTERVAL;VALUE=DURATION:PT1H
X-Robots-Tag:noindex
X-PUBLISHED-TTL:PT1H
BEGIN:VTIMEZONE
TZID:Australia/Melbourne
BEGIN:STANDARD
TZOFFSETFROM:+1100
TZOFFSETTO:+1000
TZNAME:AEST
DTSTART:20230401T160000
END:STANDARD
BEGIN:DAYLIGHT
TZOFFSETFROM:+1000
TZOFFSETTO:+1100
TZNAME:AEDT
DTSTART:20230930T160000
END:DAYLIGHT
BEGIN:STANDARD
TZOFFSETFROM:+1100
TZOFFSETTO:+1000
TZNAME:AEST
DTSTART:20240406T160000
END:STANDARD
BEGIN:DAYLIGHT
TZOFFSETFROM:+1000
TZOFFSETTO:+1100
TZNAME:AEDT
DTSTART:20241005T160000
END:DAYLIGHT
BEGIN:STANDARD
TZOFFSETFROM:+1100
TZOFFSETTO:+1000
TZNAME:AEST
DTSTART:20250405T160000
END:STANDARD
BEGIN:DAYLIGHT
TZOFFSETFROM:+1000
TZOFFSETTO:+1100
TZNAME:AEDT
DTSTART:20251004T160000
END:DAYLIGHT
END:VTIMEZONE
BEGIN:VEVENT
DTSTART;TZID=Australia/Melbourne:20240801T130000
DTEND;TZID=Australia/Melbourne:20240801T160000
DTSTAMP:20260420T052647
CREATED:20240711T020435Z
LAST-MODIFIED:20240711T024136Z
UID:46244-1722517200-1722528000@www.latrobe.edu.au
SUMMARY:The La Trobe Leaders Scavenger Hunt
DESCRIPTION:If you are looking for an exciting activity and cool way to explore our Melbourne (Bundoora) campus\, the Scavenger Hunt might be the perfect event for you! \n\n\n\nThe Hunt will start at 1 pm on the Simpson Lawn. \n\n\n\nSign up in a team of 2 – 3 or join on your own and get put in a team with other like-minded competitive folk! \n\n\n\nMake sure you register your interest as numbers are limited!
URL:https://www.latrobe.edu.au/mylatrobe/event/la-trobe-leaders-scavenger-hunt-at-the-bundoora-campus/
LOCATION:VIC
CATEGORIES:Bundoora
END:VEVENT
BEGIN:VEVENT
DTSTART;TZID=Australia/Melbourne:20240806T040000
DTEND;TZID=Australia/Melbourne:20240806T043000
DTSTAMP:20260420T052647
CREATED:20240718T004416Z
LAST-MODIFIED:20240718T004418Z
UID:46379-1722916800-1722918600@www.latrobe.edu.au
SUMMARY:Develop your EQ in Semester 2
DESCRIPTION:Motivation and leadership expert Josh Farr is returning to the La Trobe Leaders Program in semester 2. This time we’re doing things all little bit differently…  it’s 4 weeks\, 4 student workshops on different but related topics to help you get on top and stay on top  of your goals this semester! \n\n\n\nMost likely before your first assignment is even due…   you will have:  \n\n\n\n\nFound and connected with your sense of purpose \n\n\n\nLearned about managing you time and energy well \n\n\n\nUncovered  the art of getting and staying motivated \n\n\n\nBoosted your confidence in communications!\n\n\n\n\nStarting in week 1 of semester and running for 4 weeks  each  Tuesday 3 – 4:30 pm join Josh and the La Trobe Leaders Program online and take the time to work on yourself and develop your potential. \n\n\n\nThis week it’s all about managing your time and energy!
URL:https://www.latrobe.edu.au/mylatrobe/event/develop-your-eq-in-semester-2-2/
LOCATION:VIC
CATEGORIES:Albury-Wodonga,Bendigo,Bundoora,City,Mildura,Multi-Campus,Online,Shepparton
END:VEVENT
BEGIN:VEVENT
DTSTART;TZID=Australia/Melbourne:20240808T083000
DTEND;TZID=Australia/Melbourne:20240808T083000
DTSTAMP:20260420T052647
CREATED:20240704T235404Z
LAST-MODIFIED:20240704T235404Z
UID:45727-1723105800-1723105800@www.latrobe.edu.au
SUMMARY:Weekly Activation - Free Coffee!
DESCRIPTION:Free coffee each week from Nexus Cafe (SuniTAFE Canteen). Simply show your student card to get your free hot drink!
URL:https://www.latrobe.edu.au/mylatrobe/event/weekly-activation-free-coffee-10/
LOCATION:VIC
CATEGORIES:Mildura
END:VEVENT
BEGIN:VEVENT
DTSTART;TZID=Australia/Melbourne:20240808T100000
DTEND;TZID=Australia/Melbourne:20240808T100000
DTSTAMP:20260420T052647
CREATED:20240704T235404Z
LAST-MODIFIED:20240704T235404Z
UID:45723-1723111200-1723111200@www.latrobe.edu.au
SUMMARY:Weekly Activation - Free Coffee Thursdays
DESCRIPTION:Enjoy a complimentary coffee on us at the LSU! Just show your student ID to claim your free hot drink.
URL:https://www.latrobe.edu.au/mylatrobe/event/weekly-activation-free-coffee-thursdays-2/
LOCATION:LSU
CATEGORIES:Bendigo
END:VEVENT
BEGIN:VEVENT
DTSTART;TZID=Australia/Melbourne:20240808T120000
DTEND;TZID=Australia/Melbourne:20240808T120000
DTSTAMP:20260420T052647
CREATED:20240704T235404Z
LAST-MODIFIED:20240704T235404Z
UID:45724-1723118400-1723118400@www.latrobe.edu.au
SUMMARY:Weekly Activation
DESCRIPTION:Rooftop Lunch
URL:https://www.latrobe.edu.au/mylatrobe/event/weekly-activation-8/
LOCATION:VIC
CATEGORIES:City
END:VEVENT
BEGIN:VEVENT
DTSTART;TZID=Australia/Melbourne:20240811T070000
DTEND;TZID=Australia/Melbourne:20240811T070000
DTSTAMP:20260420T052647
CREATED:20240704T235405Z
LAST-MODIFIED:20240704T235405Z
UID:45732-1723359600-1723359600@www.latrobe.edu.au
SUMMARY:Footy Trip Carlton Vs Hawthorn
DESCRIPTION:Train to Melb\, lunch and Footy at the MCG $10 LTSA Members $15 non LTSA Members
URL:https://www.latrobe.edu.au/mylatrobe/event/footy-trip-carlton-vs-hawthorn/
LOCATION:VIC
CATEGORIES:Shepparton
END:VEVENT
BEGIN:VEVENT
DTSTART;TZID=Australia/Melbourne:20240811T113000
DTEND;TZID=Australia/Melbourne:20240811T113000
DTSTAMP:20260420T052647
CREATED:20240704T235405Z
LAST-MODIFIED:20240715T065311Z
UID:45731-1723375800-1723375800@www.latrobe.edu.au
SUMMARY:Cheer with the Locals: AFL Game Day
DESCRIPTION:Join us for an exhilarating AFL game day as Carlton takes on Hawthorn at the Melbourne Cricket Ground! This event is perfect for international students looking to dive into Australian culture\, connect with fellow students\, and enjoy a thrilling match. After the game\, continue the excitement with a dinner outing\, sampling popular local dishes. Don’t miss this chance to cheer with the locals and make unforgettable memories!
URL:https://www.latrobe.edu.au/mylatrobe/event/cheer-with-the-locals-afl-game-day/
LOCATION:VIC
CATEGORIES:Bundoora
END:VEVENT
BEGIN:VEVENT
DTSTART;TZID=Australia/Melbourne:20240812T100000
DTEND;TZID=Australia/Melbourne:20240812T100000
DTSTAMP:20260420T052647
CREATED:20240704T235405Z
LAST-MODIFIED:20240719T004457Z
UID:45733-1723456800-1723456800@www.latrobe.edu.au
SUMMARY:Free Coffee Mondays
DESCRIPTION:Free coffees on campus! Show your student card at Chapter 2 Cafe in the library and get a free hot drink of your choice. Make sure to request a Reusable Revolution cup to play your part in reducing waste on campus. Find out more about the Reusable Revolution.
URL:https://www.latrobe.edu.au/mylatrobe/event/weekly-activation-9/
LOCATION:VIC
CATEGORIES:Bundoora
END:VEVENT
BEGIN:VEVENT
DTSTART;TZID=Australia/Melbourne:20240812T120000
DTEND;TZID=Australia/Melbourne:20240812T140000
DTSTAMP:20260420T052647
CREATED:20240704T235405Z
LAST-MODIFIED:20240710T045706Z
UID:45734-1723464000-1723471200@www.latrobe.edu.au
SUMMARY:Mondays on campus: Toasties and Tunes
DESCRIPTION:Free Toasties\, Music and good vibes on the LSU Floor. 
URL:https://www.latrobe.edu.au/mylatrobe/event/weekly-activation-funday-monday-11/
LOCATION:LSU
CATEGORIES:Bendigo
END:VEVENT
BEGIN:VEVENT
DTSTART;TZID=Australia/Melbourne:20240813T110000
DTEND;TZID=Australia/Melbourne:20240813T110000
DTSTAMP:20260420T052647
CREATED:20240704T235405Z
LAST-MODIFIED:20240704T235405Z
UID:45735-1723546800-1723546800@www.latrobe.edu.au
SUMMARY:Green Tuesdays
DESCRIPTION:Join us every Tuesday for Green Tuesdays at the City Campus Level 3 Open Area\, starting Week 2 on August 6 through Week 12\, from 11:00 AM to 1:00 PM. Step away from your busy day into a peaceful setting filled with barista-made coffee\, delightful snacks\, and engaging planting activities. Cultivate your green thumb\, take home a potted herb\, and unwind with a variety of fun lawn games. It’s the perfect weekly retreat to relax\, recharge\, and connect right on campus. Don’t miss this chance to enjoy a slice of tranquility each week!
URL:https://www.latrobe.edu.au/mylatrobe/event/green-tuesdays-2/
LOCATION:VIC
CATEGORIES:City
END:VEVENT
BEGIN:VEVENT
DTSTART;TZID=Australia/Melbourne:20240814T083000
DTEND;TZID=Australia/Melbourne:20240814T083000
DTSTAMP:20260420T052647
CREATED:20240704T235406Z
LAST-MODIFIED:20240704T235406Z
UID:45738-1723624200-1723624200@www.latrobe.edu.au
SUMMARY:Weekly Activation - It's Coffee Time
DESCRIPTION:Free small hot drink & biscuit for Students every Wednesday Weeks 1-6 Semester 2
URL:https://www.latrobe.edu.au/mylatrobe/event/weekly-activation-its-coffee-time-3/
LOCATION:VIC
CATEGORIES:Albury-Wodonga
END:VEVENT
BEGIN:VEVENT
DTSTART;TZID=Australia/Melbourne:20240814T100000
DTEND;TZID=Australia/Melbourne:20240814T100000
DTSTAMP:20260420T052647
CREATED:20240704T235406Z
LAST-MODIFIED:20240704T235406Z
UID:45740-1723629600-1723629600@www.latrobe.edu.au
SUMMARY:Weekly Activation - LTU Student 'Get Caffinated' Free Coffee on Campus
DESCRIPTION:FREE Coffee each week from Common Ground Cafe. Simply show your student card to get 1 free coffee
URL:https://www.latrobe.edu.au/mylatrobe/event/weekly-activation-ltu-student-get-caffinated-free-coffee-on-campus-10/
LOCATION:VIC
CATEGORIES:Shepparton
END:VEVENT
BEGIN:VEVENT
DTSTART;TZID=Australia/Melbourne:20240815T083000
DTEND;TZID=Australia/Melbourne:20240815T083000
DTSTAMP:20260420T052647
CREATED:20240704T235406Z
LAST-MODIFIED:20240704T235406Z
UID:45745-1723710600-1723710600@www.latrobe.edu.au
SUMMARY:Weekly Activation - Free Coffee!
DESCRIPTION:Free coffee each week from Nexus Cafe (SuniTAFE Canteen). Simply show your student card to get your free hot drink!
URL:https://www.latrobe.edu.au/mylatrobe/event/weekly-activation-free-coffee-11/
LOCATION:VIC
CATEGORIES:Mildura
END:VEVENT
BEGIN:VEVENT
DTSTART;TZID=Australia/Melbourne:20240815T100000
DTEND;TZID=Australia/Melbourne:20240815T100000
DTSTAMP:20260420T052647
CREATED:20240704T235406Z
LAST-MODIFIED:20240704T235406Z
UID:45743-1723716000-1723716000@www.latrobe.edu.au
SUMMARY:Weekly Activation - Free Coffees
DESCRIPTION:Enjoy a complimentary coffee on us at the LSU! Just show your student ID to claim your free hot drink.
URL:https://www.latrobe.edu.au/mylatrobe/event/weekly-activation-free-coffees-9/
LOCATION:LSU
CATEGORIES:Bendigo
END:VEVENT
BEGIN:VEVENT
DTSTART;TZID=Australia/Melbourne:20240815T100000
DTEND;TZID=Australia/Melbourne:20240815T140000
DTSTAMP:20260420T052647
CREATED:20240730T050351Z
LAST-MODIFIED:20240730T050605Z
UID:46539-1723716000-1723730400@www.latrobe.edu.au
SUMMARY:Students as Partners Workshop - Melbourne (Bundoora)
DESCRIPTION:We’re changing the way we do things at La Trobe\, and we want you to lead the change! \n\n\n\nYou’re invited to join us for a half day workshop that will be dedicated to brainstorming ideas and making decisions about how the University partners with students at La Trobe.  \n\n\n\nLunch will be provided\, please indicate any dietary requirements or food allergies on registration. \n\n\n\n\nRegister now
URL:https://www.latrobe.edu.au/mylatrobe/event/students-as-partners-workshop-melbourne-bundoora/
LOCATION:Jenny Graves Building\, JG-103/103A\, Plenty Rd\, Bundoora\, VIC\, 3086
CATEGORIES:Bundoora
ORGANIZER;CN="Alicia Hendrie and Jiordan Tolli%2C Coordinators%2C Student Partnership":MAILTO:StudentsAsPartnersNetwork@latrobe.edu.au
END:VEVENT
BEGIN:VEVENT
DTSTART;TZID=Australia/Melbourne:20240815T183000
DTEND;TZID=Australia/Melbourne:20240815T183000
DTSTAMP:20260420T052647
CREATED:20240704T235406Z
LAST-MODIFIED:20240704T235406Z
UID:45741-1723746600-1723746600@www.latrobe.edu.au
SUMMARY:Dear Future Me: Postcard Creation Workshop
DESCRIPTION:Join us for the “Dear Future Me: Postcard Creation Workshop\,” a unique and reflective session designed for international students from Asia\, aged 18-25. This workshop offers a chance to creatively express your aspirations and dreams. Guided by art therapist Stef Kam\, you’ll craft personalized postcards to your future self\, providing a meaningful way to visualize your goals and reflect on your journey. This engaging workshop fosters a supportive community\, helping you manage stress and enhance your mental wellbeing. Register via the link provided to guarantee your spot!
URL:https://www.latrobe.edu.au/mylatrobe/event/dear-future-me-postcard-creation-workshop/
LOCATION:VIC
CATEGORIES:Multi-Campus
END:VEVENT
BEGIN:VEVENT
DTSTART;TZID=Australia/Melbourne:20240816T150000
DTEND;TZID=Australia/Melbourne:20240816T150000
DTSTAMP:20260420T052647
CREATED:20240704T235407Z
LAST-MODIFIED:20240704T235407Z
UID:45748-1723820400-1723820400@www.latrobe.edu.au
SUMMARY:Central Deborah Mine Tour
DESCRIPTION:Ever wanted to explore the mines of Bendigo? We’ll be descending 61 metres underground at the Central Deborah Gold Mine to experience life as a miner in the Gold Rush era. Join our tour\, for only $10! It’s an experience not to be missed.
URL:https://www.latrobe.edu.au/mylatrobe/event/central-deborah-mine-tour/
LOCATION:VIC
CATEGORIES:Bendigo
END:VEVENT
BEGIN:VEVENT
DTSTART;TZID=Australia/Melbourne:20240817T181500
DTEND;TZID=Australia/Melbourne:20240817T181500
DTSTAMP:20260420T052647
CREATED:20240704T235406Z
LAST-MODIFIED:20240704T235406Z
UID:45746-1723918500-1723918500@www.latrobe.edu.au
SUMMARY:Twilight Tour
DESCRIPTION:Join us for a tour of the Sanctuary! We’ll hopefully see possums\, bats\, birds\, the odd gecko and other local wildlife. Bookings essential tinyurl.com/NTWSwhatson
URL:https://www.latrobe.edu.au/mylatrobe/event/twilight-tour-3/
LOCATION:Nangak Tamboree Wildlife Sanctuary\, La Trobe Avenue\, Bundoora\, Victoria\, 3086\, Australia
CATEGORIES:Bundoora
END:VEVENT
BEGIN:VEVENT
DTSTART;TZID=Australia/Melbourne:20240819T100000
DTEND;TZID=Australia/Melbourne:20240819T100000
DTSTAMP:20260420T052647
CREATED:20240704T235406Z
LAST-MODIFIED:20240719T004410Z
UID:45747-1724061600-1724061600@www.latrobe.edu.au
SUMMARY:Free Coffee Mondays
DESCRIPTION:Free coffees on campus! Show your student card at Chapter 2 Cafe in the library and get a free hot drink of your choice. Make sure to request a Reusable Revolution cup to play your part in reducing waste on campus. Find out more about the Reusable Revolution.
URL:https://www.latrobe.edu.au/mylatrobe/event/weekly-activation-10/
LOCATION:VIC
CATEGORIES:Bundoora
END:VEVENT
BEGIN:VEVENT
DTSTART;TZID=Australia/Melbourne:20240820T110000
DTEND;TZID=Australia/Melbourne:20240820T110000
DTSTAMP:20260420T052647
CREATED:20240704T235407Z
LAST-MODIFIED:20240704T235407Z
UID:45750-1724151600-1724151600@www.latrobe.edu.au
SUMMARY:Green Tuesdays
DESCRIPTION:Join us every Tuesday for Green Tuesdays at the City Campus Level 3 Open Area\, starting Week 2 on August 6 through Week 12\, from 11:00 AM to 1:00 PM. Step away from your busy day into a peaceful setting filled with barista-made coffee\, delightful snacks\, and engaging planting activities. Cultivate your green thumb\, take home a potted herb\, and unwind with a variety of fun lawn games. It’s the perfect weekly retreat to relax\, recharge\, and connect right on campus. Don’t miss this chance to enjoy a slice of tranquility each week!
URL:https://www.latrobe.edu.au/mylatrobe/event/green-tuesdays-3/
LOCATION:VIC
CATEGORIES:City
END:VEVENT
BEGIN:VEVENT
DTSTART;TZID=Australia/Melbourne:20240820T123000
DTEND;TZID=Australia/Melbourne:20240820T123000
DTSTAMP:20260420T052647
CREATED:20240704T235407Z
LAST-MODIFIED:20240704T235407Z
UID:45752-1724157000-1724157000@www.latrobe.edu.au
SUMMARY:Launches @ the Library
DESCRIPTION:Launches @ the Library with authors Bec Strating and Joanne Wallis and their new book\, Girt by Sea: Re-Imagining Australia’s Security
URL:https://www.latrobe.edu.au/mylatrobe/event/launches-the-library/
LOCATION:VIC
CATEGORIES:Bundoora
END:VEVENT
BEGIN:VEVENT
DTSTART;TZID=Australia/Melbourne:20240821T080000
DTEND;TZID=Australia/Melbourne:20240821T083000
DTSTAMP:20260420T052647
CREATED:20240704T235407Z
LAST-MODIFIED:20240819T012441Z
UID:45754-1724227200-1724229000@www.latrobe.edu.au
SUMMARY:Weekly Activation - It's Coffee Time
DESCRIPTION:Free small hot drink & biscuit for Students every Wednesday Weeks 1-6 Semester 2
URL:https://www.latrobe.edu.au/mylatrobe/event/weekly-activation-its-coffee-time-4/
LOCATION:VIC
CATEGORIES:Albury-Wodonga
END:VEVENT
BEGIN:VEVENT
DTSTART;TZID=Australia/Melbourne:20240821T100000
DTEND;TZID=Australia/Melbourne:20240821T100000
DTSTAMP:20260420T052647
CREATED:20240704T235407Z
LAST-MODIFIED:20240704T235407Z
UID:45753-1724234400-1724234400@www.latrobe.edu.au
SUMMARY:Weekly Activation - LTU Student 'Get Caffinated' Free Coffee on Campus
DESCRIPTION:FREE Coffee each week from Common Ground Cafe. Simply show your student card to get 1 free coffee
URL:https://www.latrobe.edu.au/mylatrobe/event/weekly-activation-ltu-student-get-caffinated-free-coffee-on-campus-11/
LOCATION:VIC
CATEGORIES:Shepparton
END:VEVENT
BEGIN:VEVENT
DTSTART;TZID=Australia/Melbourne:20240821T120000
DTEND;TZID=Australia/Melbourne:20240821T120000
DTSTAMP:20260420T052647
CREATED:20240704T235407Z
LAST-MODIFIED:20240704T235407Z
UID:45756-1724241600-1724241600@www.latrobe.edu.au
SUMMARY:Pride Day
DESCRIPTION:Let’s celebrate Pride Day at La Trobe Mildura! There’ll be free food\, activities to participate in & prizes to be won. See the Student Hub filled with colours as we come together to celebrate the LGBTIQA+ community.
URL:https://www.latrobe.edu.au/mylatrobe/event/pride-day/
LOCATION:VIC
CATEGORIES:Mildura
END:VEVENT
BEGIN:VEVENT
DTSTART;TZID=Australia/Melbourne:20240822T083000
DTEND;TZID=Australia/Melbourne:20240822T083000
DTSTAMP:20260420T052647
CREATED:20240704T235408Z
LAST-MODIFIED:20240704T235408Z
UID:45762-1724315400-1724315400@www.latrobe.edu.au
SUMMARY:Weekly Activation - Free Coffee!
DESCRIPTION:Free coffee each week from Nexus Cafe (SuniTAFE Canteen). Simply show your student card to get your free hot drink!
URL:https://www.latrobe.edu.au/mylatrobe/event/weekly-activation-free-coffee-12/
LOCATION:VIC
CATEGORIES:Mildura
END:VEVENT
BEGIN:VEVENT
DTSTART;TZID=Australia/Melbourne:20240822T100000
DTEND;TZID=Australia/Melbourne:20240822T100000
DTSTAMP:20260420T052647
CREATED:20240704T235408Z
LAST-MODIFIED:20240704T235408Z
UID:45760-1724320800-1724320800@www.latrobe.edu.au
SUMMARY:Weekly Activation - Free Coffee Thursdays
DESCRIPTION:Enjoy a complimentary coffee on us at the LSU! Just show your student ID to claim your free hot drink.
URL:https://www.latrobe.edu.au/mylatrobe/event/weekly-activation-free-coffee-thursdays-3/
LOCATION:LSU
CATEGORIES:Bendigo
END:VEVENT
BEGIN:VEVENT
DTSTART;TZID=Australia/Melbourne:20240822T113000
DTEND;TZID=Australia/Melbourne:20240822T113000
DTSTAMP:20260420T052647
CREATED:20240704T235408Z
LAST-MODIFIED:20240704T235408Z
UID:45758-1724326200-1724326200@www.latrobe.edu.au
SUMMARY:Weekly Activation - Hot chip Thursday
DESCRIPTION:Students receive free hot chips from TAFE every second Thursday weeks 2-6
URL:https://www.latrobe.edu.au/mylatrobe/event/weekly-activation-hot-chip-thursday-5/
LOCATION:VIC
CATEGORIES:Albury-Wodonga
END:VEVENT
BEGIN:VEVENT
DTSTART;TZID=Australia/Melbourne:20240822T183000
DTEND;TZID=Australia/Melbourne:20240822T183000
DTSTAMP:20260420T052647
CREATED:20240704T235408Z
LAST-MODIFIED:20240704T235408Z
UID:45757-1724351400-1724351400@www.latrobe.edu.au
SUMMARY:Calm in Your Pocket: DIY Self-Soothing Tool Kit
DESCRIPTION:Discover the “Calm in Your Pocket: DIY Self-Soothing Tool Kit” workshop\, designed to help you create a personal toolkit for managing stress and anxiety. Led by art therapist Stef Kam\, this session will guide you through making custom self-soothing items that you can carry with you. This hands-on workshop aims to empower you with practical tools to enhance your mental health and wellbeing. Register via the link provided to guarantee your spot!
URL:https://www.latrobe.edu.au/mylatrobe/event/calm-in-your-pocket-diy-self-soothing-tool-kit/
LOCATION:VIC
CATEGORIES:Multi-Campus
END:VEVENT
BEGIN:VEVENT
DTSTART;TZID=Australia/Melbourne:20240826T080000
DTEND;TZID=Australia/Melbourne:20240826T083000
DTSTAMP:20260420T052647
CREATED:20240704T235408Z
LAST-MODIFIED:20240819T013117Z
UID:45763-1724659200-1724661000@www.latrobe.edu.au
SUMMARY:Free Coffee Mondays
DESCRIPTION:Free coffees on campus! Show your student card at Chapter 2 Cafe in the library and get a free hot drink of your choice. Make sure to request a Reusable Revolution cup to play your part in reducing waste on campus. Find out more about the Reusable Revolution.
URL:https://www.latrobe.edu.au/mylatrobe/event/weekly-activation-11/
LOCATION:VIC
CATEGORIES:Bundoora
END:VEVENT
BEGIN:VEVENT
DTSTART;TZID=Australia/Melbourne:20240826T171500
DTEND;TZID=Australia/Melbourne:20240826T171500
DTSTAMP:20260420T052647
CREATED:20240704T235408Z
LAST-MODIFIED:20240704T235408Z
UID:45764-1724692500-1724692500@www.latrobe.edu.au
SUMMARY:Citizen Science event - Frog Census
DESCRIPTION:Come and learn all about the frogs that call the sanctuary home from our very own expert and La Trobe Alumni\, David De Angelis. Free event\, but bookings essential tinyurl.com/NTWSwhatson
URL:https://www.latrobe.edu.au/mylatrobe/event/citizen-science-event-frog-census/
LOCATION:Nangak Tamboree Wildlife Sanctuary\, La Trobe Avenue\, Bundoora\, Victoria\, 3086\, Australia
CATEGORIES:Bundoora
END:VEVENT
END:VCALENDAR