BEGIN:VCALENDAR
VERSION:2.0
PRODID:-//MyLaTrobe - ECPv6.15.20//NONSGML v1.0//EN
CALSCALE:GREGORIAN
METHOD:PUBLISH
X-ORIGINAL-URL:https://www.latrobe.edu.au/mylatrobe
X-WR-CALDESC:Events for MyLaTrobe
REFRESH-INTERVAL;VALUE=DURATION:PT1H
X-Robots-Tag:noindex
X-PUBLISHED-TTL:PT1H
BEGIN:VTIMEZONE
TZID:Australia/Melbourne
BEGIN:STANDARD
TZOFFSETFROM:+1100
TZOFFSETTO:+1000
TZNAME:AEST
DTSTART:20230401T160000
END:STANDARD
BEGIN:DAYLIGHT
TZOFFSETFROM:+1000
TZOFFSETTO:+1100
TZNAME:AEDT
DTSTART:20230930T160000
END:DAYLIGHT
BEGIN:STANDARD
TZOFFSETFROM:+1100
TZOFFSETTO:+1000
TZNAME:AEST
DTSTART:20240406T160000
END:STANDARD
BEGIN:DAYLIGHT
TZOFFSETFROM:+1000
TZOFFSETTO:+1100
TZNAME:AEDT
DTSTART:20241005T160000
END:DAYLIGHT
BEGIN:STANDARD
TZOFFSETFROM:+1100
TZOFFSETTO:+1000
TZNAME:AEST
DTSTART:20250405T160000
END:STANDARD
BEGIN:DAYLIGHT
TZOFFSETFROM:+1000
TZOFFSETTO:+1100
TZNAME:AEDT
DTSTART:20251004T160000
END:DAYLIGHT
END:VTIMEZONE
BEGIN:VEVENT
DTSTART;TZID=Australia/Melbourne:20240709T104500
DTEND;TZID=Australia/Melbourne:20240709T140000
DTSTAMP:20260420T073330
CREATED:20240627T065534Z
LAST-MODIFIED:20240628T025945Z
UID:45554-1720521900-1720533600@www.latrobe.edu.au
SUMMARY:Bendigo NAIDOC Celebrations
DESCRIPTION:Celebrate NAIDOC Week with us at La Trobe University! This year’s theme\, “Keep the Fire Burning! Blak\, Loud & Proud\,” honors the resilience and spirit of Indigenous communities. The event features a Smoking Ceremony\, didgeridoo playing\, and a screening of the short film “Welcome to Culture.” Following the film\, Pro Vice-Chancellor Indigenous\, Associate Professor Michael Donovan\, will lead a panel discussion. Lunch will be served in the gallery. Join us for an enriching experience to honor and learn about Indigenous culture and traditions.
URL:https://www.latrobe.edu.au/mylatrobe/event/bendigo-naidoc-celebrations/
LOCATION:Plaza\, Bendigo Campus
CATEGORIES:Bendigo
END:VEVENT
BEGIN:VEVENT
DTSTART;TZID=Australia/Melbourne:20240710T120000
DTEND;TZID=Australia/Melbourne:20240710T140000
DTSTAMP:20260420T073330
CREATED:20240628T030241Z
LAST-MODIFIED:20240628T030244Z
UID:45564-1720612800-1720620000@www.latrobe.edu.au
SUMMARY:Melbourne (Bundoora) NAIDOC Celebrations
DESCRIPTION:Celebrate NAIDOC Week with us at La Trobe University! This year’s theme\, “Keep the Fire Burning! Blak\, Loud & Proud\,” honors the resilience and spirit of Indigenous communities. \n\n\n\nPlease join us for a viewing of Welcome to Culture\, followed by lunch and a yarn!
URL:https://www.latrobe.edu.au/mylatrobe/event/melbourne-bundoora-naidoc-celebrations/
LOCATION:Ngarn-gi Bagora (Agora East\, Level 2)
CATEGORIES:Bundoora
END:VEVENT
BEGIN:VEVENT
DTSTART;TZID=Australia/Melbourne:20240711T104500
DTEND;TZID=Australia/Melbourne:20240711T140000
DTSTAMP:20260420T073330
CREATED:20240628T025806Z
LAST-MODIFIED:20240628T025825Z
UID:45560-1720694700-1720706400@www.latrobe.edu.au
SUMMARY:Mildura NAIDOC Celebrations
DESCRIPTION:Celebrate NAIDOC Week with us at La Trobe University! This year’s theme\, “Keep the Fire Burning! Blak\, Loud & Proud\,” honors the resilience and spirit of Indigenous communities. \n\n\n\nJoin us in the Brian Grogan Student Lounge for artefact creation\, a feed and a yarn. \n\n\n\nPlease RSVP by emailing or phoning Misty Clark.
URL:https://www.latrobe.edu.au/mylatrobe/event/mildura-naidoc-celebrations/
LOCATION:Brian Grogan Student Lounge\, 471 Benetook Ave\, Mildura\, VIC\, 3500\, Australia
CATEGORIES:Mildura
ORGANIZER;CN="Misty Clark":MAILTO:misty-anne.clark@latrobe.edu.au
END:VEVENT
BEGIN:VEVENT
DTSTART;TZID=Australia/Melbourne:20240718T110000
DTEND;TZID=Australia/Melbourne:20240718T120000
DTSTAMP:20260420T073330
CREATED:20240711T014441Z
LAST-MODIFIED:20240711T021640Z
UID:46237-1721300400-1721304000@www.latrobe.edu.au
SUMMARY:Carlton AFL Womens training session at Tony Sheehan Oval
DESCRIPTION:Come on down and watch the Carlton Womens Footy team train at the La Trobe Sports Park\, on the Bundoora campus.  \n\n\n\nWalk over to the Sports Park and watch from the oval fence.
URL:https://www.latrobe.edu.au/mylatrobe/event/carlton-afl-womens-training-session-at-tony-sheehan-oval/
LOCATION:La Trobe Sports Park
CATEGORIES:Bundoora
END:VEVENT
BEGIN:VEVENT
DTSTART;TZID=Australia/Melbourne:20240723T110000
DTEND;TZID=Australia/Melbourne:20240723T140000
DTSTAMP:20260420T073330
CREATED:20240704T235202Z
LAST-MODIFIED:20240711T042912Z
UID:45685-1721732400-1721743200@www.latrobe.edu.au
SUMMARY:Orientation - Winter Festival
DESCRIPTION:Welcome to the Semester 2 Winter Fest! Come down to the Indoor Sports Centre\, Bundoora Campus and chat to your Student Services and student Clubs. There will be free food\, entertainment and lots more!
URL:https://www.latrobe.edu.au/mylatrobe/event/orientation-welcome-festival/
LOCATION:Indoor Sports Centre\, Centreway\, Bundoora\, Victoria\, 3086\, Australia
CATEGORIES:Bundoora,Online
ATTACH;FMTTYPE=image/jpeg:https://www.latrobe.edu.au/mylatrobe/wp-content/uploads/2024/07/BU.jpg
END:VEVENT
BEGIN:VEVENT
DTSTART;TZID=Australia/Melbourne:20240730T150000
DTEND;TZID=Australia/Melbourne:20240730T163000
DTSTAMP:20260420T073330
CREATED:20240718T003837Z
LAST-MODIFIED:20240718T003839Z
UID:46369-1722351600-1722357000@www.latrobe.edu.au
SUMMARY:Develop your EQ in Semester 2
DESCRIPTION:Motivation and leadership expert Josh Farr is returning to the La Trobe Leaders Program in semester 2. This time we’re doing things all little bit differently…  it’s 4 weeks\, 4 student workshops on different but related topics to help you get on top and stay on top  of your goals this semester! \n\n\n\nMost likely before your first assignment is even due…   you will have:  \n\n\n\n\nFound and connected with your sense of purpose \n\n\n\nLearned about managing you time and energy well \n\n\n\nUncovered  the art of getting and staying motivated \n\n\n\nBoosted your confidence in communications!\n\n\n\n\nStarting in week 1 of semester and running for 4 weeks  each  Tuesday 3 – 4:30 pm join Josh and the La Trobe Leaders Program online and take the time to work on yourself and develop your potential. \n\n\n\nThis week it’s all about Ikigai or sense of purpose!
URL:https://www.latrobe.edu.au/mylatrobe/event/develop-your-eq-in-semester-2/
LOCATION:VIC
CATEGORIES:Albury-Wodonga,Bendigo,Bundoora,City,Mildura,Multi-Campus,Online,Shepparton
END:VEVENT
END:VCALENDAR