BEGIN:VCALENDAR
VERSION:2.0
PRODID:-//MyLaTrobe - ECPv6.15.20//NONSGML v1.0//EN
CALSCALE:GREGORIAN
METHOD:PUBLISH
X-WR-CALNAME:MyLaTrobe
X-ORIGINAL-URL:https://www.latrobe.edu.au/mylatrobe
X-WR-CALDESC:Events for MyLaTrobe
REFRESH-INTERVAL;VALUE=DURATION:PT1H
X-Robots-Tag:noindex
X-PUBLISHED-TTL:PT1H
BEGIN:VTIMEZONE
TZID:Australia/Melbourne
BEGIN:STANDARD
TZOFFSETFROM:+1100
TZOFFSETTO:+1000
TZNAME:AEST
DTSTART:20230401T160000
END:STANDARD
BEGIN:DAYLIGHT
TZOFFSETFROM:+1000
TZOFFSETTO:+1100
TZNAME:AEDT
DTSTART:20230930T160000
END:DAYLIGHT
BEGIN:STANDARD
TZOFFSETFROM:+1100
TZOFFSETTO:+1000
TZNAME:AEST
DTSTART:20240406T160000
END:STANDARD
BEGIN:DAYLIGHT
TZOFFSETFROM:+1000
TZOFFSETTO:+1100
TZNAME:AEDT
DTSTART:20241005T160000
END:DAYLIGHT
BEGIN:STANDARD
TZOFFSETFROM:+1100
TZOFFSETTO:+1000
TZNAME:AEST
DTSTART:20250405T160000
END:STANDARD
BEGIN:DAYLIGHT
TZOFFSETFROM:+1000
TZOFFSETTO:+1100
TZNAME:AEDT
DTSTART:20251004T160000
END:DAYLIGHT
END:VTIMEZONE
BEGIN:VEVENT
DTSTART;TZID=Australia/Melbourne:20240502T150000
DTEND;TZID=Australia/Melbourne:20240502T160000
DTSTAMP:20260420T073232
CREATED:20240411T023714Z
LAST-MODIFIED:20240418T002539Z
UID:44496-1714662000-1714665600@www.latrobe.edu.au
SUMMARY:Play For Fun... Basketball!
DESCRIPTION:Forget your studies\, de-stress\, shoot some hoops and have a laugh… No matter your skill level\, come along and join in our play for fun basketball sessions as part of the La Trobe Leaders Program. We’ll make up the rules as we go along… It’s a great way to connect with La Trobe Leaders\, make some friends\, what’s more it’s free! \n\n\n\nIf you’d like to know more…. reach out to us at leaders@latrobe.edu.au \n\n\n\n3pm Thursday May 2 at the new Indoor Sports Stadium on Kingsbury Drive
URL:https://www.latrobe.edu.au/mylatrobe/event/play-for-fun-basketball-3/
CATEGORIES:Bundoora
END:VEVENT
END:VCALENDAR