BEGIN:VCALENDAR
VERSION:2.0
PRODID:-//MyLaTrobe - ECPv6.15.20//NONSGML v1.0//EN
CALSCALE:GREGORIAN
METHOD:PUBLISH
X-WR-CALNAME:MyLaTrobe
X-ORIGINAL-URL:https://www.latrobe.edu.au/mylatrobe
X-WR-CALDESC:Events for MyLaTrobe
REFRESH-INTERVAL;VALUE=DURATION:PT1H
X-Robots-Tag:noindex
X-PUBLISHED-TTL:PT1H
BEGIN:VTIMEZONE
TZID:Australia/Melbourne
BEGIN:STANDARD
TZOFFSETFROM:+1100
TZOFFSETTO:+1000
TZNAME:AEST
DTSTART:20230401T160000
END:STANDARD
BEGIN:DAYLIGHT
TZOFFSETFROM:+1000
TZOFFSETTO:+1100
TZNAME:AEDT
DTSTART:20230930T160000
END:DAYLIGHT
BEGIN:STANDARD
TZOFFSETFROM:+1100
TZOFFSETTO:+1000
TZNAME:AEST
DTSTART:20240406T160000
END:STANDARD
BEGIN:DAYLIGHT
TZOFFSETFROM:+1000
TZOFFSETTO:+1100
TZNAME:AEDT
DTSTART:20241005T160000
END:DAYLIGHT
BEGIN:STANDARD
TZOFFSETFROM:+1100
TZOFFSETTO:+1000
TZNAME:AEST
DTSTART:20250405T160000
END:STANDARD
BEGIN:DAYLIGHT
TZOFFSETFROM:+1000
TZOFFSETTO:+1100
TZNAME:AEDT
DTSTART:20251004T160000
END:DAYLIGHT
END:VTIMEZONE
BEGIN:VEVENT
DTSTART;TZID=Australia/Melbourne:20240404T100000
DTEND;TZID=Australia/Melbourne:20240404T140000
DTSTAMP:20260420T110613
CREATED:20240321T020353Z
LAST-MODIFIED:20240321T020353Z
UID:44002-1712224800-1712239200@www.latrobe.edu.au
SUMMARY:Socialist Alternative Agora Stall
DESCRIPTION:Come and talk to Socialist Alternative and find out about our current events and campaigns
URL:https://www.latrobe.edu.au/mylatrobe/event/socialist-alternative-agora-stall-10/
CATEGORIES:Bundoora
END:VEVENT
BEGIN:VEVENT
DTSTART;TZID=Australia/Melbourne:20240404T110000
DTEND;TZID=Australia/Melbourne:20240404T130000
DTSTAMP:20260420T110613
CREATED:20240321T020353Z
LAST-MODIFIED:20240321T020353Z
UID:44001-1712228400-1712235600@www.latrobe.edu.au
SUMMARY:CU Agora Stall
DESCRIPTION:Come and talk to Christian Union in the Agora
URL:https://www.latrobe.edu.au/mylatrobe/event/cu-agora-stall-10/
CATEGORIES:Bundoora
END:VEVENT
BEGIN:VEVENT
DTSTART;TZID=Australia/Melbourne:20240404T133000
DTEND;TZID=Australia/Melbourne:20240404T163000
DTSTAMP:20260420T110613
CREATED:20240321T020353Z
LAST-MODIFIED:20240321T020353Z
UID:44004-1712237400-1712248200@www.latrobe.edu.au
SUMMARY:ComSoc Weekly Gathering
DESCRIPTION:ComSoc’s weekly meet-ups\, including workshops and socials
URL:https://www.latrobe.edu.au/mylatrobe/event/comsoc-weekly-gathering-2/
CATEGORIES:Bundoora
END:VEVENT
BEGIN:VEVENT
DTSTART;TZID=Australia/Melbourne:20240404T170000
DTEND;TZID=Australia/Melbourne:20240404T190000
DTSTAMP:20260420T110613
CREATED:20240321T020353Z
LAST-MODIFIED:20240321T020353Z
UID:44006-1712250000-1712257200@www.latrobe.edu.au
SUMMARY:Pipe Band Rehearsal
DESCRIPTION:Join Pipe Band and learn about bagpipes\, wind instruments and more!
URL:https://www.latrobe.edu.au/mylatrobe/event/pipe-band-rehearsal-3/
CATEGORIES:Bundoora
END:VEVENT
BEGIN:VEVENT
DTSTART;TZID=Australia/Melbourne:20240404T170000
DTEND;TZID=Australia/Melbourne:20240404T200000
DTSTAMP:20260420T110613
CREATED:20240321T020353Z
LAST-MODIFIED:20240321T020353Z
UID:44003-1712250000-1712260800@www.latrobe.edu.au
SUMMARY:LUSoM Regular Rehearsal
DESCRIPTION:Join the Society of Music for our twice weekly rehearsal
URL:https://www.latrobe.edu.au/mylatrobe/event/lusom-regular-rehearsal-4/
CATEGORIES:Bundoora
END:VEVENT
BEGIN:VEVENT
DTSTART;TZID=Australia/Melbourne:20240404T180000
DTEND;TZID=Australia/Melbourne:20240404T230000
DTSTAMP:20260420T110613
CREATED:20240321T020353Z
LAST-MODIFIED:20240321T020353Z
UID:44005-1712253600-1712271600@www.latrobe.edu.au
SUMMARY:Ramadan Community Iftar
DESCRIPTION:Regular Iftar Event for Saudi Society
URL:https://www.latrobe.edu.au/mylatrobe/event/ramadan-community-iftar-2/
CATEGORIES:Bundoora
END:VEVENT
END:VCALENDAR