BEGIN:VCALENDAR
VERSION:2.0
PRODID:-//MyLaTrobe - ECPv6.15.20//NONSGML v1.0//EN
CALSCALE:GREGORIAN
METHOD:PUBLISH
X-WR-CALNAME:MyLaTrobe
X-ORIGINAL-URL:https://www.latrobe.edu.au/mylatrobe
X-WR-CALDESC:Events for MyLaTrobe
REFRESH-INTERVAL;VALUE=DURATION:PT1H
X-Robots-Tag:noindex
X-PUBLISHED-TTL:PT1H
BEGIN:VTIMEZONE
TZID:Australia/Melbourne
BEGIN:STANDARD
TZOFFSETFROM:+1100
TZOFFSETTO:+1000
TZNAME:AEST
DTSTART:20230401T160000
END:STANDARD
BEGIN:DAYLIGHT
TZOFFSETFROM:+1000
TZOFFSETTO:+1100
TZNAME:AEDT
DTSTART:20230930T160000
END:DAYLIGHT
BEGIN:STANDARD
TZOFFSETFROM:+1100
TZOFFSETTO:+1000
TZNAME:AEST
DTSTART:20240406T160000
END:STANDARD
BEGIN:DAYLIGHT
TZOFFSETFROM:+1000
TZOFFSETTO:+1100
TZNAME:AEDT
DTSTART:20241005T160000
END:DAYLIGHT
BEGIN:STANDARD
TZOFFSETFROM:+1100
TZOFFSETTO:+1000
TZNAME:AEST
DTSTART:20250405T160000
END:STANDARD
BEGIN:DAYLIGHT
TZOFFSETFROM:+1000
TZOFFSETTO:+1100
TZNAME:AEDT
DTSTART:20251004T160000
END:DAYLIGHT
END:VTIMEZONE
BEGIN:VEVENT
DTSTART;TZID=Australia/Melbourne:20240328T100000
DTEND;TZID=Australia/Melbourne:20240328T140000
DTSTAMP:20260420T003953
CREATED:20240321T020135Z
LAST-MODIFIED:20240321T020135Z
UID:43976-1711620000-1711634400@www.latrobe.edu.au
SUMMARY:Socialist Alternative Agora Stall
DESCRIPTION:Come and talk to Socialist Alternative and find out about our current events and campaigns
URL:https://www.latrobe.edu.au/mylatrobe/event/socialist-alternative-agora-stall-5/
CATEGORIES:Bundoora
END:VEVENT
BEGIN:VEVENT
DTSTART;TZID=Australia/Melbourne:20240328T110000
DTEND;TZID=Australia/Melbourne:20240328T130000
DTSTAMP:20260420T003953
CREATED:20240321T020135Z
LAST-MODIFIED:20240321T020135Z
UID:43975-1711623600-1711630800@www.latrobe.edu.au
SUMMARY:CU Agora Stall
DESCRIPTION:Come and talk to Christian Union in the Agora
URL:https://www.latrobe.edu.au/mylatrobe/event/cu-agora-stall-5/
CATEGORIES:Bundoora
END:VEVENT
BEGIN:VEVENT
DTSTART;TZID=Australia/Melbourne:20240328T133000
DTEND;TZID=Australia/Melbourne:20240328T163000
DTSTAMP:20260420T003953
CREATED:20240321T020136Z
LAST-MODIFIED:20240321T020136Z
UID:43979-1711632600-1711643400@www.latrobe.edu.au
SUMMARY:ComSoc Weekly Gathering
DESCRIPTION:ComSoc’s weekly meet-ups\, including workshops and socials
URL:https://www.latrobe.edu.au/mylatrobe/event/comsoc-weekly-gathering/
CATEGORIES:Bundoora
END:VEVENT
BEGIN:VEVENT
DTSTART;TZID=Australia/Melbourne:20240328T170000
DTEND;TZID=Australia/Melbourne:20240328T190000
DTSTAMP:20260420T003953
CREATED:20240321T020350Z
LAST-MODIFIED:20240321T020350Z
UID:43983-1711645200-1711652400@www.latrobe.edu.au
SUMMARY:Pipe Band Rehearsal
DESCRIPTION:Join Pipe Band and learn about bagpipes\, wind instruments and more!
URL:https://www.latrobe.edu.au/mylatrobe/event/pipe-band-rehearsal-2/
CATEGORIES:Bundoora
END:VEVENT
BEGIN:VEVENT
DTSTART;TZID=Australia/Melbourne:20240328T170000
DTEND;TZID=Australia/Melbourne:20240328T193000
DTSTAMP:20260420T003953
CREATED:20240321T020136Z
LAST-MODIFIED:20240321T020136Z
UID:43981-1711645200-1711654200@www.latrobe.edu.au
SUMMARY:Colgate Tooth Whitening Seminar
DESCRIPTION:Seminar held by Cathryn Carboon from Colgate regarding tooth whitening for a duration of 2 hours
URL:https://www.latrobe.edu.au/mylatrobe/event/colgate-tooth-whitening-seminar/
CATEGORIES:Bendigo
END:VEVENT
BEGIN:VEVENT
DTSTART;TZID=Australia/Melbourne:20240328T170000
DTEND;TZID=Australia/Melbourne:20240328T200000
DTSTAMP:20260420T003953
CREATED:20240321T020135Z
LAST-MODIFIED:20240321T020135Z
UID:43977-1711645200-1711656000@www.latrobe.edu.au
SUMMARY:LUSoM Regular Rehearsal
DESCRIPTION:Join the Society of Music for our twice weekly rehearsal
URL:https://www.latrobe.edu.au/mylatrobe/event/lusom-regular-rehearsal-2/
CATEGORIES:Bundoora
END:VEVENT
BEGIN:VEVENT
DTSTART;TZID=Australia/Melbourne:20240328T180000
DTEND;TZID=Australia/Melbourne:20240328T210000
DTSTAMP:20260420T003953
CREATED:20240321T020136Z
LAST-MODIFIED:20240321T020136Z
UID:43978-1711648800-1711659600@www.latrobe.edu.au
SUMMARY:Monthly Book Club
DESCRIPTION:Join Book Club for our monthly meet up!
URL:https://www.latrobe.edu.au/mylatrobe/event/monthly-book-club/
CATEGORIES:Bundoora
END:VEVENT
BEGIN:VEVENT
DTSTART;TZID=Australia/Melbourne:20240328T180000
DTEND;TZID=Australia/Melbourne:20240328T220000
DTSTAMP:20260420T003953
CREATED:20240321T020136Z
LAST-MODIFIED:20240321T020136Z
UID:43982-1711648800-1711663200@www.latrobe.edu.au
SUMMARY:LUIS Annual Grand Iftar
DESCRIPTION:The Grand Iftar has been an annual event for LUIS for anumber of years now. During the month of Ramadan\,\nwe like to gather the community together\, especially\nthose at a university level to enjoy a lively atmosphere\,\nget to know one another and enjoy our meal to break\nour fast.
URL:https://www.latrobe.edu.au/mylatrobe/event/luis-annual-grand-iftar/
CATEGORIES:Bundoora
END:VEVENT
BEGIN:VEVENT
DTSTART;TZID=Australia/Melbourne:20240328T180000
DTEND;TZID=Australia/Melbourne:20240328T230000
DTSTAMP:20260420T003953
CREATED:20240321T020136Z
LAST-MODIFIED:20240321T020136Z
UID:43980-1711648800-1711666800@www.latrobe.edu.au
SUMMARY:Ramadan Community Iftar
DESCRIPTION:Regular Iftar Event for Saudi Society
URL:https://www.latrobe.edu.au/mylatrobe/event/ramadan-community-iftar/
CATEGORIES:Bundoora
END:VEVENT
END:VCALENDAR