BEGIN:VCALENDAR
VERSION:2.0
PRODID:-//MyLaTrobe - ECPv6.15.20//NONSGML v1.0//EN
CALSCALE:GREGORIAN
METHOD:PUBLISH
X-WR-CALNAME:MyLaTrobe
X-ORIGINAL-URL:https://www.latrobe.edu.au/mylatrobe
X-WR-CALDESC:Events for MyLaTrobe
REFRESH-INTERVAL;VALUE=DURATION:PT1H
X-Robots-Tag:noindex
X-PUBLISHED-TTL:PT1H
BEGIN:VTIMEZONE
TZID:Australia/Melbourne
BEGIN:STANDARD
TZOFFSETFROM:+1100
TZOFFSETTO:+1000
TZNAME:AEST
DTSTART:20230401T160000
END:STANDARD
BEGIN:DAYLIGHT
TZOFFSETFROM:+1000
TZOFFSETTO:+1100
TZNAME:AEDT
DTSTART:20230930T160000
END:DAYLIGHT
BEGIN:STANDARD
TZOFFSETFROM:+1100
TZOFFSETTO:+1000
TZNAME:AEST
DTSTART:20240406T160000
END:STANDARD
BEGIN:DAYLIGHT
TZOFFSETFROM:+1000
TZOFFSETTO:+1100
TZNAME:AEDT
DTSTART:20241005T160000
END:DAYLIGHT
BEGIN:STANDARD
TZOFFSETFROM:+1100
TZOFFSETTO:+1000
TZNAME:AEST
DTSTART:20250405T160000
END:STANDARD
BEGIN:DAYLIGHT
TZOFFSETFROM:+1000
TZOFFSETTO:+1100
TZNAME:AEDT
DTSTART:20251004T160000
END:DAYLIGHT
END:VTIMEZONE
BEGIN:VEVENT
DTSTART;TZID=Australia/Melbourne:20240326T100000
DTEND;TZID=Australia/Melbourne:20240326T140000
DTSTAMP:20260420T092310
CREATED:20240321T020133Z
LAST-MODIFIED:20240321T020133Z
UID:43962-1711447200-1711461600@www.latrobe.edu.au
SUMMARY:Socialist Alternative Agora Stall
DESCRIPTION:Come and talk to Socialist Alternative and find out about our current events and campaigns
URL:https://www.latrobe.edu.au/mylatrobe/event/socialist-alternative-agora-stall-3/
CATEGORIES:Bundoora
END:VEVENT
BEGIN:VEVENT
DTSTART;TZID=Australia/Melbourne:20240326T110000
DTEND;TZID=Australia/Melbourne:20240326T130000
DTSTAMP:20260420T092310
CREATED:20240321T020133Z
LAST-MODIFIED:20240321T020133Z
UID:43960-1711450800-1711458000@www.latrobe.edu.au
SUMMARY:CU Agora Stall
DESCRIPTION:Come and talk to Christian Union in the Agora
URL:https://www.latrobe.edu.au/mylatrobe/event/cu-agora-stall-3/
CATEGORIES:Bundoora
END:VEVENT
BEGIN:VEVENT
DTSTART;TZID=Australia/Melbourne:20240326T120000
DTEND;TZID=Australia/Melbourne:20240326T123000
DTSTAMP:20260420T092310
CREATED:20240321T020133Z
LAST-MODIFIED:20240321T020133Z
UID:43966-1711454400-1711456200@www.latrobe.edu.au
SUMMARY:Flag Ceremony
DESCRIPTION:just a 30 min flag hoisting ceremony \, where our national anthem will be played \, few lines regarding our country and that’s it. no cultural performances\, just providing some pre packed foods such as chips or chocolates.
URL:https://www.latrobe.edu.au/mylatrobe/event/flag-ceremony/
CATEGORIES:Bundoora
END:VEVENT
BEGIN:VEVENT
DTSTART;TZID=Australia/Melbourne:20240326T120000
DTEND;TZID=Australia/Melbourne:20240326T133000
DTSTAMP:20260420T092310
CREATED:20240321T020134Z
LAST-MODIFIED:20240321T020134Z
UID:43968-1711454400-1711459800@www.latrobe.edu.au
SUMMARY:Archaeological Society's AGM
DESCRIPTION:Join us for Arch Soc’s AGM and vote in our new Exec!
URL:https://www.latrobe.edu.au/mylatrobe/event/archaeological-societys-agm/
CATEGORIES:Bundoora
END:VEVENT
BEGIN:VEVENT
DTSTART;TZID=Australia/Melbourne:20240326T130000
DTEND;TZID=Australia/Melbourne:20240326T150000
DTSTAMP:20260420T092310
CREATED:20240321T020133Z
LAST-MODIFIED:20240321T020133Z
UID:43965-1711458000-1711465200@www.latrobe.edu.au
SUMMARY:Anime Screenings
DESCRIPTION:Join LUNASY for our weekly anime screenings!
URL:https://www.latrobe.edu.au/mylatrobe/event/anime-screenings-2/
CATEGORIES:Bundoora
END:VEVENT
BEGIN:VEVENT
DTSTART;TZID=Australia/Melbourne:20240326T163000
DTEND;TZID=Australia/Melbourne:20240326T173000
DTSTAMP:20260420T092310
CREATED:20240321T020133Z
LAST-MODIFIED:20240321T020133Z
UID:43961-1711470600-1711474200@www.latrobe.edu.au
SUMMARY:Yoga and Meditation
DESCRIPTION:Free Hatha yoga and followed by meditation
URL:https://www.latrobe.edu.au/mylatrobe/event/yoga-and-meditation/
CATEGORIES:City
END:VEVENT
BEGIN:VEVENT
DTSTART;TZID=Australia/Melbourne:20240326T170000
DTEND;TZID=Australia/Melbourne:20240326T190000
DTSTAMP:20260420T092310
CREATED:20240321T020133Z
LAST-MODIFIED:20240321T020133Z
UID:43964-1711472400-1711479600@www.latrobe.edu.au
SUMMARY:Christian Union Bible Talks
DESCRIPTION:Christian Union’s weekly meet up\, where we discuss the Bible and what that means for us\, we have dinner and fun together.
URL:https://www.latrobe.edu.au/mylatrobe/event/christian-union-bible-talks/
CATEGORIES:Bendigo
END:VEVENT
BEGIN:VEVENT
DTSTART;TZID=Australia/Melbourne:20240326T170000
DTEND;TZID=Australia/Melbourne:20240326T200000
DTSTAMP:20260420T092310
CREATED:20240321T020134Z
LAST-MODIFIED:20240321T020134Z
UID:43963-1711472400-1711483200@www.latrobe.edu.au
SUMMARY:LUSoM Regular Rehearsal
DESCRIPTION:Join the Society of Music for our twice weekly rehearsal
URL:https://www.latrobe.edu.au/mylatrobe/event/lusom-regular-rehearsal/
CATEGORIES:Bundoora
END:VEVENT
BEGIN:VEVENT
DTSTART;TZID=Australia/Melbourne:20240326T180000
DTEND;TZID=Australia/Melbourne:20240326T210000
DTSTAMP:20260420T092310
CREATED:20240321T020134Z
LAST-MODIFIED:20240321T020134Z
UID:43967-1711476000-1711486800@www.latrobe.edu.au
SUMMARY:Bangladesh Student Association Iftar
DESCRIPTION:An open-for-all Iftar
URL:https://www.latrobe.edu.au/mylatrobe/event/bangladesh-student-association-iftar/
LOCATION:Bundoora Campus
CATEGORIES:Bundoora
END:VEVENT
END:VCALENDAR