BEGIN:VCALENDAR
VERSION:2.0
PRODID:-//MyLaTrobe - ECPv6.15.20//NONSGML v1.0//EN
CALSCALE:GREGORIAN
METHOD:PUBLISH
X-ORIGINAL-URL:https://www.latrobe.edu.au/mylatrobe
X-WR-CALDESC:Events for MyLaTrobe
REFRESH-INTERVAL;VALUE=DURATION:PT1H
X-Robots-Tag:noindex
X-PUBLISHED-TTL:PT1H
BEGIN:VTIMEZONE
TZID:Australia/Melbourne
BEGIN:STANDARD
TZOFFSETFROM:+1100
TZOFFSETTO:+1000
TZNAME:AEST
DTSTART:20250405T160000
END:STANDARD
BEGIN:DAYLIGHT
TZOFFSETFROM:+1000
TZOFFSETTO:+1100
TZNAME:AEDT
DTSTART:20251004T160000
END:DAYLIGHT
BEGIN:STANDARD
TZOFFSETFROM:+1100
TZOFFSETTO:+1000
TZNAME:AEST
DTSTART:20260404T160000
END:STANDARD
BEGIN:DAYLIGHT
TZOFFSETFROM:+1000
TZOFFSETTO:+1100
TZNAME:AEDT
DTSTART:20261003T160000
END:DAYLIGHT
BEGIN:STANDARD
TZOFFSETFROM:+1100
TZOFFSETTO:+1000
TZNAME:AEST
DTSTART:20270403T160000
END:STANDARD
BEGIN:DAYLIGHT
TZOFFSETFROM:+1000
TZOFFSETTO:+1100
TZNAME:AEDT
DTSTART:20271002T160000
END:DAYLIGHT
END:VTIMEZONE
BEGIN:VEVENT
DTSTART;TZID=Australia/Melbourne:20260311T140000
DTEND;TZID=Australia/Melbourne:20260311T140000
DTSTAMP:20260425T021414
CREATED:20260302T105327Z
LAST-MODIFIED:20260306T004947Z
UID:57330-1773237600-1773237600@www.latrobe.edu.au
SUMMARY:Tactics for Time Management
DESCRIPTION:Got time troubles? Join our workshop to learn simple strategies that will help you manage deadlines better and work more efficiently – without the stress.
URL:https://www.latrobe.edu.au/mylatrobe/event/tactics-for-time-management-2/
LOCATION:Online
CATEGORIES:Albury-Wodonga,Bendigo,Bundoora,City,Mildura,Online,Shepparton
END:VEVENT
BEGIN:VEVENT
DTSTART;TZID=Australia/Melbourne:20260311T150000
DTEND;TZID=Australia/Melbourne:20260311T160000
DTSTAMP:20260425T021414
CREATED:20260303T050346Z
LAST-MODIFIED:20260303T050346Z
UID:57591-1773241200-1773244800@www.latrobe.edu.au
SUMMARY:Melbourne Insights Pop Up
DESCRIPTION:“Melbourne Insights is an informal\, welcoming space where international students can come together and simply talk about Melbourne. \n\n\n\nDrop in\, grab a personalised “Top 10 Things to Do in Melbourne” card created by our La Trobe Leaders\, and join the conversation. These recommendation cards highlight the leaders’ favourite cafés\, markets\, walks\, hidden gems and everyday spots that helped them feel at home in the city.”
URL:https://www.latrobe.edu.au/mylatrobe/event/melbourne-insights-pop-up-2/
CATEGORIES:Bundoora
END:VEVENT
BEGIN:VEVENT
DTSTART;TZID=Australia/Melbourne:20260312T083000
DTEND;TZID=Australia/Melbourne:20260312T100000
DTSTAMP:20260425T021414
CREATED:20260303T052201Z
LAST-MODIFIED:20260303T055604Z
UID:57604-1773304200-1773309600@www.latrobe.edu.au
SUMMARY:It's Coffee O'Clock
DESCRIPTION:Grab a FREE coffee in the library and meet the Prevention and Inclusion team.
URL:https://www.latrobe.edu.au/mylatrobe/event/its-coffee-oclock/
LOCATION:Chapter 2 Cafe\, Melbourne (Bundoora) campus library\, Plenty Rd\, Plenty Rd\, Bundoora VIC\, 3086\, Australia
CATEGORIES:Bundoora
END:VEVENT
BEGIN:VEVENT
DTSTART;TZID=Australia/Melbourne:20260312T093000
DTEND;TZID=Australia/Melbourne:20260312T100000
DTSTAMP:20260425T021414
CREATED:20260303T051556Z
LAST-MODIFIED:20260303T051556Z
UID:57600-1773307800-1773309600@www.latrobe.edu.au
SUMMARY:What I wish I knew
DESCRIPTION:Join Monty and friends for our morning segment to get all the news of International Student Week and we share advice from students and friend about starting well at La Trobe!
URL:https://www.latrobe.edu.au/mylatrobe/event/what-i-wish-i-knew/
LOCATION:Clubhouse – The Agora\, La Trobe University\, Bundoora\, VIc\, 3083\, Australia
CATEGORIES:Bundoora
END:VEVENT
BEGIN:VEVENT
DTSTART;TZID=Australia/Melbourne:20260312T103000
DTEND;TZID=Australia/Melbourne:20260312T103000
DTSTAMP:20260425T021414
CREATED:20260302T231650Z
LAST-MODIFIED:20260302T231650Z
UID:57465-1773311400-1773311400@www.latrobe.edu.au
SUMMARY:Free Coffee Thursday!!
DESCRIPTION:Need a caffeine hit\, or a nice hot chocolate? We’ve got you.Swing by the LSU on Thursday and say ‘Hi’ to the Student Engagement Team\, and score a FREE coffee\nLimited numbers available\, so get in quick!
URL:https://www.latrobe.edu.au/mylatrobe/event/free-coffee-thursday-2/
CATEGORIES:Bendigo,In-person
END:VEVENT
BEGIN:VEVENT
DTSTART;TZID=Australia/Melbourne:20260312T103000
DTEND;TZID=Australia/Melbourne:20260312T103000
DTSTAMP:20260425T021414
CREATED:20260302T232006Z
LAST-MODIFIED:20260302T232007Z
UID:57466-1773311400-1773311400@www.latrobe.edu.au
SUMMARY:Student Wellbeing Drop in Session
DESCRIPTION:Drop in and have a relaxed chat with the Student Wellbeing team to learn about the free wellbeing supports available to you at La Trobe. Whether you have questions about managing stress\, settling into university life\, balancing study and personal wellbeing\, or just want to understand what services exist\, this is a safe and welcoming space to start.
URL:https://www.latrobe.edu.au/mylatrobe/event/student-wellbeing-drop-in-session/
CATEGORIES:Bendigo,In-person
END:VEVENT
BEGIN:VEVENT
DTSTART;TZID=Australia/Melbourne:20260312T110000
DTEND;TZID=Australia/Melbourne:20260312T110000
DTSTAMP:20260425T021414
CREATED:20260302T105327Z
LAST-MODIFIED:20260311T055334Z
UID:57331-1773313200-1773313200@www.latrobe.edu.au
SUMMARY:Tips for Online and Independent Study
DESCRIPTION:New to online learning? Studying in blended or online mode? Come along to this workshop to hear about some tips and tricks for staying motivated and engaged. Discover how many resources are available to help you succeed with online learning.
URL:https://www.latrobe.edu.au/mylatrobe/event/tips-for-online-and-independent-study-3/
LOCATION:Online
CATEGORIES:Albury-Wodonga,Bendigo,Bundoora,City,Mildura,Online,Shepparton
ATTACH;FMTTYPE=image/jpeg:https://www.latrobe.edu.au/mylatrobe/wp-content/uploads/2026/03/Library-Tips-Online-Study.jpg
END:VEVENT
BEGIN:VEVENT
DTSTART;TZID=Australia/Melbourne:20260312T110000
DTEND;TZID=Australia/Melbourne:20260312T130000
DTSTAMP:20260425T021414
CREATED:20260303T050651Z
LAST-MODIFIED:20260303T050651Z
UID:57593-1773313200-1773320400@www.latrobe.edu.au
SUMMARY:Aussie Sports Try Outs
DESCRIPTION:“New to Australia? Curious what AFL is? Wondering why everyone talks about sport so much? This is your chance to try it for yourself.This session is for international students who want to have a go in a relaxed\, zero-pressure environment. You do not need experience. You do not need to be sporty. Just bring comfortable clothes and an open mind.” \n\n\n\nThe Clubhouse at the Agora
URL:https://www.latrobe.edu.au/mylatrobe/event/aussie-sports-try-outs/
LOCATION:Clubhouse – The Agora\, La Trobe University\, Bundoora\, VIc\, 3083\, Australia
CATEGORIES:Bundoora
END:VEVENT
BEGIN:VEVENT
DTSTART;TZID=Australia/Melbourne:20260312T130000
DTEND;TZID=Australia/Melbourne:20260312T140000
DTSTAMP:20260425T021414
CREATED:20260303T051127Z
LAST-MODIFIED:20260303T051127Z
UID:57598-1773320400-1773324000@www.latrobe.edu.au
SUMMARY:Aussie Sports Social Lunch
DESCRIPTION:Join us for a relaxed social lunch designed to help you connect beyond the sports field.Grab some food\, sit down with new friends\, and continue the conversations you started earlier in the day. This is a casual and welcoming space where international students can meet La Trobe Sport representatives\, student club members and other new students in a laid-back setting.
URL:https://www.latrobe.edu.au/mylatrobe/event/aussie-sports-social-lunch/
LOCATION:Clubhouse – The Agora\, La Trobe University\, Bundoora\, VIc\, 3083\, Australia
CATEGORIES:Bundoora
END:VEVENT
BEGIN:VEVENT
DTSTART;TZID=Australia/Melbourne:20260312T140000
DTEND;TZID=Australia/Melbourne:20260312T140000
DTSTAMP:20260425T021414
CREATED:20260302T105327Z
LAST-MODIFIED:20260306T004947Z
UID:57332-1773324000-1773324000@www.latrobe.edu.au
SUMMARY:Assessment Writing Skills
DESCRIPTION:Understand what is expected in academic writing at university\, including: academic language\, tone\, structure\, paragraphs\, using sources and referencing. And know where to get support for these areas.
URL:https://www.latrobe.edu.au/mylatrobe/event/assessment-writing-skills-8/
LOCATION:Online
CATEGORIES:Albury-Wodonga,Bendigo,Bundoora,City,Mildura,Online,Shepparton
END:VEVENT
BEGIN:VEVENT
DTSTART;TZID=Australia/Melbourne:20260312T140000
DTEND;TZID=Australia/Melbourne:20260312T150000
DTSTAMP:20260425T021414
CREATED:20260303T051837Z
LAST-MODIFIED:20260303T051837Z
UID:57602-1773324000-1773327600@www.latrobe.edu.au
SUMMARY:Melbourne Insights Pop Up
DESCRIPTION:“Melbourne Insights is an informal\, welcoming space where international students can come together and simply talk about Melbourne. \n\n\n\nDrop in\, grab a personalised “Top 10 Things to Do in Melbourne” card created by our La Trobe Leaders\, and join the conversation. These recommendation cards highlight the leaders’ favourite cafés\, markets\, walks\, hidden gems and everyday spots that helped them feel at home in the city.”
URL:https://www.latrobe.edu.au/mylatrobe/event/melbourne-insights-pop-up-3/
LOCATION:Clubhouse – The Agora\, La Trobe University\, Bundoora\, VIc\, 3083\, Australia
CATEGORIES:Bundoora
END:VEVENT
BEGIN:VEVENT
DTSTART;TZID=Australia/Melbourne:20260312T143000
DTEND;TZID=Australia/Melbourne:20260312T163000
DTSTAMP:20260425T021414
CREATED:20260303T050929Z
LAST-MODIFIED:20260303T050929Z
UID:57596-1773325800-1773333000@www.latrobe.edu.au
SUMMARY:Aussie Sports Try Outs Session 2
DESCRIPTION:Rotate through different Aussie sports\, meet club members\, laugh a lot\, and probably try something new. It is less about winning and more about having fun\, making friends and stepping outside your comfort zone in a supportive space. Move your body\, meet new people\, and discover how sport can become one of the easiest ways to build friendships at La Trobe.
URL:https://www.latrobe.edu.au/mylatrobe/event/aussie-sports-try-outs-session-2/
LOCATION:Clubhouse – The Agora\, La Trobe University\, Bundoora\, VIc\, 3083\, Australia
CATEGORIES:Bundoora
END:VEVENT
BEGIN:VEVENT
DTSTART;TZID=Australia/Melbourne:20260313T090000
DTEND;TZID=Australia/Melbourne:20260313T170000
DTSTAMP:20260425T021414
CREATED:20260303T052837Z
LAST-MODIFIED:20260303T052837Z
UID:57608-1773392400-1773421200@www.latrobe.edu.au
SUMMARY:Aussie Beach Experience at Urbn Surf
DESCRIPTION:You will learn practical water safety tips from expert trainers\, enjoy a fun learn to surf and paddle session in a calm lagoon\, and share lunch with other students at the on-site restaurant. Everything will be provided for you on the day\, including a wetsuit\, surf board and boogie board. You do not need to be an experienced swimmer to attend\, simply curious about how to stay safe in open-water environments. \n\n\n\nDeparting City Campus
URL:https://www.latrobe.edu.au/mylatrobe/event/aussie-beach-experience-at-urbn-surf/
CATEGORIES:Bundoora,Online
END:VEVENT
BEGIN:VEVENT
DTSTART;TZID=Australia/Melbourne:20260313T093000
DTEND;TZID=Australia/Melbourne:20260313T100000
DTSTAMP:20260425T021414
CREATED:20260303T053139Z
LAST-MODIFIED:20260303T053139Z
UID:57610-1773394200-1773396000@www.latrobe.edu.au
SUMMARY:What I wish I knew
DESCRIPTION:Join Monty and friends for our morning segment to get all the news of International Student Week and we share advice from students and friend about starting well at La Trobe!
URL:https://www.latrobe.edu.au/mylatrobe/event/what-i-wish-i-knew-2/
CATEGORIES:Bundoora,Online
END:VEVENT
BEGIN:VEVENT
DTSTART;TZID=Australia/Melbourne:20260313T100000
DTEND;TZID=Australia/Melbourne:20260313T100000
DTSTAMP:20260425T021414
CREATED:20260302T105327Z
LAST-MODIFIED:20260306T004947Z
UID:57333-1773396000-1773396000@www.latrobe.edu.au
SUMMARY:Introduction to Microsoft Word
DESCRIPTION:This workshop covers basic Word skills and how to format a document for essays.
URL:https://www.latrobe.edu.au/mylatrobe/event/introduction-to-microsoft-word-4/
LOCATION:Online
CATEGORIES:Albury-Wodonga,Bendigo,Bundoora,City,Mildura,Online
END:VEVENT
BEGIN:VEVENT
DTSTART;TZID=Australia/Melbourne:20260313T120000
DTEND;TZID=Australia/Melbourne:20260313T133000
DTSTAMP:20260425T021414
CREATED:20260304T014531Z
LAST-MODIFIED:20260304T014535Z
UID:57677-1773403200-1773408600@www.latrobe.edu.au
SUMMARY:Gendered barriers to food access impacting on women's health
DESCRIPTION:The Care Economy Research Institute\, the La Trobe Institute for Sustainable Agriculture & Food (LISAF) and the La Trobe Institute for Molecular Science invite you to join them for an event marking International Women’s Day. \n\n\n\nJoin our speakers as they explore how gendered barriers to food access shape women’s health across generations \n\n\n\n\nDr Bev Muhlhausler\, Principal Research Fellow at CSIRO’s Health and Biosecurity Unit\,\n\n\n\nDr Maria Jelinic from the Department of Physiology\, and\n\n\n\nDr Natalie Araujo from the School of Humanities and Social Sciences\n\n\n\n\nEvent details\n\n\n\nDate: Friday 13th MarchTime: 12.00-13.30pmLocation: In-person at Digital Innovation Hub\, Level 2\, Jenny Graves Building\, Bundoora campus \n\n\n\n\nRegister here
URL:https://www.latrobe.edu.au/mylatrobe/event/gendered-barriers-to-food-access-impacting-on-womens-health/
CATEGORIES:Bundoora,In-person
END:VEVENT
BEGIN:VEVENT
DTSTART;TZID=Australia/Melbourne:20260313T123000
DTEND;TZID=Australia/Melbourne:20260313T153000
DTSTAMP:20260425T021414
CREATED:20260303T040321Z
LAST-MODIFIED:20260303T040321Z
UID:57564-1773405000-1773415800@www.latrobe.edu.au
SUMMARY:Explore Bendigo City Tour
DESCRIPTION:Step beyond campus and explore the heart of Bendigo on a guided city tour designed especially for international students.This immersive experience introduces you to Bendigo’s rich gold rush history\, stunning heritage architecture and vibrant local culture. Along the way\, you will uncover stories of transformation\, resilience and community that shaped the city into what it is today. \n\n\n\nBus departing flagpoles outside of LSU
URL:https://www.latrobe.edu.au/mylatrobe/event/explore-bendigo-city-tour/
CATEGORIES:Bendigo
END:VEVENT
BEGIN:VEVENT
DTSTART;TZID=Australia/Melbourne:20260313T130000
DTEND;TZID=Australia/Melbourne:20260313T140000
DTSTAMP:20260425T021414
CREATED:20260303T053309Z
LAST-MODIFIED:20260303T053309Z
UID:57613-1773406800-1773410400@www.latrobe.edu.au
SUMMARY:Melbourne Insights Pop Up
DESCRIPTION:Have questions about trams\, Myki cards\, transport zones\, weekend markets\, places to explore or what life in Australia is really like? Ask anything. Our leaders will share what they know\, and if they do not have the answer\, they will help point you in the right direction.Come for five minutes or stay for the full hour. The goal is simple: connection\, conversation and helping you feel more confident in your new city.
URL:https://www.latrobe.edu.au/mylatrobe/event/melbourne-insights-pop-up-4/
LOCATION:Clubhouse – The Agora\, La Trobe University\, Bundoora\, VIc\, 3083\, Australia
CATEGORIES:Bundoora
END:VEVENT
BEGIN:VEVENT
DTSTART;TZID=Australia/Melbourne:20260313T140000
DTEND;TZID=Australia/Melbourne:20260313T160000
DTSTAMP:20260425T021414
CREATED:20260303T052522Z
LAST-MODIFIED:20260303T052522Z
UID:57606-1773410400-1773417600@www.latrobe.edu.au
SUMMARY:Indian Drumming Circle
DESCRIPTION:Open to everyone\, this interactive session is designed as a fun end to the week\, no musical experience required. You will be guided through simple rhythms in a relaxed setting. This is a joyful\, inclusive experience that encourages students to meet new people\, try something different and feel part of the La Trobe community.
URL:https://www.latrobe.edu.au/mylatrobe/event/indian-drumming-circle/
LOCATION:Clubhouse – The Agora\, La Trobe University\, Bundoora\, VIc\, 3083\, Australia
CATEGORIES:Bundoora
END:VEVENT
BEGIN:VEVENT
DTSTART;TZID=Australia/Melbourne:20260313T150000
DTEND;TZID=Australia/Melbourne:20260313T150000
DTSTAMP:20260425T021414
CREATED:20260302T105327Z
LAST-MODIFIED:20260306T004947Z
UID:57334-1773414000-1773414000@www.latrobe.edu.au
SUMMARY:Advanced Database Search Skills for Health
DESCRIPTION:In this advanced database searching session\, you will learn how to systematically search Medline as well as translate your search across other databases.
URL:https://www.latrobe.edu.au/mylatrobe/event/advanced-database-search-skills-for-health-6/
LOCATION:Online
CATEGORIES:Albury-Wodonga,Bendigo,Bundoora,City,Mildura,Online,Shepparton
END:VEVENT
BEGIN:VEVENT
DTSTART;TZID=Australia/Melbourne:20260313T150000
DTEND;TZID=Australia/Melbourne:20260313T163000
DTSTAMP:20260425T021414
CREATED:20251210T034022Z
LAST-MODIFIED:20260303T031155Z
UID:56279-1773414000-1773419400@www.latrobe.edu.au
SUMMARY:Using Generative AI at University
DESCRIPTION:As Generative Artificial Intelligence (GenAI) becomes more a part of university life\, and with La Trobe’s new guidelines on using AI for assessments\, it’s essential to understand how to use GenAI responsibly and effectively in your studies.
URL:https://www.latrobe.edu.au/mylatrobe/event/using-generative-ai-at-university-2/
CATEGORIES:Albury-Wodonga,Bendigo,Bundoora,City,Mildura,Multi-Campus,Online,Shepparton
END:VEVENT
BEGIN:VEVENT
DTSTART;TZID=Australia/Melbourne:20260313T180000
DTEND;TZID=Australia/Melbourne:20260313T180000
DTSTAMP:20260425T021414
CREATED:20260302T232026Z
LAST-MODIFIED:20260302T232026Z
UID:57467-1773424800-1773424800@www.latrobe.edu.au
SUMMARY:La Trobe Outdoor Cinema - "The Lost Tiger"
DESCRIPTION:Join us for a free pop-up cinema at the La Trobe Bendigo Sports Field!Enjoy complimentary food\, fun activities\, and a great night out.\nProudly presented in partnership with the City of Greater Bendigo.
URL:https://www.latrobe.edu.au/mylatrobe/event/la-trobe-outdoor-cinema-the-lost-tiger/
CATEGORIES:Bendigo,In-person,Online
END:VEVENT
BEGIN:VEVENT
DTSTART;TZID=Australia/Melbourne:20260315T160000
DTEND;TZID=Australia/Melbourne:20260315T160000
DTSTAMP:20260425T021414
CREATED:20260302T110251Z
LAST-MODIFIED:20260302T110257Z
UID:57335-1773590400-1773590400@www.latrobe.edu.au
SUMMARY:Sunday Men's Basketball - La Trobe League
DESCRIPTION:La Trobe League Sunday Men’s Basketball  is the fastest growing domestic basketball competition in the north\, with 40+ teams in each season. With multiple divisions\, new courts\, matches being live streamed\, and low costs\, there’s no other competition you would rather play in!
URL:https://www.latrobe.edu.au/mylatrobe/event/sunday-mens-basketball-la-trobe-league/
CATEGORIES:Bundoora,In-person
END:VEVENT
BEGIN:VEVENT
DTSTART;TZID=Australia/Melbourne:20260316T140000
DTEND;TZID=Australia/Melbourne:20260316T140000
DTSTAMP:20260425T021414
CREATED:20260302T110451Z
LAST-MODIFIED:20260306T005001Z
UID:57336-1773669600-1773669600@www.latrobe.edu.au
SUMMARY:Using Generative AI at University
DESCRIPTION:As Generative Artificial Intelligence (GenAI) becomes more a part of university life\, and with La Trobe’s new guidelines on using AI for assessments\, it’s essential to understand how to use GenAI responsibly and effectively in your studies.
URL:https://www.latrobe.edu.au/mylatrobe/event/using-generative-ai-at-university-4/
LOCATION:Online
CATEGORIES:Albury-Wodonga,Bendigo,Bundoora,City,Mildura,Online,Shepparton
END:VEVENT
BEGIN:VEVENT
DTSTART;TZID=Australia/Melbourne:20260316T160000
DTEND;TZID=Australia/Melbourne:20260316T160000
DTSTAMP:20260425T021414
CREATED:20260302T110451Z
LAST-MODIFIED:20260306T005002Z
UID:57337-1773676800-1773676800@www.latrobe.edu.au
SUMMARY:Improve your Library Search Skills
DESCRIPTION:Boost your study success by exploring strategies to find the right resources for your assessments and developing your search skills in searching the library collection.
URL:https://www.latrobe.edu.au/mylatrobe/event/improve-your-library-search-skills-7/
LOCATION:Online
CATEGORIES:Albury-Wodonga,Bendigo,Bundoora,City,Mildura,Online,Shepparton
END:VEVENT
BEGIN:VEVENT
DTSTART;TZID=Australia/Melbourne:20260316T180000
DTEND;TZID=Australia/Melbourne:20260316T180000
DTSTAMP:20260425T021414
CREATED:20260302T110632Z
LAST-MODIFIED:20260302T110632Z
UID:57338-1773684000-1773684000@www.latrobe.edu.au
SUMMARY:Monday Men's Futsal - La Trobe League
DESCRIPTION:Played under the Monday Night Lights of the La Trobe Sports Stadium\, La Trobe League Men’s Futsal is played over multiple divisions\, and caters towards any skill level.\nAll matches are live streamed through state-of-the-art ball tracking cameras – you’ll never miss a beat of La Trobe League action even if you’re not playing!
URL:https://www.latrobe.edu.au/mylatrobe/event/monday-mens-futsal-la-trobe-league/
CATEGORIES:Bundoora,In-person
END:VEVENT
BEGIN:VEVENT
DTSTART;TZID=Australia/Melbourne:20260317T110000
DTEND;TZID=Australia/Melbourne:20260317T110000
DTSTAMP:20260425T021414
CREATED:20260302T110451Z
LAST-MODIFIED:20260306T005002Z
UID:57339-1773745200-1773745200@www.latrobe.edu.au
SUMMARY:Understanding Turnitin and Plagiarism
DESCRIPTION:This workshop explores the basics of Turnitin – what it is\, and how it works. We also look at what is meant by plagiarism\, and how to avoid it.
URL:https://www.latrobe.edu.au/mylatrobe/event/understanding-turnitin-and-plagiarism-2/
LOCATION:Online
CATEGORIES:Albury-Wodonga,Bendigo,Bundoora,City,Mildura,Online,Shepparton
END:VEVENT
BEGIN:VEVENT
DTSTART;TZID=Australia/Melbourne:20260317T120000
DTEND;TZID=Australia/Melbourne:20260317T140000
DTSTAMP:20260425T021414
CREATED:20260303T053540Z
LAST-MODIFIED:20260303T055801Z
UID:57615-1773748800-1773756000@www.latrobe.edu.au
SUMMARY:Chill Out Tuesdays
DESCRIPTION:Come down to the Agora for a FREE gelati and sit back and relax.
URL:https://www.latrobe.edu.au/mylatrobe/event/chill-out-tuesdays/
CATEGORIES:Bundoora
END:VEVENT
BEGIN:VEVENT
DTSTART;TZID=Australia/Melbourne:20260317T140000
DTEND;TZID=Australia/Melbourne:20260317T140000
DTSTAMP:20260425T021414
CREATED:20260302T110452Z
LAST-MODIFIED:20260306T005002Z
UID:57340-1773756000-1773756000@www.latrobe.edu.au
SUMMARY:Using Evidence in your Writing
DESCRIPTION:This workshop will teach you how to incorporate sources into your writing that support your academic arguments and help you avoid plagiarism.
URL:https://www.latrobe.edu.au/mylatrobe/event/using-evidence-in-your-writing-6/
LOCATION:Online
CATEGORIES:Albury-Wodonga,Bendigo,Bundoora,City,Mildura,Online,Shepparton
END:VEVENT
BEGIN:VEVENT
DTSTART;TZID=Australia/Melbourne:20260317T170000
DTEND;TZID=Australia/Melbourne:20260317T190000
DTSTAMP:20260425T021414
CREATED:20260302T235311Z
LAST-MODIFIED:20260303T031518Z
UID:57507-1773766800-1773774000@www.latrobe.edu.au
SUMMARY:LTSA Mocktails by Number
DESCRIPTION:Want to flex some artistic muscle? Looking to unwind? Love mocktails? We have the event for you!Grab your friends for LTSA’s Mocktails by Number\, featuring mocktails\, self-guided paint-by-number\, and a charcuterie dinner for you to enjoy!\nRegistrations essential!
URL:https://www.latrobe.edu.au/mylatrobe/event/ltsa-mocktails-by-number/
CATEGORIES:Albury-Wodonga,In-person
END:VEVENT
END:VCALENDAR