BEGIN:VCALENDAR
VERSION:2.0
PRODID:-//MyLaTrobe - ECPv6.15.20//NONSGML v1.0//EN
CALSCALE:GREGORIAN
METHOD:PUBLISH
X-ORIGINAL-URL:https://www.latrobe.edu.au/mylatrobe
X-WR-CALDESC:Events for MyLaTrobe
REFRESH-INTERVAL;VALUE=DURATION:PT1H
X-Robots-Tag:noindex
X-PUBLISHED-TTL:PT1H
BEGIN:VTIMEZONE
TZID:Australia/Melbourne
BEGIN:STANDARD
TZOFFSETFROM:+1100
TZOFFSETTO:+1000
TZNAME:AEST
DTSTART:20240406T160000
END:STANDARD
BEGIN:DAYLIGHT
TZOFFSETFROM:+1000
TZOFFSETTO:+1100
TZNAME:AEDT
DTSTART:20241005T160000
END:DAYLIGHT
BEGIN:STANDARD
TZOFFSETFROM:+1100
TZOFFSETTO:+1000
TZNAME:AEST
DTSTART:20250405T160000
END:STANDARD
BEGIN:DAYLIGHT
TZOFFSETFROM:+1000
TZOFFSETTO:+1100
TZNAME:AEDT
DTSTART:20251004T160000
END:DAYLIGHT
BEGIN:STANDARD
TZOFFSETFROM:+1100
TZOFFSETTO:+1000
TZNAME:AEST
DTSTART:20260404T160000
END:STANDARD
BEGIN:DAYLIGHT
TZOFFSETFROM:+1000
TZOFFSETTO:+1100
TZNAME:AEDT
DTSTART:20261003T160000
END:DAYLIGHT
END:VTIMEZONE
BEGIN:VEVENT
DTSTART;TZID=Australia/Melbourne:20250522T160000
DTEND;TZID=Australia/Melbourne:20250522T170000
DTSTAMP:20260426T141351
CREATED:20250430T061103Z
LAST-MODIFIED:20250430T061108Z
UID:51309-1747929600-1747933200@www.latrobe.edu.au
SUMMARY:Postgraduate Webinar: Master of Business Analytics
DESCRIPTION:Gain highly sought after skills that bridge the gap between analytics and non-analytics professionals.  \n\n\n\nIn this webinar\, Dr Binh Tran will discuss how this course can help you take your career to the next level. Tailor your studies to match your specific interest and career goals by choosing specialisations in logistics\, artificial intelligence\, data science\, digital health\, entrepreneurship and innovation\, or accounting. \n\n\n\nYou’ll develop the ability to craft innovative solutions for a diverse range of businesses and organisations\, ensuring not only staying ahead of industry trends but also consistently enhancing your expertise in this ever-evolving landscape. \n\n\n\nJoin this live webinar to learn more about the course content\, career outcomes\, the application process and what it’s really like to study at La Trobe. You can also ask your questions in our live Q&A with the program coordinators.
URL:https://www.latrobe.edu.au/mylatrobe/event/postgraduate-webinar-master-of-business-analytics/
LOCATION:VIC
CATEGORIES:Online
END:VEVENT
BEGIN:VEVENT
DTSTART;TZID=Australia/Melbourne:20250522T180000
DTEND;TZID=Australia/Melbourne:20250522T190000
DTSTAMP:20260426T141351
CREATED:20250430T060842Z
LAST-MODIFIED:20250430T060846Z
UID:51307-1747936800-1747940400@www.latrobe.edu.au
SUMMARY:Postgraduate Webinar: Master of Midwifery Practice
DESCRIPTION:Become a leader in Midwifery. \n\n\n\nLa Trobe’s Master of Midwifery Practice gives midwives the opportunity to move into a new phase of their professional lives. \n\n\n\nDelivered entirely online\, you’ll have the flexibility to study as you work. Taking your industry experience into consideration\, the Master of Midwifery Practice helps you focus on your areas of interest\, and work towards the changes you want to see. Explore more than just the clinical side of midwifery through a range of specialisations and pathways affording you the opportunity to diversify your skillset and broaden your professional prospects. \n\n\n\nJoin this live webinar to learn more about the course content\, career outcomes\, the application process and what it’s really like to study at La Trobe. You can also ask your questions in our live Q&A with the program coordinators. \n\n\n\nThis course may have limited Commonwealth supported places (CSPs) available. Attend the webinar to find out how you can access this government subsidy.
URL:https://www.latrobe.edu.au/mylatrobe/event/postgraduate-webinar-master-of-midwifery-practice/
LOCATION:VIC
CATEGORIES:Online
END:VEVENT
BEGIN:VEVENT
DTSTART;TZID=Australia/Melbourne:20250523T190000
DTEND;TZID=Australia/Melbourne:20250523T220000
DTSTAMP:20260426T141351
CREATED:20250514T232402Z
LAST-MODIFIED:20250514T232406Z
UID:51655-1748026800-1748037600@www.latrobe.edu.au
SUMMARY:LTSA Bendigo karaoke night
DESCRIPTION:Get your requests ready and join your fellow songbirds for a fun night of karaoke at the Cryptorium Bendigo! \n\n\n\nCome alone\, or with a group – we have a few tables booked. \n\n\n\nTicket includes one free drink on arrival! \n\n\n\nWhere: Cryptorium\, 333 Hargreaves St\, Bendigo \n\n\n\nWhen: 7pm – 10pm-ish \n\n\n\nGet your tickets now!  \n\n\n\n*This is an 18+ event
URL:https://www.latrobe.edu.au/mylatrobe/event/ltsa-bendigo-karaoke-night/
LOCATION:VIC
CATEGORIES:Bendigo
END:VEVENT
BEGIN:VEVENT
DTSTART;TZID=Australia/Melbourne:20250526T083000
DTEND;TZID=Australia/Melbourne:20250526T083000
DTSTAMP:20260426T141351
CREATED:20250312T230612Z
LAST-MODIFIED:20250312T230612Z
UID:49946-1748248200-1748248200@www.latrobe.edu.au
SUMMARY:It's Coffee Time!
DESCRIPTION:Start your week with a free small hot drink! Every Monday morning 8:30 – 10:30 AM\, Weeks 1 – 12.
URL:https://www.latrobe.edu.au/mylatrobe/event/its-coffee-time-9/
LOCATION:VIC
CATEGORIES:Albury-Wodonga
END:VEVENT
BEGIN:VEVENT
DTSTART;TZID=Australia/Melbourne:20250526T083000
DTEND;TZID=Australia/Melbourne:20250528T163000
DTSTAMP:20260426T141351
CREATED:20250415T023200Z
LAST-MODIFIED:20250415T023207Z
UID:51053-1748248200-1748449800@www.latrobe.edu.au
SUMMARY:Free Adult Hearing Test
DESCRIPTION:The Audiology Department at La Trobe’s Melbourne (Bundoora) campus are offering free hearings tests over three days. This test will be carried out by our Master of Clinical Audiology students under the supervision of qualified Audiologists.  \n\n\n\nThis provides valuable clinical experience for our students\, meaning you’ll be caring for your hearing and supporting students at the same time!
URL:https://www.latrobe.edu.au/mylatrobe/event/free-adult-hearing-test/
LOCATION:La Trobe Communication Clinic (LCC)\, La Trobe Communication Clinic\, Level 4\, Health Sciences Building 1\, La Trobe University\, Science Dr\, Bundoora\, 3083\, Australia
CATEGORIES:Bundoora
END:VEVENT
BEGIN:VEVENT
DTSTART;TZID=Australia/Melbourne:20250526T120000
DTEND;TZID=Australia/Melbourne:20250526T120000
DTSTAMP:20260426T141351
CREATED:20250312T230528Z
LAST-MODIFIED:20250312T230528Z
UID:49947-1748260800-1748260800@www.latrobe.edu.au
SUMMARY:Sorry Day
DESCRIPTION:Commemoration display in the Agora. Come and show your support by making a badge to commemorate the day.
URL:https://www.latrobe.edu.au/mylatrobe/event/sorry-day-2/
LOCATION:Agora
CATEGORIES:Bundoora
END:VEVENT
BEGIN:VEVENT
DTSTART;TZID=Australia/Melbourne:20250526T130000
DTEND;TZID=Australia/Melbourne:20250526T130000
DTSTAMP:20260426T141351
CREATED:20250312T230529Z
LAST-MODIFIED:20250312T230529Z
UID:49948-1748264400-1748264400@www.latrobe.edu.au
SUMMARY:Sorry Day
DESCRIPTION:Come along and show your support by making a Sorry Day badge.
URL:https://www.latrobe.edu.au/mylatrobe/event/sorry-day-3/
LOCATION:VIC
CATEGORIES:City
END:VEVENT
BEGIN:VEVENT
DTSTART;TZID=Australia/Melbourne:20250526T170000
DTEND;TZID=Australia/Melbourne:20250526T170000
DTSTAMP:20260426T141351
CREATED:20250312T230927Z
LAST-MODIFIED:20250312T230927Z
UID:49949-1748278800-1748278800@www.latrobe.edu.au
SUMMARY:Sorry Day - Sunset Ceremony
DESCRIPTION:We observe Sorry Day with a gathering which acknowledges Indigenous culture and resilience. The event will include cultural performances\, truth-telling\, and conclude with a sunset smoking ceremony. Refreshments will be available after the ceremony. Please dress for the cold weather.
URL:https://www.latrobe.edu.au/mylatrobe/event/sorry-day-sunset-ceremony-2/
LOCATION:VIC
CATEGORIES:Bendigo
END:VEVENT
BEGIN:VEVENT
DTSTART;TZID=Australia/Melbourne:20250526T180000
DTEND;TZID=Australia/Melbourne:20250526T190000
DTSTAMP:20260426T141351
CREATED:20250430T061300Z
LAST-MODIFIED:20250430T061304Z
UID:51311-1748282400-1748286000@www.latrobe.edu.au
SUMMARY:Postgraduate Webinar: Rural Nursing Practice
DESCRIPTION:Develop specialised rural and remote nursing knowledge and equip yourself with the skills required to lead and support health care in rural and remote and remote communities with the Graduate Diploma in Rural and Remote Nursing Practice or the Graduate Certificate in Rural and Remote Nursing Practice. \n\n\n\nDeveloped by experienced rural nurses in consultation with CRANA+\, our industry-focused program based on the National Rural and Remote Nursing Generalist Framework will equip you with the skills and knowledge needed to become a leader in rural and remote health care. \n\n\n\nJoin us to hear about the course content\, application process and how you’ll learn to coordinate culturally safe\, up-to-date and evidence-based nursing care in rural and remote communities. Develop the tools you need to make a real difference in rural healthcare and ask your questions in our live Q&A with the program coordinators. \n\n\n\nThis course may have limited Commonwealth supported places (CSPs) available. Attend the webinar to find out how you can access this government subsidy.
URL:https://www.latrobe.edu.au/mylatrobe/event/postgraduate-webinar-rural-nursing-practice/
LOCATION:VIC
CATEGORIES:Online
END:VEVENT
BEGIN:VEVENT
DTSTART;TZID=Australia/Melbourne:20250527T090000
DTEND;TZID=Australia/Melbourne:20250527T090000
DTSTAMP:20260426T141351
CREATED:20250312T230529Z
LAST-MODIFIED:20250312T230529Z
UID:49952-1748336400-1748336400@www.latrobe.edu.au
SUMMARY:UniSport 3x3 Basketball Nationals Commence
DESCRIPTION:Team La Trobe descends onto Monash University to face Australian Universities to battle it out for the title in 3×3 Basketball.  “For updated event information please visit\, https://www.latrobe.edu.au/sport/play-sport/represent/university-nationals”
URL:https://www.latrobe.edu.au/mylatrobe/event/unisport-3x3-basketball-nationals-commence/
LOCATION:VIC
CATEGORIES:Bundoora
END:VEVENT
BEGIN:VEVENT
DTSTART;TZID=Australia/Melbourne:20250527T090000
DTEND;TZID=Australia/Melbourne:20250527T090000
DTSTAMP:20260426T141351
CREATED:20250312T230529Z
LAST-MODIFIED:20250312T230529Z
UID:49953-1748336400-1748336400@www.latrobe.edu.au
SUMMARY:UniSport 3x3 Basketball Nationals Commence
DESCRIPTION:Team La Trobe descends onto Monash University to face Australian Universities to battle it out for the title in 3×3 Basketball
URL:https://www.latrobe.edu.au/mylatrobe/event/unisport-3x3-basketball-nationals-commence-3/
LOCATION:VIC
CATEGORIES:Shepparton
END:VEVENT
BEGIN:VEVENT
DTSTART;TZID=Australia/Melbourne:20250527T090000
DTEND;TZID=Australia/Melbourne:20250527T090000
DTSTAMP:20260426T141351
CREATED:20250312T230529Z
LAST-MODIFIED:20250312T230529Z
UID:49954-1748336400-1748336400@www.latrobe.edu.au
SUMMARY:UniSport 3x3 Basketball Nationals Commence
DESCRIPTION:Team La Trobe descends onto Monash University to face Australian Universities to battle it out for the title in 3×3 Basketball.  “For updated event information please visit\, https://www.latrobe.edu.au/sport/play-sport/represent/university-nationals”
URL:https://www.latrobe.edu.au/mylatrobe/event/unisport-3x3-basketball-nationals-commence-2/
LOCATION:VIC
CATEGORIES:Mildura
END:VEVENT
BEGIN:VEVENT
DTSTART;TZID=Australia/Melbourne:20250527T090000
DTEND;TZID=Australia/Melbourne:20250527T090000
DTSTAMP:20260426T141351
CREATED:20250312T230612Z
LAST-MODIFIED:20250312T230612Z
UID:49950-1748336400-1748336400@www.latrobe.edu.au
SUMMARY:UniSport 3x3 Basketball Nationals Commence
DESCRIPTION:Team La Trobe descends onto Monash University to face Australian Universities to battle it out for the title in 3×3 Basketball.  “For updated event information please visit\, https://www.latrobe.edu.au/sport/play-sport/represent/university-nationals”
URL:https://www.latrobe.edu.au/mylatrobe/event/unisport-3x3-basketball-nationals-commence-4/
LOCATION:VIC
CATEGORIES:Albury-Wodonga
END:VEVENT
BEGIN:VEVENT
DTSTART;TZID=Australia/Melbourne:20250527T090000
DTEND;TZID=Australia/Melbourne:20250527T090000
DTSTAMP:20260426T141351
CREATED:20250312T230927Z
LAST-MODIFIED:20250312T230927Z
UID:49951-1748336400-1748336400@www.latrobe.edu.au
SUMMARY:UniSport 3x3 Basketball Nationals Commence
DESCRIPTION:Team La Trobe descends onto Monash University to face Australian Universities to battle it out for the title in 3×3 Basketball.  “For updated event information please visit\, https://www.latrobe.edu.au/sport/play-sport/represent/university-nationals”
URL:https://www.latrobe.edu.au/mylatrobe/event/unisport-3x3-basketball-nationals-commence-5/
LOCATION:VIC
CATEGORIES:Bendigo
END:VEVENT
BEGIN:VEVENT
DTSTART;TZID=Australia/Melbourne:20250527T120000
DTEND;TZID=Australia/Melbourne:20250527T120000
DTSTAMP:20260426T141351
CREATED:20250312T230529Z
LAST-MODIFIED:20250312T230529Z
UID:49959-1748347200-1748347200@www.latrobe.edu.au
SUMMARY:Importance of Professional Communication at the Workplace  for International students
DESCRIPTION:Students have the opportunity to know the importance of a proper professional communication and the dos and don’t s that they need to know important for the job market. Some of them might be different from their Home countries
URL:https://www.latrobe.edu.au/mylatrobe/event/importance-of-professional-communication-at-the-workplace-for-international-students/
LOCATION:VIC
CATEGORIES:Bundoora
END:VEVENT
BEGIN:VEVENT
DTSTART;TZID=Australia/Melbourne:20250527T120000
DTEND;TZID=Australia/Melbourne:20250527T120000
DTSTAMP:20260426T141351
CREATED:20250312T230529Z
LAST-MODIFIED:20250312T230529Z
UID:49957-1748347200-1748347200@www.latrobe.edu.au
SUMMARY:Importance of Professional Communication at the Workplace  for International students
DESCRIPTION:Students have the opportunity to know the importance of a proper professional communication and the dos and don’t s that they need to know important for the job market. Some of them might be different from their Home countries
URL:https://www.latrobe.edu.au/mylatrobe/event/importance-of-professional-communication-at-the-workplace-for-international-students-2/
LOCATION:VIC
CATEGORIES:Shepparton
END:VEVENT
BEGIN:VEVENT
DTSTART;TZID=Australia/Melbourne:20250527T120000
DTEND;TZID=Australia/Melbourne:20250527T120000
DTSTAMP:20260426T141351
CREATED:20250312T230927Z
LAST-MODIFIED:20250312T230927Z
UID:49958-1748347200-1748347200@www.latrobe.edu.au
SUMMARY:Importance of Professional Communication at the Workplace  for International students
DESCRIPTION:Students have the opportunity to know the importance of a proper professional communication and the dos and don’t s that they need to know important for the job market. Some of them might be different from their Home countries
URL:https://www.latrobe.edu.au/mylatrobe/event/importance-of-professional-communication-at-the-workplace-for-international-students-3/
LOCATION:VIC
CATEGORIES:Bendigo
END:VEVENT
BEGIN:VEVENT
DTSTART;TZID=Australia/Melbourne:20250527T131500
DTEND;TZID=Australia/Melbourne:20250527T141500
DTSTAMP:20260426T141351
CREATED:20250521T014838Z
LAST-MODIFIED:20250521T014947Z
UID:51776-1748351700-1748355300@www.latrobe.edu.au
SUMMARY:Writers on Campus: Writing Sport
DESCRIPTION:Sport is a national obsession in Australia and a thriving industry. Millions of us absorb writing about sport and recreation every week – from game recaps or analyses to training and wellbeing tips\, your local club newsletters to major reports on issues affecting our favourite sports and communities. \n\n\n\nWhat does it take to write well about sport and recreation? Whether it’s trackside reporting or policy recommendations\, this Writers on Campus session will take us inside the clubrooms and boardrooms\, with writers who are experts on both sport and how to write about it. \n\n\n\nSpeakers: Dr Merryn Sherwood – Senior Lecturer\, Department of Politics\, Media and Philosophy\, La Trobe UniversityDr Pam Kappelides – Senior Lecturer\, Sport and Recreation Management\, La Trobe University
URL:https://www.latrobe.edu.au/mylatrobe/event/writers-on-campus-writing-sport/
LOCATION:Seminar Room 1.34\, Melbourne (Bundoora) Library
CATEGORIES:Bundoora
ATTACH;FMTTYPE=image/png:https://www.latrobe.edu.au/mylatrobe/wp-content/uploads/2025/05/Writers-on-campus_WordPress-Article-650-x-400.png
END:VEVENT
BEGIN:VEVENT
DTSTART;TZID=Australia/Melbourne:20250527T140000
DTEND;TZID=Australia/Melbourne:20250527T140000
DTSTAMP:20260426T141351
CREATED:20250312T230529Z
LAST-MODIFIED:20250312T230529Z
UID:49961-1748354400-1748354400@www.latrobe.edu.au
SUMMARY:LTSA City Campus Pantry Day
DESCRIPTION:LTSA City Student Council gives away free stuff to the students
URL:https://www.latrobe.edu.au/mylatrobe/event/ltsa-city-campus-pantry-day-6/
LOCATION:VIC
CATEGORIES:City
END:VEVENT
BEGIN:VEVENT
DTSTART;TZID=Australia/Melbourne:20250528T083000
DTEND;TZID=Australia/Melbourne:20250528T083000
DTSTAMP:20260426T141351
CREATED:20250312T230612Z
LAST-MODIFIED:20250312T230612Z
UID:49962-1748421000-1748421000@www.latrobe.edu.au
SUMMARY:LTSA Free Student Breakfast
DESCRIPTION:Free Student Breakfast each Wednesday of Semester 1
URL:https://www.latrobe.edu.au/mylatrobe/event/ltsa-free-student-breakfast-11/
LOCATION:VIC
CATEGORIES:Albury-Wodonga
END:VEVENT
BEGIN:VEVENT
DTSTART;TZID=Australia/Melbourne:20250528T084500
DTEND;TZID=Australia/Melbourne:20250528T084500
DTSTAMP:20260426T141351
CREATED:20250312T230529Z
LAST-MODIFIED:20250312T230529Z
UID:49963-1748421900-1748421900@www.latrobe.edu.au
SUMMARY:Mid-week Coffee Voucher
DESCRIPTION:Get in quick (between 8:45 – 9:15 am) and collect one of 25 vouchers available to enjoy a hot drink on us!
URL:https://www.latrobe.edu.au/mylatrobe/event/mid-week-coffee-voucher-10/
LOCATION:VIC
CATEGORIES:Shepparton
END:VEVENT
BEGIN:VEVENT
DTSTART;TZID=Australia/Melbourne:20250528T103000
DTEND;TZID=Australia/Melbourne:20250528T113000
DTSTAMP:20260426T141351
CREATED:20250520T070252Z
LAST-MODIFIED:20250520T070256Z
UID:51769-1748428200-1748431800@www.latrobe.edu.au
SUMMARY:LTSA Bendigo – FREE Loaded Donuts
DESCRIPTION:Come and celebrate International Donut Day early with LTSA in the LSU! We’re providing free donuts with a variety of toppings to make your day that little bit sweeter. \n\n\n\nDonuts will be available from 10.30 am until they run out\, so get in quick…
URL:https://www.latrobe.edu.au/mylatrobe/event/ltsa-bendigo-free-loaded-donuts/
LOCATION:LSU Bendigo
CATEGORIES:Bendigo
END:VEVENT
BEGIN:VEVENT
DTSTART;TZID=Australia/Melbourne:20250529T100000
DTEND;TZID=Australia/Melbourne:20250529T100000
DTSTAMP:20260426T141351
CREATED:20250312T230927Z
LAST-MODIFIED:20250528T024657Z
UID:49964-1748512800-1748512800@www.latrobe.edu.au
SUMMARY:Free Coffee Thursdays
DESCRIPTION:Enjoy a complimentary coffee on us at the LSU! Just show your student ID to claim your free hot drink.
URL:https://www.latrobe.edu.au/mylatrobe/event/free-coffee-thursdays-9/
LOCATION:LSU
CATEGORIES:Bendigo
END:VEVENT
BEGIN:VEVENT
DTSTART;TZID=Australia/Melbourne:20250604T123000
DTEND;TZID=Australia/Melbourne:20250604T133000
DTSTAMP:20260426T141351
CREATED:20250526T005139Z
LAST-MODIFIED:20250526T010109Z
UID:51886-1749040200-1749043800@www.latrobe.edu.au
SUMMARY:De-stress with Baduanjin: a Qigong workshop
DESCRIPTION:Feeling the pressure of final exams or need a moment to breathe and reset? \n\n\n\nWe warmly invite you to our De-Stress with Baduanjin: A Qigong Workshop. This free session offers a gentle introduction to Baduanjin Qigong – an ancient Chinese movement practice designed to reduce stress\, improve focus and support your mental wellbeing. \n\n\n\nNo experience needed. Simply wear comfortable clothes and join us for some mindful movement and calm. \n\n\n\nWhere: Library Room 1.34\, Melbourne (Bundoora) campus \n\n\n\nWhen: Wednesdays in June \n\n\n\n\n4 June\, 12:30 pm – 1:30 pm\n\n\n\n11 June\, 2:30pm – 3:30pm\n\n\n\n18 June\, 12:30pm – 1:30pm\n\n\n\n25 June\, 2:30pm – 3:30pm\n\n\n\n\nTake a deep breath. Stretch. Rebalance.Your wellbeing matters.
URL:https://www.latrobe.edu.au/mylatrobe/event/de-stress-with-baduanjin-a-qigong-workshop/
LOCATION:VIC
CATEGORIES:Bundoora
END:VEVENT
BEGIN:VEVENT
DTSTART;TZID=Australia/Melbourne:20250610T110000
DTEND;TZID=Australia/Melbourne:20250610T120000
DTSTAMP:20260426T141351
CREATED:20250603T010052Z
LAST-MODIFIED:20250603T013806Z
UID:52019-1749553200-1749556800@www.latrobe.edu.au
SUMMARY:Workshop: Improve your library search skills
DESCRIPTION:Want to brush up on your study skills and take your assessments to the next level? Join us this June for our online Winter Study and Library Skills workshops. \n\n\n\nIn this workshop\, you will learn: \n\n\n\n\nhow to get great search results\n\n\n\nhow to evaluate different types of resources\n\n\n\nhow to analyse your topic\n\n\n\nsearch techniques for Library Search\n\n\n\n\nThis is a live online workshop and is not recorded. Registered attendees will receive the slides after the workshop. \n\n\n\nThis is a Career Ready event. Attendance will be marked and go towards your award.
URL:https://www.latrobe.edu.au/mylatrobe/event/improve-your-library-search-skills/
LOCATION:VIC
CATEGORIES:Online
END:VEVENT
BEGIN:VEVENT
DTSTART;TZID=Australia/Melbourne:20250611T140000
DTEND;TZID=Australia/Melbourne:20250611T150000
DTSTAMP:20260426T141351
CREATED:20250603T010411Z
LAST-MODIFIED:20250603T013750Z
UID:52021-1749650400-1749654000@www.latrobe.edu.au
SUMMARY:Workshop: Assessment writing skills
DESCRIPTION:Want to brush up on your study skills and take your assessments to the next level? Join us this June for our online Winter Study and Library Skills workshops. \n\n\n\nIn this workshop you will learn: \n\n\n\n\nwhat your lecturers expect from your written assessments\n\n\n\nthe steps involved in completing assessments\n\n\n\nhow to plan\, structure and write you assessments\n\n\n\nwhere to get further help\n\n\n\n\nThis is a live online workshop and is not recorded. Registered attendees will receive the slides after the workshop. \n\n\n\nThis is a Career Ready event. Attendance will be marked and contribute to your Career Ready award
URL:https://www.latrobe.edu.au/mylatrobe/event/assessment-writing-skills/
LOCATION:VIC
CATEGORIES:Online
END:VEVENT
BEGIN:VEVENT
DTSTART;TZID=Australia/Melbourne:20250611T143000
DTEND;TZID=Australia/Melbourne:20250611T153000
DTSTAMP:20260426T141351
CREATED:20250526T005504Z
LAST-MODIFIED:20250526T010342Z
UID:51889-1749652200-1749655800@www.latrobe.edu.au
SUMMARY:De-stress with Baduanjin: a Qigong workshop
DESCRIPTION:Feeling the pressure of final exams or need a moment to breathe and reset? \n\n\n\nWe warmly invite you to our De-Stress with Baduanjin: A Qigong Workshop. This free session offers a gentle introduction to Baduanjin Qigong – an ancient Chinese movement practice designed to reduce stress\, improve focus and support your mental wellbeing. \n\n\n\nNo experience needed. Simply wear comfortable clothes and join us for some mindful movement and calm. \n\n\n\nWhere: Library Room 1.34\, Melbourne (Bundoora) campus \n\n\n\nWhen: Wednesdays in June \n\n\n\n\n4 June\, 12:30 pm – 1:30 pm\n\n\n\n11 June\, 2:30pm – 3:30pm\n\n\n\n18 June\, 12:30pm – 1:30pm\n\n\n\n25 June\, 2:30pm – 3:30pm\n\n\n\n\nTake a deep breath. Stretch. Rebalance.Your wellbeing matters.
URL:https://www.latrobe.edu.au/mylatrobe/event/de-stress-with-baduanjin-a-qigong-workshop-2/
LOCATION:VIC
CATEGORIES:Bundoora
END:VEVENT
BEGIN:VEVENT
DTSTART;TZID=Australia/Melbourne:20250612T160000
DTEND;TZID=Australia/Melbourne:20250612T170000
DTSTAMP:20260426T141351
CREATED:20250603T011958Z
LAST-MODIFIED:20250603T013743Z
UID:52023-1749744000-1749747600@www.latrobe.edu.au
SUMMARY:Workshop: Using library databases and Google Scholar
DESCRIPTION:Want to brush up on your study skills and take your assessments to the next level? Join us this June for our online Winter Study and Library Skills workshops. \n\n\n\nIn this workshop\, you will learn: \n\n\n\n\nhow to get great search results\n\n\n\nabout databases and why we use them\n\n\n\nsearch techniques in databases and Google Scholar\n\n\n\n\nThis is a live online workshop and is not recorded. Registered attendees will receive the slides after the workshop. \n\n\n\nThis is a Career Ready event. Attendance will be marked and contribute to your Career Ready award. \n\n\n\nThis is a Career Ready event. Attendance will be marked and contribute to your Career Ready award
URL:https://www.latrobe.edu.au/mylatrobe/event/workshop-using-library-databases-and-google-scholar/
LOCATION:VIC
CATEGORIES:Online
END:VEVENT
BEGIN:VEVENT
DTSTART;TZID=Australia/Melbourne:20250613T110000
DTEND;TZID=Australia/Melbourne:20250613T123000
DTSTAMP:20260426T141351
CREATED:20250603T012239Z
LAST-MODIFIED:20250603T013735Z
UID:52027-1749812400-1749817800@www.latrobe.edu.au
SUMMARY:Workshop: Advanced database search skills for health
DESCRIPTION:Want to brush up on your study skills and take your assessments to the next level? Join us this June for our online Winter Study and Library Skills workshops. \n\n\n\nIn this workshop\, you will learn how to: \n\n\n\n\nsystematically search Medline\n\n\n\ntranslate your search across other databases\n\n\n\nfind further help and support\n\n\n\n\nThis is a live online workshop and is not recorded. Registered attendees will receive the slides after the workshop. \n\n\n\nThis is a Career Ready event. Attendance will be marked and contribute to your Career Ready award.
URL:https://www.latrobe.edu.au/mylatrobe/event/workshop-advanced-database-search-skills-for-health/
LOCATION:VIC
CATEGORIES:Online
END:VEVENT
BEGIN:VEVENT
DTSTART;TZID=Australia/Melbourne:20250616T100000
DTEND;TZID=Australia/Melbourne:20250616T130000
DTSTAMP:20260426T141351
CREATED:20250612T034435Z
LAST-MODIFIED:20250612T034439Z
UID:52218-1750068000-1750078800@www.latrobe.edu.au
SUMMARY:Headspace Health and Wellness event
DESCRIPTION:Feeling stressed? Unwind at the FREE Mental Health and Wellness Event hosted by headspace. \n\n\n\nWhere: La Trobe Melbourne (Bundoora) – outside the Library \n\n\n\nWhen: Monday 16 June\, from 10 am-1 pm \n\n\n\nAll activities are FREE: \n\n\n\n\nBuild your own wellness pack \n\n\n\nRock painting \n\n\n\nDart throwing\n\n\n\nGames \n\n\n\nDrawing \n\n\n\nFree donuts & goodies\n\n\n\n\nPlus a $100 Wellness voucher give-away! \n\n\n\nCome alone or with friends and learn about headspace and our FREE mental health services – including counselling\, peer support\, work/study programs and support around alcohol/drugs.  \n\n\n\nAll nationalities\, cultures\, genders and sexualities are welcome!  \n\n\n\nSupport materials and fact sheets are in available multiple languages.
URL:https://www.latrobe.edu.au/mylatrobe/event/headspace-health-and-wellness-event/
LOCATION:VIC
CATEGORIES:Bundoora
END:VEVENT
END:VCALENDAR