BEGIN:VCALENDAR
VERSION:2.0
PRODID:-//MyLaTrobe - ECPv6.15.20//NONSGML v1.0//EN
CALSCALE:GREGORIAN
METHOD:PUBLISH
X-ORIGINAL-URL:https://www.latrobe.edu.au/mylatrobe
X-WR-CALDESC:Events for MyLaTrobe
REFRESH-INTERVAL;VALUE=DURATION:PT1H
X-Robots-Tag:noindex
X-PUBLISHED-TTL:PT1H
BEGIN:VTIMEZONE
TZID:Australia/Melbourne
BEGIN:STANDARD
TZOFFSETFROM:+1100
TZOFFSETTO:+1000
TZNAME:AEST
DTSTART:20250405T160000
END:STANDARD
BEGIN:DAYLIGHT
TZOFFSETFROM:+1000
TZOFFSETTO:+1100
TZNAME:AEDT
DTSTART:20251004T160000
END:DAYLIGHT
BEGIN:STANDARD
TZOFFSETFROM:+1100
TZOFFSETTO:+1000
TZNAME:AEST
DTSTART:20260404T160000
END:STANDARD
BEGIN:DAYLIGHT
TZOFFSETFROM:+1000
TZOFFSETTO:+1100
TZNAME:AEDT
DTSTART:20261003T160000
END:DAYLIGHT
BEGIN:STANDARD
TZOFFSETFROM:+1100
TZOFFSETTO:+1000
TZNAME:AEST
DTSTART:20270403T160000
END:STANDARD
BEGIN:DAYLIGHT
TZOFFSETFROM:+1000
TZOFFSETTO:+1100
TZNAME:AEDT
DTSTART:20271002T160000
END:DAYLIGHT
END:VTIMEZONE
BEGIN:VEVENT
DTSTART;TZID=Australia/Melbourne:20260219T110000
DTEND;TZID=Australia/Melbourne:20260219T114500
DTSTAMP:20260424T132934
CREATED:20251210T034020Z
LAST-MODIFIED:20251210T034020Z
UID:56293-1771498800-1771501500@www.latrobe.edu.au
SUMMARY:International students: Build your vocabulary
DESCRIPTION:Strategies to quickly expand your English vocabulary for your studies.
URL:https://www.latrobe.edu.au/mylatrobe/event/international-students-build-your-vocabulary-2/
CATEGORIES:Albury-Wodonga,Bendigo,Bundoora,City,Mildura,Multi-Campus,Online,Shepparton
END:VEVENT
BEGIN:VEVENT
DTSTART;TZID=Australia/Melbourne:20260219T130000
DTEND;TZID=Australia/Melbourne:20260219T140000
DTSTAMP:20260424T132934
CREATED:20251210T034020Z
LAST-MODIFIED:20251210T034020Z
UID:56295-1771506000-1771509600@www.latrobe.edu.au
SUMMARY:Assessment Writing Skills
DESCRIPTION:Understand what is expected in academic writing at university\, including: academic language\, tone\, structure\, paragraphs\, using sources and referencing. And know where to get support for these areas.
URL:https://www.latrobe.edu.au/mylatrobe/event/assessment-writing-skills-6/
CATEGORIES:Albury-Wodonga,Bendigo,Bundoora,City,Mildura,Multi-Campus,Online,Shepparton
END:VEVENT
BEGIN:VEVENT
DTSTART;TZID=Australia/Melbourne:20260220T110000
DTEND;TZID=Australia/Melbourne:20260220T120000
DTSTAMP:20260424T132934
CREATED:20251210T034020Z
LAST-MODIFIED:20251210T034020Z
UID:56297-1771585200-1771588800@www.latrobe.edu.au
SUMMARY:Using Evidence in your Writing
DESCRIPTION:This workshop will teach you how to incorporate sources into your writing that support your academic arguments and help you avoid plagiarism. 
URL:https://www.latrobe.edu.au/mylatrobe/event/using-evidence-in-your-writing-5/
CATEGORIES:Albury-Wodonga,Bendigo,Bundoora,City,Mildura,Multi-Campus,Online,Shepparton
END:VEVENT
BEGIN:VEVENT
DTSTART;TZID=Australia/Melbourne:20260220T150000
DTEND;TZID=Australia/Melbourne:20260220T160000
DTSTAMP:20260424T132934
CREATED:20251210T034019Z
LAST-MODIFIED:20251210T034019Z
UID:56299-1771599600-1771603200@www.latrobe.edu.au
SUMMARY:Manage your references with EndNote
DESCRIPTION:Learn how to use EndNote for reference management. Create a library\, add and modify references and use EndNote within Microsoft Word. Attendees are advised to have prior knowledge of referencing.
URL:https://www.latrobe.edu.au/mylatrobe/event/manage-your-references-with-endnote-6/
CATEGORIES:Albury-Wodonga,Bendigo,Bundoora,City,Mildura,Multi-Campus,Online,Shepparton
END:VEVENT
BEGIN:VEVENT
DTSTART;TZID=Australia/Melbourne:20260223T160000
DTEND;TZID=Australia/Melbourne:20260223T170000
DTSTAMP:20260424T132934
CREATED:20251210T034019Z
LAST-MODIFIED:20251210T034019Z
UID:56301-1771862400-1771866000@www.latrobe.edu.au
SUMMARY:Using Generative AI at University
DESCRIPTION:As Generative Artificial Intelligence (GenAI) becomes more a part of university life\, and with La Trobe’s new guidelines on using AI for assessments\, it’s essential to understand how to use GenAI responsibly and effectively in your studies.
URL:https://www.latrobe.edu.au/mylatrobe/event/using-generative-ai-at-university/
CATEGORIES:Albury-Wodonga,Bendigo,Bundoora,City,Mildura,Multi-Campus,Online,Shepparton
END:VEVENT
BEGIN:VEVENT
DTSTART;TZID=Australia/Melbourne:20260224T110000
DTEND;TZID=Australia/Melbourne:20260224T140000
DTSTAMP:20260424T132934
CREATED:20260217T055325Z
LAST-MODIFIED:20260217T055328Z
UID:56993-1771930800-1771941600@www.latrobe.edu.au
SUMMARY:Spuds & Slot Cars @ Resi
DESCRIPTION:Get ready for a fun-filled day at LTSA Bendigo! We’re hanging out in person to enjoy some spuds and race those slot cars at RESI in carpark 7. Whether you’re a fan of tasty spuds or burning rubber on the slot car track\, this event’s got you covered. Come join the crew\, chill and have a blast. Can’t wait to see you all there!  \n\n\n\nCheck out all LTSA events here.
URL:https://www.latrobe.edu.au/mylatrobe/event/spuds-slot-cars-resi/
LOCATION:La Trobe University Campus Bendigo\, Edwards Road\, Flora Hill\, Victoria\, 3552\, Australia
CATEGORIES:Bendigo
END:VEVENT
BEGIN:VEVENT
DTSTART;TZID=Australia/Melbourne:20260224T160000
DTEND;TZID=Australia/Melbourne:20260224T170000
DTSTAMP:20260424T132934
CREATED:20251210T034019Z
LAST-MODIFIED:20251210T034019Z
UID:56303-1771948800-1771952400@www.latrobe.edu.au
SUMMARY:Study Essentials
DESCRIPTION:Discover some fundamental info about studying and completing assessments: what to expect\, available resources and where to get help.
URL:https://www.latrobe.edu.au/mylatrobe/event/study-essentials-4/
CATEGORIES:Albury-Wodonga,Bendigo,Bundoora,City,Mildura,Multi-Campus,Online,Shepparton
END:VEVENT
BEGIN:VEVENT
DTSTART;TZID=Australia/Melbourne:20260225T160000
DTEND;TZID=Australia/Melbourne:20260225T170000
DTSTAMP:20260424T132934
CREATED:20251210T034019Z
LAST-MODIFIED:20251210T034019Z
UID:56305-1772035200-1772038800@www.latrobe.edu.au
SUMMARY:Study Essentials for Postgraduate Students
DESCRIPTION:This session briefly reviews the language and critical skills needed for postgraduate study and introduces resources to help with academic writing. It is intended for postgraduate coursework students returning to study.
URL:https://www.latrobe.edu.au/mylatrobe/event/study-essentials-for-postgraduate-students/
CATEGORIES:Albury-Wodonga,Bendigo,Bundoora,City,Mildura,Multi-Campus,Online,Shepparton
END:VEVENT
BEGIN:VEVENT
DTSTART;TZID=Australia/Melbourne:20260225T180000
DTEND;TZID=Australia/Melbourne:20260225T200000
DTSTAMP:20260424T132934
CREATED:20260217T055840Z
LAST-MODIFIED:20260217T055845Z
UID:56996-1772042400-1772049600@www.latrobe.edu.au
SUMMARY:Barefoot Bowls & Pizza with LTSA Bendigo
DESCRIPTION:Get ready for a fun in-person hangout with LTSA Bendigo! We’re hitting the greens for some barefoot bowls – no shoes\, no worries – followed by delicious pizza. Perfect chance to relax\, chat\, and enjoy good eats with great company. Don’t miss out on this chilled-out event where the vibes are casual and the laughs are plenty. See you there! \n\n\n\nCheck out all LTSA events here.
URL:https://www.latrobe.edu.au/mylatrobe/event/barefoot-bowls-pizza-with-ltsa-bendigo/
LOCATION:South Bendigo Bowls Club\, 50 Palmerston Street\, Quarry Hill\, VIC\, 3550\, Australia
CATEGORIES:Bendigo
END:VEVENT
BEGIN:VEVENT
DTSTART;TZID=Australia/Melbourne:20260226T160000
DTEND;TZID=Australia/Melbourne:20260226T170000
DTSTAMP:20260424T132934
CREATED:20251210T034019Z
LAST-MODIFIED:20251210T034019Z
UID:56308-1772121600-1772125200@www.latrobe.edu.au
SUMMARY:Study Essentials
DESCRIPTION:Discover some fundamental info about studying and completing assessments: what to expect\, available resources and where to get help.
URL:https://www.latrobe.edu.au/mylatrobe/event/study-essentials-3/
CATEGORIES:Albury-Wodonga,Bendigo,Bundoora,City,Mildura,Multi-Campus,Online,Shepparton
END:VEVENT
BEGIN:VEVENT
DTSTART;TZID=Australia/Melbourne:20260227T110000
DTEND;TZID=Australia/Melbourne:20260227T120000
DTSTAMP:20260424T132934
CREATED:20251210T034018Z
LAST-MODIFIED:20260303T030531Z
UID:56310-1772190000-1772193600@www.latrobe.edu.au
SUMMARY:Tips for Online and Independent Study
DESCRIPTION:New to online learning? Studying in blended or online mode? Come along to this workshop to hear about some tips and tricks for staying motivated and engaged. Discover how many resources are available to help you succeed with online learning.
URL:https://www.latrobe.edu.au/mylatrobe/event/tips-for-online-and-independent-study-2/
CATEGORIES:Albury-Wodonga,Bendigo,Bundoora,City,Mildura,Multi-Campus,Online,Shepparton
END:VEVENT
BEGIN:VEVENT
DTSTART;TZID=Australia/Melbourne:20260227T130000
DTEND;TZID=Australia/Melbourne:20260227T140000
DTSTAMP:20260424T132934
CREATED:20251210T034018Z
LAST-MODIFIED:20251210T034018Z
UID:56312-1772197200-1772200800@www.latrobe.edu.au
SUMMARY:Studying as a Parent
DESCRIPTION:Get some tips and learn about the services available to you to make studying as a parent just a little easier. You’ll also have a chance to ask questions and meet other parents.
URL:https://www.latrobe.edu.au/mylatrobe/event/studying-as-a-parent-2/
CATEGORIES:Albury-Wodonga,Bendigo,Bundoora,City,Mildura,Multi-Campus,Online,Shepparton
END:VEVENT
BEGIN:VEVENT
DTSTART;TZID=Australia/Melbourne:20260227T173000
DTEND;TZID=Australia/Melbourne:20260227T223000
DTSTAMP:20260424T132934
CREATED:20260212T034449Z
LAST-MODIFIED:20260212T034944Z
UID:56895-1772213400-1772231400@www.latrobe.edu.au
SUMMARY:LTSA Mildura Orientation Week Party
DESCRIPTION:New and returning LTU students (plus a friend!) are invited to join us for a FREE night of food\, drinks\, games and prizes at the Mildura Boathouse. Secure your spot at the link below and get ready for a fun start to the uni year. \n\n\n\n\n\n\nRegister now
URL:https://www.latrobe.edu.au/mylatrobe/event/ltsa-mildura-orientation-week-party/
LOCATION:The Mildura Boathouse\, 143 Hugh King Drive\, Mildura\, VIC\, 3500\, Australia
CATEGORIES:Mildura
ATTACH;FMTTYPE=image/png:https://www.latrobe.edu.au/mylatrobe/wp-content/uploads/2026/02/MILDURA-OWEEK-PARTY-POSTER.png
END:VEVENT
BEGIN:VEVENT
DTSTART;TZID=Australia/Melbourne:20260228T073000
DTEND;TZID=Australia/Melbourne:20260228T190000
DTSTAMP:20260424T132934
CREATED:20260217T054556Z
LAST-MODIFIED:20260217T054902Z
UID:56986-1772263800-1772305200@www.latrobe.edu.au
SUMMARY:Funfields Day Trip with LTSA Bendigo
DESCRIPTION:Join us in person for a fun-filled adventure packed with thrilling rides\, relaxing spots\, and good vibes all around. It’s the perfect chance to hang out\, laugh\, and make some great memories. Don’t miss out on the excitement – come along and enjoy a fantastic day at Funfields with your fellow students from Shepparton\, Albury/Wodonga\, City & International. \n\n\n\nTicket includes entry to park\, bus transport and lunch voucher. Don’t forget to pack your swim suit/bathers\, sunscreen and a towel. Check out all LTSA events here.
URL:https://www.latrobe.edu.au/mylatrobe/event/funfields-day-trip-with-ltsa-bendigo/
CATEGORIES:Bendigo
END:VEVENT
BEGIN:VEVENT
DTSTART;TZID=Australia/Melbourne:20260228T090000
DTEND;TZID=Australia/Melbourne:20260228T090000
DTSTAMP:20260424T132934
CREATED:20260302T230800Z
LAST-MODIFIED:20260302T230800Z
UID:57460-1772269200-1772269200@www.latrobe.edu.au
SUMMARY:LTSA Bendigo-Funfields Day Trip
DESCRIPTION:Get ready for an awesome day out with the LTSA Funfields Day Trip! Join us in person for a fun-filled adventure packed with thrilling rides\, relaxing spots\, and good vibes all around. It’s the perfect chance to hang out\, laugh\, and make some great memories. Don’t miss out on the excitement – come along and enjoy a fantastic day at Funfields with your fellow students from Shepparton\, Albury/Wodonga\, City & International.\nTicket includes:Entry to park\, bus transport and lunch voucher. \n*Don’t forget to pack your swim suit/bathers and a towel.
URL:https://www.latrobe.edu.au/mylatrobe/event/ltsa-bendigo-funfields-day-trip/
CATEGORIES:Albury-Wodonga,Bendigo,In-person,Shepparton
END:VEVENT
BEGIN:VEVENT
DTSTART;TZID=Australia/Melbourne:20260228T090000
DTEND;TZID=Australia/Melbourne:20260228T180000
DTSTAMP:20260424T132934
CREATED:20260211T043937Z
LAST-MODIFIED:20260211T044924Z
UID:56861-1772269200-1772301600@www.latrobe.edu.au
SUMMARY:LTSA Funfields Day Trip
DESCRIPTION:Join us for a fun-filled day at Funfields Fun Park with LTSA friends – rides\, laughs and good vibes guaranteed! \n\n\n\nIt’s the perfect chance to hang out\, and make some great memories. Don’t miss out on the excitement – come along and enjoy all the fun of the theme park while making new friends. \n\n\n\nYour ticket includes entry to the park\, transport there and a lunch voucher. \n\n\n\nDon’t forget to pack your swimsuit/bathers and a towel! \n\n\n\nThis is open to students from the Bendigo\, Albury-Wodonga\, City and Shepparton campuses\, as well as all international students.  \n\n\n\nBook your spot on the bus from your closest campus using the links below: \n\n\n\n\nCity + international students\n\n\n\nShepparton students\n\n\n\nBendigo students\n\n\n\nAlbury-Wodonga students
URL:https://www.latrobe.edu.au/mylatrobe/event/ltsa-funfields-day-trip/
LOCATION:Funfields Fun Park\, 2365 Plenty Rd\, Whittlesea\, 3757\, Australia
CATEGORIES:Albury-Wodonga,Bendigo,City,Multi-Campus,Shepparton
ATTACH;FMTTYPE=image/png:https://www.latrobe.edu.au/mylatrobe/wp-content/uploads/2026/02/FUNFIELDS-SOCIALS-1.png
END:VEVENT
BEGIN:VEVENT
DTSTART;TZID=Australia/Melbourne:20260302T110000
DTEND;TZID=Australia/Melbourne:20260302T110000
DTSTAMP:20260424T132934
CREATED:20260302T231400Z
LAST-MODIFIED:20260306T004940Z
UID:57461-1772449200-1772449200@www.latrobe.edu.au
SUMMARY:Improve your Library Search Skills
DESCRIPTION:Boost your study success by exploring strategies to find the right resources for your assessments and developing your search skills in searching the library collection.
URL:https://www.latrobe.edu.au/mylatrobe/event/improve-your-library-search-skills-8/
CATEGORIES:Albury-Wodonga,Bundoora,City,Mildura,Online,Shepparton
END:VEVENT
BEGIN:VEVENT
DTSTART;TZID=Australia/Melbourne:20260303T120000
DTEND;TZID=Australia/Melbourne:20260303T120000
DTSTAMP:20260424T132934
CREATED:20260306T052219Z
LAST-MODIFIED:20260306T052219Z
UID:57528-1772539200-1772539200@www.latrobe.edu.au
SUMMARY:Week 1 Activity - Chill in the yard
DESCRIPTION:Grab a FREE Sista by Stella Pressed juice\, Listen to music and play some games out in the LTU Student Courtyard
URL:https://www.latrobe.edu.au/mylatrobe/event/week-1-activity-chill-in-the-yard/
CATEGORIES:In-person,Shepparton
END:VEVENT
BEGIN:VEVENT
DTSTART;TZID=Australia/Melbourne:20260304T090000
DTEND;TZID=Australia/Melbourne:20260304T103000
DTSTAMP:20260424T132934
CREATED:20260303T002454Z
LAST-MODIFIED:20260303T024204Z
UID:57504-1772614800-1772620200@www.latrobe.edu.au
SUMMARY:LTSA Free Breakfast
DESCRIPTION:Come along to grab free snacks\, breakfast\, or a hot drink from the LTSA’s free weekly breakfasts! Cereal\, toast\, fruit\, snacks\, and hot drinks available every Wednesday
URL:https://www.latrobe.edu.au/mylatrobe/event/ltsa-free-breakfast-3/
CATEGORIES:Albury-Wodonga,In-person
END:VEVENT
BEGIN:VEVENT
DTSTART;TZID=Australia/Melbourne:20260304T110000
DTEND;TZID=Australia/Melbourne:20260304T110000
DTSTAMP:20260424T132934
CREATED:20260302T105839Z
LAST-MODIFIED:20260302T105839Z
UID:57317-1772622000-1772622000@www.latrobe.edu.au
SUMMARY:NBA 2K Tournament with La Trobe Sport
DESCRIPTION:Meet new people\, take on your friends\, win prizes with the La Trobe Sport FIFA Tournament in the Club House. Register now to secure your spot https://www.teamlatrobe.com.au/events/342180.
URL:https://www.latrobe.edu.au/mylatrobe/event/nba-2k-tournament-with-la-trobe-sport/
CATEGORIES:Bundoora,In-person
END:VEVENT
BEGIN:VEVENT
DTSTART;TZID=Australia/Melbourne:20260304T110000
DTEND;TZID=Australia/Melbourne:20260304T110000
DTSTAMP:20260424T132934
CREATED:20260302T110013Z
LAST-MODIFIED:20260302T110013Z
UID:57318-1772622000-1772622000@www.latrobe.edu.au
SUMMARY:Explore Melbourne City Tour
DESCRIPTION:When you join the Explore Melbourne City Tour\, you’re not just walking around and ticking off landmarks. You’ll be out with La Trobe Student Leaders who’ve taken the time to learn the city’s best spots\, hidden corners\, iconic monuments and local stories\, so they can share them with you in a way that actually feels real.
URL:https://www.latrobe.edu.au/mylatrobe/event/explore-melbourne-city-tour-5/
CATEGORIES:Bundoora,City,In-person
END:VEVENT
BEGIN:VEVENT
DTSTART;TZID=Australia/Melbourne:20260304T130000
DTEND;TZID=Australia/Melbourne:20260304T130000
DTSTAMP:20260424T132934
CREATED:20260302T110014Z
LAST-MODIFIED:20260302T110014Z
UID:57319-1772629200-1772629200@www.latrobe.edu.au
SUMMARY:Explore Melbourne City Tour
DESCRIPTION:When you join the Explore Melbourne City Tour\, you’re not just walking around and ticking off landmarks. You’ll be out with La Trobe Student Leaders who’ve taken the time to learn the city’s best spots\, hidden corners\, iconic monuments and local stories\, so they can share them with you in a way that actually feels real.
URL:https://www.latrobe.edu.au/mylatrobe/event/explore-melbourne-city-tour-6/
CATEGORIES:Bundoora,City,In-person
END:VEVENT
BEGIN:VEVENT
DTSTART;TZID=Australia/Melbourne:20260304T160000
DTEND;TZID=Australia/Melbourne:20260304T160000
DTSTAMP:20260424T132934
CREATED:20260302T105326Z
LAST-MODIFIED:20260306T004941Z
UID:57316-1772640000-1772640000@www.latrobe.edu.au
SUMMARY:Learn How to Reference
DESCRIPTION:Learn how and when you need to acknowledge the information you are using in your assessments using the Academic Referencing Tool (ART).
URL:https://www.latrobe.edu.au/mylatrobe/event/learn-how-to-reference-7/
LOCATION:Online
CATEGORIES:Albury-Wodonga,Bendigo,Bundoora,City,Mildura,Online,Shepparton
END:VEVENT
BEGIN:VEVENT
DTSTART;TZID=Australia/Melbourne:20260304T170000
DTEND;TZID=Australia/Melbourne:20260304T210000
DTSTAMP:20260424T132934
CREATED:20260302T235310Z
LAST-MODIFIED:20260303T024019Z
UID:57503-1772643600-1772658000@www.latrobe.edu.au
SUMMARY:LTSA Lawn Bowls and Pizza
DESCRIPTION:Start the new semester with some FREE lawn bowls with the LTSA! Grab your friends – new or old – and come along for some competition or fun! Registrations essential\, don’t miss out!
URL:https://www.latrobe.edu.au/mylatrobe/event/ltsa-lawn-bowls-and-pizza/
CATEGORIES:Albury-Wodonga,In-person
END:VEVENT
BEGIN:VEVENT
DTSTART;TZID=Australia/Melbourne:20260305T103000
DTEND;TZID=Australia/Melbourne:20260305T103000
DTSTAMP:20260424T132934
CREATED:20260302T231650Z
LAST-MODIFIED:20260302T231650Z
UID:57462-1772706600-1772706600@www.latrobe.edu.au
SUMMARY:Free Coffee Thursday!!
DESCRIPTION:Need a caffeine hit\, or a nice hot chocolate? We’ve got you.Swing by the LSU on Thursday and say ‘Hi’ to the Student Engagement Team\, and score a FREE coffee\nLimited numbers available\, so get in quick!
URL:https://www.latrobe.edu.au/mylatrobe/event/free-coffee-thursday/
CATEGORIES:Bendigo,In-person
END:VEVENT
BEGIN:VEVENT
DTSTART;TZID=Australia/Melbourne:20260305T110000
DTEND;TZID=Australia/Melbourne:20260305T110000
DTSTAMP:20260424T132934
CREATED:20260302T110014Z
LAST-MODIFIED:20260302T110014Z
UID:57322-1772708400-1772708400@www.latrobe.edu.au
SUMMARY:Explore Melbourne City Tour
DESCRIPTION:When you join the Explore Melbourne City Tour\, you’re not just walking around and ticking off landmarks. You’ll be out with La Trobe Student Leaders who’ve taken the time to learn the city’s best spots\, hidden corners\, iconic monuments and local stories\, so they can share them with you in a way that actually feels real.
URL:https://www.latrobe.edu.au/mylatrobe/event/explore-melbourne-city-tour-7/
CATEGORIES:Bundoora,City,In-person
END:VEVENT
BEGIN:VEVENT
DTSTART;TZID=Australia/Melbourne:20260305T120000
DTEND;TZID=Australia/Melbourne:20260305T120000
DTSTAMP:20260424T132934
CREATED:20260302T105326Z
LAST-MODIFIED:20260306T004941Z
UID:57320-1772712000-1772712000@www.latrobe.edu.au
SUMMARY:Planning for a Successful Semester
DESCRIPTION:This session will cover strategies for managing your workload and time effectively\, so that you can take charge of your study success. Note: this session is run by the Library Learning Services team and does not cover enrolment\, timetabling or admin topics.
URL:https://www.latrobe.edu.au/mylatrobe/event/planning-for-a-successful-semester-3/
LOCATION:Online
CATEGORIES:Albury-Wodonga,Bendigo,Bundoora,City,Mildura,Online,Shepparton
END:VEVENT
BEGIN:VEVENT
DTSTART;TZID=Australia/Melbourne:20260305T130000
DTEND;TZID=Australia/Melbourne:20260305T130000
DTSTAMP:20260424T132934
CREATED:20260302T110014Z
LAST-MODIFIED:20260302T110014Z
UID:57323-1772715600-1772715600@www.latrobe.edu.au
SUMMARY:Explore Melbourne City Tour
DESCRIPTION:When you join the Explore Melbourne City Tour\, you’re not just walking around and ticking off landmarks. You’ll be out with La Trobe Student Leaders who’ve taken the time to learn the city’s best spots\, hidden corners\, iconic monuments and local stories\, so they can share them with you in a way that actually feels real.
URL:https://www.latrobe.edu.au/mylatrobe/event/explore-melbourne-city-tour-8/
CATEGORIES:Bundoora,City,In-person
END:VEVENT
BEGIN:VEVENT
DTSTART;TZID=Australia/Melbourne:20260305T150000
DTEND;TZID=Australia/Melbourne:20260305T150000
DTSTAMP:20260424T132934
CREATED:20260302T105326Z
LAST-MODIFIED:20260306T004942Z
UID:57321-1772722800-1772722800@www.latrobe.edu.au
SUMMARY:Manage your References with Endnote
DESCRIPTION:Learn how to use EndNote for reference management. Create a library\, add and modify references and use EndNote within Microsoft Word. Attendees are advised to have prior knowledge of referencing. **Please have EndNote installed before the workshop**
URL:https://www.latrobe.edu.au/mylatrobe/event/manage-your-references-with-endnote-8/
LOCATION:Online
CATEGORIES:Albury-Wodonga,Bendigo,Bundoora,City,Mildura,Online,Shepparton
END:VEVENT
BEGIN:VEVENT
DTSTART;TZID=Australia/Melbourne:20260305T170000
DTEND;TZID=Australia/Melbourne:20260305T170000
DTSTAMP:20260424T132934
CREATED:20260302T231729Z
LAST-MODIFIED:20260302T231729Z
UID:57463-1772730000-1772730000@www.latrobe.edu.au
SUMMARY:LTSA Bendigo-Twilight Welcome
DESCRIPTION:Join us in person for the LTSA Bendigo-Twilight Welcome! It’s the perfect chance to meet cool people and enjoy great vibes.Don’t miss out on this relaxed and fun event right in the Plaza. See you there!\nLTSA’s Twilight Welcome is on again and is a great way to start 2026\nEnjoy the unique experience of grabbing a drink from Kombi Keg\, live music from Jessica Lorraine (JessicaLorraineMusic) and her brother Toby Brooks and delicious food and dessert.
URL:https://www.latrobe.edu.au/mylatrobe/event/ltsa-bendigo-twilight-welcome/
CATEGORIES:Bendigo,In-person
END:VEVENT
END:VCALENDAR