BEGIN:VCALENDAR
VERSION:2.0
PRODID:-//MyLaTrobe - ECPv6.15.20//NONSGML v1.0//EN
CALSCALE:GREGORIAN
METHOD:PUBLISH
X-ORIGINAL-URL:https://www.latrobe.edu.au/mylatrobe
X-WR-CALDESC:Events for MyLaTrobe
REFRESH-INTERVAL;VALUE=DURATION:PT1H
X-Robots-Tag:noindex
X-PUBLISHED-TTL:PT1H
BEGIN:VTIMEZONE
TZID:Australia/Melbourne
BEGIN:STANDARD
TZOFFSETFROM:+1100
TZOFFSETTO:+1000
TZNAME:AEST
DTSTART:20250405T160000
END:STANDARD
BEGIN:DAYLIGHT
TZOFFSETFROM:+1000
TZOFFSETTO:+1100
TZNAME:AEDT
DTSTART:20251004T160000
END:DAYLIGHT
BEGIN:STANDARD
TZOFFSETFROM:+1100
TZOFFSETTO:+1000
TZNAME:AEST
DTSTART:20260404T160000
END:STANDARD
BEGIN:DAYLIGHT
TZOFFSETFROM:+1000
TZOFFSETTO:+1100
TZNAME:AEDT
DTSTART:20261003T160000
END:DAYLIGHT
BEGIN:STANDARD
TZOFFSETFROM:+1100
TZOFFSETTO:+1000
TZNAME:AEST
DTSTART:20270403T160000
END:STANDARD
BEGIN:DAYLIGHT
TZOFFSETFROM:+1000
TZOFFSETTO:+1100
TZNAME:AEDT
DTSTART:20271002T160000
END:DAYLIGHT
END:VTIMEZONE
BEGIN:VEVENT
DTSTART;TZID=Australia/Melbourne:20260430T110000
DTEND;TZID=Australia/Melbourne:20260430T110000
DTSTAMP:20260425T203754
CREATED:20260302T231850Z
LAST-MODIFIED:20260302T231850Z
UID:57475-1777546800-1777546800@www.latrobe.edu.au
SUMMARY:Free Hot Chips Thursday!!
DESCRIPTION:Free hot chips? Yes please!!On Thursday\, students can grab a serve of FREE hot chips—just pop into the LSU and visit a friendly face from the Student Engagement Team.\nHot\, crispy\, and totally free. Limited numbers available\, so get in quick!
URL:https://www.latrobe.edu.au/mylatrobe/event/free-hot-chips-thursday-3/
CATEGORIES:Bendigo,In-person
END:VEVENT
BEGIN:VEVENT
DTSTART;TZID=Australia/Melbourne:20260505T090000
DTEND;TZID=Australia/Melbourne:20260505T110000
DTSTAMP:20260425T203754
CREATED:20260422T023824Z
LAST-MODIFIED:20260422T023827Z
UID:58545-1777971600-1777978800@www.latrobe.edu.au
SUMMARY:Autumn Photo Challenge
DESCRIPTION:Join us for a fun and creative Autumn Photo Challenge on campus! Students will work in teams to complete themed photography tasks\, explore the campus\, and connect with others in a relaxed and engaging environment. \n\n\n\nThe event will include refreshments (coffee and snacks) and a chance to win a mini digital cameras for the best team.
URL:https://www.latrobe.edu.au/mylatrobe/event/autumn-photo-challenge/
LOCATION:Agora\, Melbourne (Bundoora) Campus\, Plenty Rd & Kingsbury Drive Bundoora Victoria 3086
CATEGORIES:Bundoora
ATTACH;FMTTYPE=image/png:https://www.latrobe.edu.au/mylatrobe/wp-content/uploads/2026/04/Poster-scaled.png
END:VEVENT
BEGIN:VEVENT
DTSTART;TZID=Australia/Melbourne:20260505T120000
DTEND;TZID=Australia/Melbourne:20260505T120000
DTSTAMP:20260425T203754
CREATED:20260303T055801Z
LAST-MODIFIED:20260324T004152Z
UID:57631-1777982400-1777982400@www.latrobe.edu.au
SUMMARY:Chill Out Tuesdays
DESCRIPTION:Come down to the Agora for a FREE gelati and sit back and relax.
URL:https://www.latrobe.edu.au/mylatrobe/event/chill-out-tuesdays-3/
LOCATION:Agora
CATEGORIES:Bundoora
ATTACH;FMTTYPE=image/png:https://www.latrobe.edu.au/mylatrobe/wp-content/uploads/2026/03/BU-Free-Gelato-.png
END:VEVENT
BEGIN:VEVENT
DTSTART;TZID=Australia/Melbourne:20260505T181500
DTEND;TZID=Australia/Melbourne:20260505T203000
DTSTAMP:20260425T203754
CREATED:20260424T045826Z
LAST-MODIFIED:20260424T050328Z
UID:58610-1778004900-1778013000@www.latrobe.edu.au
SUMMARY:The Regional Connect Movie Night
DESCRIPTION:As a La Trobe Shepparton student\, we would like to offer a fun night out on us to see The Devil Wears Prada 2! Your booking gets you up to 2 complimentary tickets and snacks\, so bring a friend if you like. \n\n\n\n🗓️Tuesday 5 May 2026 \n\n\n\n⌚6:15pm (*arrive promptly to get your tickets and snacks) \n\n\n\n📍Village Cinemas Shepparton – 9/13 Stewart St \n\n\n\nRegistrations essential by Sunday 3 May. \n\n\n\nBookings are limited so get in quick.
URL:https://www.latrobe.edu.au/mylatrobe/event/the-regional-connect-movie-night/
CATEGORIES:Online,Shepparton
END:VEVENT
BEGIN:VEVENT
DTSTART;TZID=Australia/Melbourne:20260507T110000
DTEND;TZID=Australia/Melbourne:20260507T110000
DTSTAMP:20260425T203754
CREATED:20260302T231850Z
LAST-MODIFIED:20260302T231850Z
UID:57476-1778151600-1778151600@www.latrobe.edu.au
SUMMARY:Free Hot Chips Thursday!!
DESCRIPTION:Free hot chips? Yes please!!On Thursday\, students can grab a serve of FREE hot chips—just pop into the LSU and visit a friendly face from the Student Engagement Team.\nHot\, crispy\, and totally free. Limited numbers available\, so get in quick!
URL:https://www.latrobe.edu.au/mylatrobe/event/free-hot-chips-thursday-4/
CATEGORIES:Bendigo,In-person
END:VEVENT
BEGIN:VEVENT
DTSTART;TZID=Australia/Melbourne:20260511T110000
DTEND;TZID=Australia/Melbourne:20260511T120000
DTSTAMP:20260425T203754
CREATED:20260415T063740Z
LAST-MODIFIED:20260415T063740Z
UID:58406-1778497200-1778500800@www.latrobe.edu.au
SUMMARY:Assessment Writing Skills
DESCRIPTION:Understand what is expected in academic writing at university\, including: academic language\, tone\, structure\, paragraphs\, using sources and referencing. And know where to get support for these areas.
URL:https://www.latrobe.edu.au/mylatrobe/event/assessment-writing-skills-10/
LOCATION:Online via Zoom
CATEGORIES:Albury-Wodonga,Albury-Wodonga;Bendigo;Bundoora;City;Mildura;Shepparton;Online,Bendigo,Bundoora,City,Mildura,Online,Shepparton,Sydney
END:VEVENT
BEGIN:VEVENT
DTSTART;TZID=Australia/Melbourne:20260512T100000
DTEND;TZID=Australia/Melbourne:20260512T110000
DTSTAMP:20260425T203754
CREATED:20260415T063740Z
LAST-MODIFIED:20260415T063740Z
UID:58407-1778580000-1778583600@www.latrobe.edu.au
SUMMARY:Improve your Library Search Skills
DESCRIPTION:Boost your study success by exploring strategies to find the right resources for your assessments and developing your search skills in Library Search.
URL:https://www.latrobe.edu.au/mylatrobe/event/improve-your-library-search-skills-10/
LOCATION:Online via Zoom
CATEGORIES:Albury-Wodonga,Albury-Wodonga;Bendigo;Bundoora;City;Mildura;Shepparton;Online,Bendigo,Bundoora,City,Mildura,Online,Shepparton,Sydney
END:VEVENT
BEGIN:VEVENT
DTSTART;TZID=Australia/Melbourne:20260513T110000
DTEND;TZID=Australia/Melbourne:20260513T120000
DTSTAMP:20260425T203754
CREATED:20260415T063740Z
LAST-MODIFIED:20260415T063740Z
UID:58408-1778670000-1778673600@www.latrobe.edu.au
SUMMARY:Using Library Databases and Google Scholar
DESCRIPTION:Boost your study success by exploring strategies to find the right resources for your assessments and developing your search skills in Library databases and Google Scholar.
URL:https://www.latrobe.edu.au/mylatrobe/event/using-library-databases-and-google-scholar-8/
LOCATION:Online via Zoom
CATEGORIES:Albury-Wodonga,Albury-Wodonga;Bendigo;Bundoora;City;Mildura;Shepparton;Online,Bendigo,Bundoora,City,Mildura,Online,Shepparton,Sydney
END:VEVENT
BEGIN:VEVENT
DTSTART;TZID=Australia/Melbourne:20260514T083000
DTEND;TZID=Australia/Melbourne:20260514T083000
DTSTAMP:20260425T203754
CREATED:20260303T055604Z
LAST-MODIFIED:20260324T004351Z
UID:57632-1778747400-1778747400@www.latrobe.edu.au
SUMMARY:It's Coffee O'Clock
DESCRIPTION:Grab a FREE coffee in the library and meet the In2Science team.
URL:https://www.latrobe.edu.au/mylatrobe/event/its-coffee-oclock-4/
CATEGORIES:Bundoora
ATTACH;FMTTYPE=image/png:https://www.latrobe.edu.au/mylatrobe/wp-content/uploads/2026/03/Free-Coffee-Thursdays.png
END:VEVENT
BEGIN:VEVENT
DTSTART;TZID=Australia/Melbourne:20260514T110000
DTEND;TZID=Australia/Melbourne:20260514T110000
DTSTAMP:20260425T203754
CREATED:20260302T231850Z
LAST-MODIFIED:20260302T231850Z
UID:57477-1778756400-1778756400@www.latrobe.edu.au
SUMMARY:Free Hot Chips Thursday!!
DESCRIPTION:Free hot chips? Yes please!!On Thursday\, students can grab a serve of FREE hot chips—just pop into the LSU and visit a friendly face from the Student Engagement Team.\nHot\, crispy\, and totally free. Limited numbers available\, so get in quick!
URL:https://www.latrobe.edu.au/mylatrobe/event/free-hot-chips-thursday-5/
CATEGORIES:Bendigo,In-person
END:VEVENT
BEGIN:VEVENT
DTSTART;TZID=Australia/Melbourne:20260514T160000
DTEND;TZID=Australia/Melbourne:20260514T170000
DTSTAMP:20260425T203754
CREATED:20260415T064828Z
LAST-MODIFIED:20260415T064832Z
UID:58423-1778774400-1778778000@www.latrobe.edu.au
SUMMARY:Learn How to Reference
DESCRIPTION:Learn how and when you need to acknowledge the information you are using in your assessments using the Academic Referencing Tool (ART).
URL:https://www.latrobe.edu.au/mylatrobe/event/learn-how-to-reference-10/
CATEGORIES:Albury-Wodonga,Bendigo,Bundoora,City,Mildura,Online,Shepparton,Sydney
END:VEVENT
BEGIN:VEVENT
DTSTART;TZID=Australia/Melbourne:20260515T090000
DTEND;TZID=Australia/Melbourne:20260515T090000
DTSTAMP:20260425T203754
CREATED:20260302T110742Z
LAST-MODIFIED:20260306T005456Z
UID:57366-1778835600-1778835600@www.latrobe.edu.au
SUMMARY:UniSport Swimming Nationals
DESCRIPTION:Team La Trobe is heading to UniSport Swimming Nationals from 15–17 May 2026 at Sydney Olympic Park as part of the Swimming NSW 2026 Sydney Open. Compete in men’s and women’s events\, with multi-class events also on offer.
URL:https://www.latrobe.edu.au/mylatrobe/event/unisport-swimming-nationals-3/
CATEGORIES:Albury-Wodonga,Bendigo,Bundoora,City,In-person,Mildura,Shepparton
END:VEVENT
BEGIN:VEVENT
DTSTART;TZID=Australia/Melbourne:20260519T120000
DTEND;TZID=Australia/Melbourne:20260519T120000
DTSTAMP:20260425T203754
CREATED:20260303T055801Z
LAST-MODIFIED:20260324T004524Z
UID:57634-1779192000-1779192000@www.latrobe.edu.au
SUMMARY:Chill Out Tuesdays
DESCRIPTION:Come down to the Agora for a FREE gelati and sit back and relax.
URL:https://www.latrobe.edu.au/mylatrobe/event/chill-out-tuesdays-2/
LOCATION:Agora
CATEGORIES:Bundoora
ATTACH;FMTTYPE=image/png:https://www.latrobe.edu.au/mylatrobe/wp-content/uploads/2026/03/BU-Free-Gelato-.png
END:VEVENT
BEGIN:VEVENT
DTSTART;TZID=Australia/Melbourne:20260521T110000
DTEND;TZID=Australia/Melbourne:20260521T110000
DTSTAMP:20260425T203754
CREATED:20260302T231850Z
LAST-MODIFIED:20260302T231850Z
UID:57478-1779361200-1779361200@www.latrobe.edu.au
SUMMARY:Free Hot Chips Thursday!!
DESCRIPTION:Free hot chips? Yes please!!On Thursday\, students can grab a serve of FREE hot chips—just pop into the LSU and visit a friendly face from the Student Engagement Team.\nHot\, crispy\, and totally free. Limited numbers available\, so get in quick!
URL:https://www.latrobe.edu.au/mylatrobe/event/free-hot-chips-thursday-6/
CATEGORIES:Bendigo,In-person
END:VEVENT
BEGIN:VEVENT
DTSTART;TZID=Australia/Melbourne:20260528T083000
DTEND;TZID=Australia/Melbourne:20260528T083000
DTSTAMP:20260425T203754
CREATED:20260303T055604Z
LAST-MODIFIED:20260324T004737Z
UID:57635-1779957000-1779957000@www.latrobe.edu.au
SUMMARY:It's Coffee O'Clock
DESCRIPTION:Grab a FREE coffee to finish off the semester!
URL:https://www.latrobe.edu.au/mylatrobe/event/its-coffee-oclock-3/
CATEGORIES:Bundoora
ATTACH;FMTTYPE=image/png:https://www.latrobe.edu.au/mylatrobe/wp-content/uploads/2026/03/Free-Coffee-Thursdays.png
END:VEVENT
BEGIN:VEVENT
DTSTART;TZID=Australia/Melbourne:20260528T110000
DTEND;TZID=Australia/Melbourne:20260528T110000
DTSTAMP:20260425T203754
CREATED:20260302T231851Z
LAST-MODIFIED:20260302T231851Z
UID:57479-1779966000-1779966000@www.latrobe.edu.au
SUMMARY:Free Hot Chips Thursday!!
DESCRIPTION:Free hot chips? Yes please!!On Thursday\, students can grab a serve of FREE hot chips—just pop into the LSU and visit a friendly face from the Student Engagement Team.\nHot\, crispy\, and totally free. Limited numbers available\, so get in quick!
URL:https://www.latrobe.edu.au/mylatrobe/event/free-hot-chips-thursday-7/
CATEGORIES:Bendigo,In-person
END:VEVENT
BEGIN:VEVENT
DTSTART;TZID=Australia/Melbourne:20260704T080000
DTEND;TZID=Australia/Melbourne:20260704T080000
DTSTAMP:20260425T203754
CREATED:20260302T110742Z
LAST-MODIFIED:20260306T005504Z
UID:57367-1783152000-1783152000@www.latrobe.edu.au
SUMMARY:UniSport Nationals Distance Running
DESCRIPTION:Team La Trobe is heading to UniSport Distance Running from 4–5 July 2026\, held in conjunction with the Gold Coast Marathon. Students can compete in the 10km\, half marathon and marathon events across men’s and women’s competitions\, with multi-class events also included.
URL:https://www.latrobe.edu.au/mylatrobe/event/unisport-nationals-distance-running/
CATEGORIES:Albury-Wodonga,Bendigo,Bundoora,City,In-person,Mildura,Shepparton
END:VEVENT
BEGIN:VEVENT
DTSTART;TZID=Australia/Melbourne:20260727T080000
DTEND;TZID=Australia/Melbourne:20260727T080000
DTSTAMP:20260425T203754
CREATED:20260302T110742Z
LAST-MODIFIED:20260306T005620Z
UID:57368-1785139200-1785139200@www.latrobe.edu.au
SUMMARY:UniSport Nationals Cricket
DESCRIPTION:Team La Trobe is heading to UniSport T20 Cricket from 27–31 July 2026 on the Sunshine Coast\, Queensland. Men’s and women’s competitions will be played across multiple venues\, including Maroochydore Cricket Club and Caloundra Cricket Club.
URL:https://www.latrobe.edu.au/mylatrobe/event/unisport-nationals-cricket/
CATEGORIES:Albury-Wodonga,Bendigo,Bundoora,City,In-person,Mildura,Shepparton
END:VEVENT
BEGIN:VEVENT
DTSTART;TZID=Australia/Melbourne:20260926T080000
DTEND;TZID=Australia/Melbourne:20260926T080000
DTSTAMP:20260425T203754
CREATED:20260302T110742Z
LAST-MODIFIED:20260415T062739Z
UID:57369-1790409600-1790409600@www.latrobe.edu.au
SUMMARY:UniSport University Nationals (Perth)
DESCRIPTION:Team La Trobe is heading to the 2026 UniSport Nationals in Perth\, bringing together over 5\,000 students from across the country to compete for national titles across 30 different sports.
URL:https://www.latrobe.edu.au/mylatrobe/event/unisport-university-nationals-perth/
CATEGORIES:Albury-Wodonga,Bendigo,Bundoora,City,In-person,Mildura,Shepparton
END:VEVENT
END:VCALENDAR