BEGIN:VCALENDAR
VERSION:2.0
PRODID:-//MyLaTrobe - ECPv6.15.20//NONSGML v1.0//EN
CALSCALE:GREGORIAN
METHOD:PUBLISH
X-ORIGINAL-URL:https://www.latrobe.edu.au/mylatrobe
X-WR-CALDESC:Events for MyLaTrobe
REFRESH-INTERVAL;VALUE=DURATION:PT1H
X-Robots-Tag:noindex
X-PUBLISHED-TTL:PT1H
BEGIN:VTIMEZONE
TZID:Australia/Melbourne
BEGIN:STANDARD
TZOFFSETFROM:+1100
TZOFFSETTO:+1000
TZNAME:AEST
DTSTART:20250405T160000
END:STANDARD
BEGIN:DAYLIGHT
TZOFFSETFROM:+1000
TZOFFSETTO:+1100
TZNAME:AEDT
DTSTART:20251004T160000
END:DAYLIGHT
BEGIN:STANDARD
TZOFFSETFROM:+1100
TZOFFSETTO:+1000
TZNAME:AEST
DTSTART:20260404T160000
END:STANDARD
BEGIN:DAYLIGHT
TZOFFSETFROM:+1000
TZOFFSETTO:+1100
TZNAME:AEDT
DTSTART:20261003T160000
END:DAYLIGHT
BEGIN:STANDARD
TZOFFSETFROM:+1100
TZOFFSETTO:+1000
TZNAME:AEST
DTSTART:20270403T160000
END:STANDARD
BEGIN:DAYLIGHT
TZOFFSETFROM:+1000
TZOFFSETTO:+1100
TZNAME:AEDT
DTSTART:20271002T160000
END:DAYLIGHT
END:VTIMEZONE
BEGIN:VEVENT
DTSTART;TZID=Australia/Melbourne:20260402T100000
DTEND;TZID=Australia/Melbourne:20260402T100000
DTSTAMP:20260425T105656
CREATED:20260302T110959Z
LAST-MODIFIED:20260303T054217Z
UID:57359-1775124000-1775124000@www.latrobe.edu.au
SUMMARY:LGBTIQA+ Ally training
DESCRIPTION:LGBTIQA+ Ally Training aims to create a more diverse and inclusive LGBTIQA+ culture and greater visibility and awareness of the issues facing lesbian\, gay\, bisexual\, pansexual\, transgender\, non-binary\, intersex\, queer\, questioning\, and asexual (LGBTIQA+) students and staff.
URL:https://www.latrobe.edu.au/mylatrobe/event/lgbtiqa-ally-training-3/
CATEGORIES:Bundoora,In-person
END:VEVENT
BEGIN:VEVENT
DTSTART;TZID=Australia/Melbourne:20260402T103000
DTEND;TZID=Australia/Melbourne:20260402T103000
DTSTAMP:20260425T105656
CREATED:20260302T231651Z
LAST-MODIFIED:20260302T231651Z
UID:57471-1775125800-1775125800@www.latrobe.edu.au
SUMMARY:Free Coffee Thursday!!
DESCRIPTION:Need a caffeine hit\, or a nice hot chocolate? We’ve got you.Swing by the LSU on Thursday and say ‘Hi’ to the Student Engagement Team\, and score a FREE coffee\nLimited numbers available\, so get in quick!
URL:https://www.latrobe.edu.au/mylatrobe/event/free-coffee-thursday-5/
CATEGORIES:Bendigo,In-person
END:VEVENT
BEGIN:VEVENT
DTSTART;TZID=Australia/Melbourne:20260402T110000
DTEND;TZID=Australia/Melbourne:20260402T110000
DTSTAMP:20260425T105656
CREATED:20260302T110841Z
LAST-MODIFIED:20260306T005449Z
UID:57360-1775127600-1775127600@www.latrobe.edu.au
SUMMARY:Fast-Track your Reading and Note Taking
DESCRIPTION:Master the art of effective academic reading in our practical workshop. Learn proven strategies to tackle complex texts with confidence\, read more efficiently\, and develop stronger critical analysis skills.
URL:https://www.latrobe.edu.au/mylatrobe/event/fast-track-your-reading-and-note-taking-3/
LOCATION:Online
CATEGORIES:Albury-Wodonga,Bendigo,Bundoora,City,Mildura,Online,Shepparton
END:VEVENT
BEGIN:VEVENT
DTSTART;TZID=Australia/Melbourne:20260413T110000
DTEND;TZID=Australia/Melbourne:20260413T120000
DTSTAMP:20260425T105656
CREATED:20260415T063738Z
LAST-MODIFIED:20260415T063738Z
UID:58389-1776078000-1776081600@www.latrobe.edu.au
SUMMARY:Improve your Library Search Skills
DESCRIPTION:Boost your study success by exploring strategies to find the right resources for your assessments and developing your search skills in Library Search.
URL:https://www.latrobe.edu.au/mylatrobe/event/improve-your-library-search-skills-9/
LOCATION:Online via Zoom
CATEGORIES:Albury-Wodonga,Albury-Wodonga;Bendigo;Bundoora;City;Mildura;Shepparton;Online,Bendigo,Bundoora,City,Mildura,Online,Shepparton,Sydney
END:VEVENT
BEGIN:VEVENT
DTSTART;TZID=Australia/Melbourne:20260413T180000
DTEND;TZID=Australia/Melbourne:20260413T180000
DTSTAMP:20260425T105656
CREATED:20260302T232106Z
LAST-MODIFIED:20260302T232106Z
UID:57472-1776103200-1776103200@www.latrobe.edu.au
SUMMARY:Monday 3x3 Basketball - La Trobe League
DESCRIPTION:La Trobe League Monday 3×3 Basketball is La Trobe’s newest competition in Bendigo\, and caters towards La Trobe University students\, staff\, and anyone from the community. Competitions are played in semester weeks\, with the competition catering towards any skill level.
URL:https://www.latrobe.edu.au/mylatrobe/event/monday-3x3-basketball-la-trobe-league/
CATEGORIES:Bendigo,In-person
END:VEVENT
BEGIN:VEVENT
DTSTART;TZID=Australia/Melbourne:20260414T140000
DTEND;TZID=Australia/Melbourne:20260414T150000
DTSTAMP:20260425T105656
CREATED:20260415T063738Z
LAST-MODIFIED:20260415T063738Z
UID:58390-1776175200-1776178800@www.latrobe.edu.au
SUMMARY:Using Library Databases and Google Scholar
DESCRIPTION:Boost your study success by exploring strategies to find the right resources for your assessments and developing your search skills in Library databases and Google Scholar.
URL:https://www.latrobe.edu.au/mylatrobe/event/using-library-databases-and-google-scholar-7/
LOCATION:Online via Zoom
CATEGORIES:Albury-Wodonga,Albury-Wodonga;Bendigo;Bundoora;City;Mildura;Shepparton;Online,Bendigo,Bundoora,City,Mildura,Online,Shepparton,Sydney
END:VEVENT
BEGIN:VEVENT
DTSTART;TZID=Australia/Melbourne:20260414T160000
DTEND;TZID=Australia/Melbourne:20260414T170000
DTSTAMP:20260425T105656
CREATED:20260415T063739Z
LAST-MODIFIED:20260415T063739Z
UID:58391-1776182400-1776186000@www.latrobe.edu.au
SUMMARY:Student-to-Student: How to avoid burnout
DESCRIPTION:When things that once sparked joy become dull and tedious\, you might be experiencing burnout. Don’t worry – our new student-run workshop is here to help. We’ll guide you in identifying the signs and symptoms of being overwhelmed and burnt out. Our Peer Learning Advisor presenters will demonstrate effective strategies to recover from burnout and provide practical techniques to prevent it from happening again in the future.
URL:https://www.latrobe.edu.au/mylatrobe/event/student-to-student-how-to-avoid-burnout/
LOCATION:Online via Zoom
CATEGORIES:Albury-Wodonga,Albury-Wodonga;Bendigo;Bundoora;City;Mildura;Shepparton;Online,Bendigo,Bundoora,City,Mildura,Online,Shepparton,Sydney
END:VEVENT
BEGIN:VEVENT
DTSTART;TZID=Australia/Melbourne:20260415T140000
DTEND;TZID=Australia/Melbourne:20260415T150000
DTSTAMP:20260425T105656
CREATED:20260415T063739Z
LAST-MODIFIED:20260415T063739Z
UID:58392-1776261600-1776265200@www.latrobe.edu.au
SUMMARY:Write that Assignment: Reflective Writing
DESCRIPTION:This workshop will look at the process and characteristics of reflective writing and how to support your reflection with evidence from literature.
URL:https://www.latrobe.edu.au/mylatrobe/event/write-that-assignment-reflective-writing/
LOCATION:Online via Zoom
CATEGORIES:Albury-Wodonga,Albury-Wodonga;Bendigo;Bundoora;City;Mildura;Shepparton;Online,Bendigo,Bundoora,City,Mildura,Online,Shepparton,Sydney
END:VEVENT
BEGIN:VEVENT
DTSTART;TZID=Australia/Melbourne:20260415T180000
DTEND;TZID=Australia/Melbourne:20260415T210000
DTSTAMP:20260425T105656
CREATED:20260409T035746Z
LAST-MODIFIED:20260409T035808Z
UID:58263-1776276000-1776286800@www.latrobe.edu.au
SUMMARY:LTSA Bendigo Ten Pin Bowling
DESCRIPTION:You’re invited to join La Trobe Student Association and fellow students for some bowling fun at the Bendigo Bowling Centre\, 159 Hargreaves Street Bendigo. \n\n\n\nBring your friends or come alone and meet new people while enjoying the friendly competition. \n\n\n\nTickets are only $5 and include two games\, shoe hire and hot snacks. Drinks are available at own cost. \n\n\n\nFind out more and grab your ticket now!
URL:https://www.latrobe.edu.au/mylatrobe/event/ltsa-bendigo-ten-pin-bowling-2/
CATEGORIES:Bendigo
ATTACH;FMTTYPE=image/png:https://www.latrobe.edu.au/mylatrobe/wp-content/uploads/2026/04/Ten-Pin-Bolwing-Socials-2026-1.png
END:VEVENT
BEGIN:VEVENT
DTSTART;TZID=Australia/Melbourne:20260416T083000
DTEND;TZID=Australia/Melbourne:20260416T083000
DTSTAMP:20260425T105656
CREATED:20260303T055604Z
LAST-MODIFIED:20260324T003637Z
UID:57625-1776328200-1776328200@www.latrobe.edu.au
SUMMARY:It's Coffee O'Clock
DESCRIPTION:Grab a FREE coffee in the library and meet the Student Advising team.
URL:https://www.latrobe.edu.au/mylatrobe/event/its-coffee-oclock-6/
CATEGORIES:Bundoora
ATTACH;FMTTYPE=image/png:https://www.latrobe.edu.au/mylatrobe/wp-content/uploads/2026/03/Free-Coffee-Thursdays.png
END:VEVENT
BEGIN:VEVENT
DTSTART;TZID=Australia/Melbourne:20260416T110000
DTEND;TZID=Australia/Melbourne:20260416T110000
DTSTAMP:20260425T105656
CREATED:20260302T231850Z
LAST-MODIFIED:20260302T231850Z
UID:57473-1776337200-1776337200@www.latrobe.edu.au
SUMMARY:Free Hot Chips Thursday!!
DESCRIPTION:Free hot chips? Yes please!!On Thursday\, students can grab a serve of FREE hot chips—just pop into the LSU and visit a friendly face from the Student Engagement Team.\nHot\, crispy\, and totally free. Limited numbers available\, so get in quick!
URL:https://www.latrobe.edu.au/mylatrobe/event/free-hot-chips-thursday/
CATEGORIES:Bendigo,In-person
END:VEVENT
BEGIN:VEVENT
DTSTART;TZID=Australia/Melbourne:20260416T110000
DTEND;TZID=Australia/Melbourne:20260416T120000
DTSTAMP:20260425T105656
CREATED:20260415T063739Z
LAST-MODIFIED:20260415T064412Z
UID:58393-1776337200-1776340800@www.latrobe.edu.au
SUMMARY:Learn How to Reference
DESCRIPTION:Learn how and when you need to acknowledge the information you are using in your assessments using the Academic Referencing Tool (ART).
URL:https://www.latrobe.edu.au/mylatrobe/event/learn-how-to-reference-9/
LOCATION:Online via Zoom
CATEGORIES:Albury-Wodonga,Albury-Wodonga;Bendigo;Bundoora;City;Mildura;Shepparton;Online,Bendigo,Bundoora,City,Mildura,Online,Shepparton,Sydney
END:VEVENT
BEGIN:VEVENT
DTSTART;TZID=Australia/Melbourne:20260417T140000
DTEND;TZID=Australia/Melbourne:20260417T170000
DTSTAMP:20260425T105656
CREATED:20260414T044525Z
LAST-MODIFIED:20260414T044649Z
UID:58355-1776434400-1776445200@www.latrobe.edu.au
SUMMARY:LTSA Bendigo Indoor Climbing @The Hold
DESCRIPTION:Join the LTSA and fellow students at The Hold Studio\, Bendigo’s indoor climbing studio.  \n\n\n\nChallenge your fitness\, strength\, mental clarity and problem solving as you climb!  \n\n\n\nColoured grading climbs\, with staff on hand to help with safety and guidance. \n\n\n\nBeginners welcome! \n\n\n\n*Bouldering is one of the safest forms of climbing. There are no ropes or harnesses\,  just low walls (usually 3–4 metres high) and thick\, padded flooring designed to absorb falls. Most falls are controlled and from low heights. \n\n\n\nWhen: Friday April 17\, 2pm-5pmWhere: The Hold\, 80 Hattam St\, Golden Gully.Cost: $5 – climb experience and shoe hire included.Register now!
URL:https://www.latrobe.edu.au/mylatrobe/event/ltsa-bendigo-indoor-climbing-the-hold/
LOCATION:80 Hattam St\, Golden Gully.
CATEGORIES:Bendigo
ATTACH;FMTTYPE=image/jpeg:https://www.latrobe.edu.au/mylatrobe/wp-content/uploads/2026/04/The-Hold-poster.jpg
END:VEVENT
BEGIN:VEVENT
DTSTART;TZID=Australia/Melbourne:20260418T120000
DTEND;TZID=Australia/Melbourne:20260418T120000
DTSTAMP:20260425T105656
CREATED:20260302T110959Z
LAST-MODIFIED:20260303T054225Z
UID:57361-1776513600-1776513600@www.latrobe.edu.au
SUMMARY:The La Trobe Social Cycle at the Autumn Cycling Classic
DESCRIPTION:Register for the free Social Cycle\, a fun and non-competitive ride for of all at the Autumn Cycling Classic.
URL:https://www.latrobe.edu.au/mylatrobe/event/the-la-trobe-social-cycle-at-the-autumn-cycling-classic/
CATEGORIES:Bundoora,In-person
END:VEVENT
BEGIN:VEVENT
DTSTART;TZID=Australia/Melbourne:20260419T080000
DTEND;TZID=Australia/Melbourne:20260419T080000
DTSTAMP:20260425T105656
CREATED:20260302T110741Z
LAST-MODIFIED:20260306T005449Z
UID:57362-1776585600-1776585600@www.latrobe.edu.au
SUMMARY:UniSport Nationals Triathlon
DESCRIPTION:Team La Trobe is heading to UniSport Triathlon on 19 April 2026 at the Peoplecare Triathlon Wollongong in Wollongong\, New South Wales. Compete in Sprint and Standard (Olympic) distances across men’s and women’s events\, with Para Triathlon events also on offer.
URL:https://www.latrobe.edu.au/mylatrobe/event/unisport-nationals-triathlon/
CATEGORIES:Albury-Wodonga,Bendigo,Bundoora,City,In-person,Mildura,Shepparton
END:VEVENT
BEGIN:VEVENT
DTSTART;TZID=Australia/Melbourne:20260420T110000
DTEND;TZID=Australia/Melbourne:20260420T120000
DTSTAMP:20260425T105656
CREATED:20260415T063739Z
LAST-MODIFIED:20260415T063739Z
UID:58394-1776682800-1776686400@www.latrobe.edu.au
SUMMARY:Getting Back on Track with your Assessments
DESCRIPTION:This workshop will look at strategies to help you get back on track. We’ll talk about prioritising tasks\, time management\, and where to go for more support.
URL:https://www.latrobe.edu.au/mylatrobe/event/getting-back-on-track-with-your-assessments-2/
LOCATION:Online via Zoom
CATEGORIES:Albury-Wodonga,Bendigo,Bundoora,City,Mildura,Online,Shepparton,Sydney
END:VEVENT
BEGIN:VEVENT
DTSTART;TZID=Australia/Melbourne:20260420T170000
DTEND;TZID=Australia/Melbourne:20260420T183000
DTSTAMP:20260425T105656
CREATED:20260415T063739Z
LAST-MODIFIED:20260415T063739Z
UID:58395-1776704400-1776709800@www.latrobe.edu.au
SUMMARY:Advanced Database Search Skills for Health
DESCRIPTION:In this advanced database searching session\, you will learn how to systematically search Medline as well as translate your search across other databases.
URL:https://www.latrobe.edu.au/mylatrobe/event/advanced-database-search-skills-for-health-8/
LOCATION:Online via Zoom
CATEGORIES:Albury-Wodonga,Albury-Wodonga;Bendigo;Bundoora;City;Mildura;Shepparton;Online,Bendigo,Bundoora,City,Mildura,Online,Shepparton,Sydney
END:VEVENT
BEGIN:VEVENT
DTSTART;TZID=Australia/Melbourne:20260421T110000
DTEND;TZID=Australia/Melbourne:20260421T120000
DTSTAMP:20260425T105656
CREATED:20260415T063739Z
LAST-MODIFIED:20260415T063739Z
UID:58396-1776769200-1776772800@www.latrobe.edu.au
SUMMARY:Write that Assignment: Essays
DESCRIPTION:This workshop focuses on how to tackle essays with tips on structure\, writing good paragraphs\, using evidence\, and writing great introductions and conclusions.
URL:https://www.latrobe.edu.au/mylatrobe/event/write-that-assignment-essays-8/
LOCATION:Online via Zoom
CATEGORIES:Albury-Wodonga,Albury-Wodonga;Bendigo;Bundoora;City;Mildura;Shepparton;Online,Bendigo,Bundoora,City,Mildura,Online,Shepparton,Sydney
END:VEVENT
BEGIN:VEVENT
DTSTART;TZID=Australia/Melbourne:20260421T110000
DTEND;TZID=Australia/Melbourne:20260421T140000
DTSTAMP:20260425T105656
CREATED:20260409T024526Z
LAST-MODIFIED:20260409T024753Z
UID:58257-1776769200-1776780000@www.latrobe.edu.au
SUMMARY:LTSA Bendigo Student Services Expo
DESCRIPTION:Students! Drop by the La Trobe Student Union (LSU) and meet staff from a range of La Trobe student services who are here to support and assist you while you study at the Bendigo Campus. \n\n\n\nAll students will be given an expo ‘passport’. Get it stamped at the expo tables and you’ll get a free coffee and donut/cake! \n\n\n\nConnect with and learn more about a range of student services including: \n\n\n\n \n\n\n\n\nAccessibility\n\n\n\nClubs\n\n\n\nInternational Advising\n\n\n\nLa Trobe Student Association (LTSA)\n\n\n\nLTSA Advocacy\n\n\n\nLibrary\n\n\n\nMulti Faith Chaplains\n\n\n\nStudent Advising\n\n\n\nStudent Experience & Employability\n\n\n\n\n  \n\n\n\nFind out more!
URL:https://www.latrobe.edu.au/mylatrobe/event/ltsa-bendigo-student-services-expo-2/
CATEGORIES:Bendigo
ATTACH;FMTTYPE=image/webp:https://www.latrobe.edu.au/mylatrobe/wp-content/uploads/2026/04/LTSA-Services-Expo-Bendigo.webp
END:VEVENT
BEGIN:VEVENT
DTSTART;TZID=Australia/Melbourne:20260421T120000
DTEND;TZID=Australia/Melbourne:20260421T120000
DTSTAMP:20260425T105656
CREATED:20260303T055801Z
LAST-MODIFIED:20260324T003858Z
UID:57628-1776772800-1776772800@www.latrobe.edu.au
SUMMARY:Chill Out Tuesdays
DESCRIPTION:Come down to the Agora for a FREE gelati and sit back and relax.
URL:https://www.latrobe.edu.au/mylatrobe/event/chill-out-tuesdays-4/
LOCATION:Agora
CATEGORIES:Bundoora
ATTACH;FMTTYPE=image/png:https://www.latrobe.edu.au/mylatrobe/wp-content/uploads/2026/03/BU-Free-Gelato-.png
END:VEVENT
BEGIN:VEVENT
DTSTART;TZID=Australia/Melbourne:20260421T140000
DTEND;TZID=Australia/Melbourne:20260421T140000
DTSTAMP:20260425T105656
CREATED:20260302T110841Z
LAST-MODIFIED:20260310T051354Z
UID:57363-1776780000-1776780000@www.latrobe.edu.au
SUMMARY:Act on Procrastination: Online Group Program
DESCRIPTION:Do you find yourself: \n\nStaring at your screen\, unsure where to start?\nScrolling through social media\, watching videos\, cleaning the house or completing random tasks instead of tackling assignments or other important tasks?\nFeeling overwhelmed by tasks and unsure how to proceed?\n\nYou’re not alone. Procrastination is a common challenge among students. The ACT on Procrastination program\, offered by La Trobe’s Counselling team\, is designed to help you overcome these hurdles – giving you practical tools to shift your mindset and take action. \nWhat you will gain:\nIn this three-session online program\, you will: \n\nUnderstand your personal procrastination patterns.\nLearn strategies to boost motivation and take committed action\nUse strategies to change unhelpful behaviours.\nHave the chance to connect with other students who get it—you’re not in this alone.\n\nSession dates:\nYou attend all three sessions: \n\nTuesday 21 April\nTuesday 28 April\nTuesday 5 May\n\nTime: 2pm–3:30pm \nLocation: Online via Zoom (link provided upon registration) \nThis is a small group program. To help create a supportive space\, we ask that you: \n\nHave your camera on (as much as you’re able to)\nArrive on time to each session\n\nHow to register:\n\nRegister your interest via the link below and fill in your personal details and follow the prompts.\nWhen completing the form select these options:\n\n\nIs your enquiry regarding AccessAbility Services? → Select No\nWhat sort of assistance do you need? → Select Group Program\n\nIf you have any questions before registering\, please contact us at counselling@latrobe.edu.au. \nLearn more about our group programs on the Wellbeing Services Group Programs website. \n\n\n\nRegister now
URL:https://www.latrobe.edu.au/mylatrobe/event/wellbeing-services-act-on-procrastination-online-group-program/
CATEGORIES:Albury-Wodonga,Bendigo,Bundoora,City,Mildura,Online,Shepparton
END:VEVENT
BEGIN:VEVENT
DTSTART;TZID=Australia/Melbourne:20260421T140000
DTEND;TZID=Australia/Melbourne:20260421T150000
DTSTAMP:20260425T105656
CREATED:20260415T063739Z
LAST-MODIFIED:20260415T063739Z
UID:58397-1776780000-1776783600@www.latrobe.edu.au
SUMMARY:Write that Assignment: Reports
DESCRIPTION:This workshop focuses on how to write reports\, with tips on structure\, style and use of evidence. It will detail what should be included in each section\, and also cover common errors.
URL:https://www.latrobe.edu.au/mylatrobe/event/write-that-assignment-reports-6/
LOCATION:Online via Zoom
CATEGORIES:Albury-Wodonga,Albury-Wodonga;Bendigo;Bundoora;City;Mildura;Shepparton;Online,Bendigo,Bundoora,City,Mildura,Online,Shepparton,Sydney
END:VEVENT
BEGIN:VEVENT
DTSTART;TZID=Australia/Melbourne:20260422T090000
DTEND;TZID=Australia/Melbourne:20260422T090000
DTSTAMP:20260425T105656
CREATED:20260302T110742Z
LAST-MODIFIED:20260306T005456Z
UID:57364-1776848400-1776848400@www.latrobe.edu.au
SUMMARY:UniSport Athletics Nationals
DESCRIPTION:Team La Trobe is sending students to UniSport Athletics Nationals from 22–24 April 2026 at the Gold Coast Performance Centre\, Queensland. Compete in men’s and women’s events\, with multi-class events also on offer.
URL:https://www.latrobe.edu.au/mylatrobe/event/unisport-athletics-nationals-3/
CATEGORIES:Albury-Wodonga,Bendigo,Bundoora,City,In-person,Mildura,Shepparton
END:VEVENT
BEGIN:VEVENT
DTSTART;TZID=Australia/Melbourne:20260422T110000
DTEND;TZID=Australia/Melbourne:20260422T120000
DTSTAMP:20260425T105656
CREATED:20260415T063739Z
LAST-MODIFIED:20260415T063739Z
UID:58398-1776855600-1776859200@www.latrobe.edu.au
SUMMARY:Write that Assignment: Literature Reviews
DESCRIPTION:This session examines the purpose\, structure\, and content of Literature Reviews. It covers introductions\, body paragraphs\, identifying themes\, synthesising your literature\, and paraphrasing.
URL:https://www.latrobe.edu.au/mylatrobe/event/write-that-assignment-literature-reviews-2/
LOCATION:Online via Zoom
CATEGORIES:Albury-Wodonga,Albury-Wodonga;Bendigo;Bundoora;City;Mildura;Shepparton;Online,Bendigo,Bundoora,City,Mildura,Online,Shepparton,Sydney
END:VEVENT
BEGIN:VEVENT
DTSTART;TZID=Australia/Melbourne:20260422T150000
DTEND;TZID=Australia/Melbourne:20260422T163000
DTSTAMP:20260425T105656
CREATED:20260415T063739Z
LAST-MODIFIED:20260415T063739Z
UID:58404-1776870000-1776875400@www.latrobe.edu.au
SUMMARY:Manage your References with Endnote
DESCRIPTION:Learn how to use EndNote for reference management. Create a library\, add and modify references and use EndNote within Microsoft Word. Attendees are advised to have prior knowledge of referencing. **Please have EndNote installed before the workshop**
URL:https://www.latrobe.edu.au/mylatrobe/event/manage-your-references-with-endnote-10/
LOCATION:Online via Zoom
CATEGORIES:Albury-Wodonga,Albury-Wodonga;Bendigo;Bundoora;City;Mildura;Shepparton;Online,Bendigo,Bundoora,City,Mildura,Online,Shepparton,Sydney
END:VEVENT
BEGIN:VEVENT
DTSTART;TZID=Australia/Melbourne:20260422T180000
DTEND;TZID=Australia/Melbourne:20260422T210000
DTSTAMP:20260425T105656
CREATED:20260416T004840Z
LAST-MODIFIED:20260416T004843Z
UID:58425-1776880800-1776891600@www.latrobe.edu.au
SUMMARY:LTSA Bendigo – Trivia Night
DESCRIPTION:Join our LTSA Student Council for a fun night of trivia in the LSU. \n\n\n\nThis is a FREE event with pizza and soft drinks provided. \n\n\n\nPrizes throughout the night will include: vouchers from the Queens Arm\, Guzman Y Gomez\, LTSA merch and other goodies. \n\n\n\nTeams to have a minimum of 2 or maximum of 8 people. \n\n\n\nRegister as a team or as an individual and we’ll create a team for you! \n\n\n\nSTRICTLY NO BYO
URL:https://www.latrobe.edu.au/mylatrobe/event/ltsa-bendigo-trivia-night-4/
CATEGORIES:Bendigo
END:VEVENT
BEGIN:VEVENT
DTSTART;TZID=Australia/Melbourne:20260423T103000
DTEND;TZID=Australia/Melbourne:20260423T160000
DTSTAMP:20260425T105656
CREATED:20260416T230132Z
LAST-MODIFIED:20260416T231010Z
UID:58472-1776940200-1776960000@www.latrobe.edu.au
SUMMARY:Augment 2026 - Startup 101 program
DESCRIPTION:An interactive student-led\, pre-accelerator experience. Engage with AI and no-code tools in an interactive and hands-on format. NO EXPERIENCE NEEDED! \n\n\n\n\nRegister
URL:https://www.latrobe.edu.au/mylatrobe/event/augment-2026-startup-101-program/
CATEGORIES:Bundoora
ATTACH;FMTTYPE=image/png:https://www.latrobe.edu.au/mylatrobe/wp-content/uploads/2026/04/Augment-2026.png
END:VEVENT
BEGIN:VEVENT
DTSTART;TZID=Australia/Melbourne:20260423T110000
DTEND;TZID=Australia/Melbourne:20260423T110000
DTSTAMP:20260425T105656
CREATED:20260302T231850Z
LAST-MODIFIED:20260302T231850Z
UID:57474-1776942000-1776942000@www.latrobe.edu.au
SUMMARY:Free Hot Chips Thursday!!
DESCRIPTION:Free hot chips? Yes please!!On Thursday\, students can grab a serve of FREE hot chips—just pop into the LSU and visit a friendly face from the Student Engagement Team.\nHot\, crispy\, and totally free. Limited numbers available\, so get in quick!
URL:https://www.latrobe.edu.au/mylatrobe/event/free-hot-chips-thursday-2/
CATEGORIES:Bendigo,In-person
END:VEVENT
BEGIN:VEVENT
DTSTART;TZID=Australia/Melbourne:20260424T110000
DTEND;TZID=Australia/Melbourne:20260424T120000
DTSTAMP:20260425T105656
CREATED:20260415T063740Z
LAST-MODIFIED:20260415T063740Z
UID:58405-1777028400-1777032000@www.latrobe.edu.au
SUMMARY:Using Evidence in your Writing
DESCRIPTION:This workshop will teach you how to incorporate sources into your writing that support your academic arguments and help you avoid plagiarism.
URL:https://www.latrobe.edu.au/mylatrobe/event/using-evidence-in-your-writing-7/
LOCATION:Online via Zoom
CATEGORIES:Albury-Wodonga,Albury-Wodonga;Bendigo;Bundoora;City;Mildura;Shepparton;Online,Bendigo,Bundoora,City,Mildura,Online,Shepparton,Sydney
END:VEVENT
BEGIN:VEVENT
DTSTART;TZID=Australia/Melbourne:20260424T120000
DTEND;TZID=Australia/Melbourne:20260424T190000
DTSTAMP:20260425T105656
CREATED:20260413T000052Z
LAST-MODIFIED:20260413T003318Z
UID:58335-1777032000-1777057200@www.latrobe.edu.au
SUMMARY:Study Melbourne Future Founders Day
DESCRIPTION:Study Melbourne will host its Future Founders Day on Friday 24 April at the State Library\, and streaming online\, from 12pm to 7pm AEST. This free event brings together budding entrepreneurs to learn and network.  \n\n\n\nWhether you’re an international student\, aspiring founder or simply someone passionate about entrepreneurship\, the Future Founders Day is a great place to connect\, learn and get started. \n\n\n\n\nRegister
URL:https://www.latrobe.edu.au/mylatrobe/event/study-melbourne-future-founders-day/
CATEGORIES:City,Hybrid (In-person and Online)
END:VEVENT
END:VCALENDAR