BEGIN:VCALENDAR
VERSION:2.0
PRODID:-//MyLaTrobe - ECPv6.15.20//NONSGML v1.0//EN
CALSCALE:GREGORIAN
METHOD:PUBLISH
X-ORIGINAL-URL:https://www.latrobe.edu.au/mylatrobe
X-WR-CALDESC:Events for MyLaTrobe
REFRESH-INTERVAL;VALUE=DURATION:PT1H
X-Robots-Tag:noindex
X-PUBLISHED-TTL:PT1H
BEGIN:VTIMEZONE
TZID:Australia/Melbourne
BEGIN:STANDARD
TZOFFSETFROM:+1100
TZOFFSETTO:+1000
TZNAME:AEST
DTSTART:20230401T160000
END:STANDARD
BEGIN:DAYLIGHT
TZOFFSETFROM:+1000
TZOFFSETTO:+1100
TZNAME:AEDT
DTSTART:20230930T160000
END:DAYLIGHT
BEGIN:STANDARD
TZOFFSETFROM:+1100
TZOFFSETTO:+1000
TZNAME:AEST
DTSTART:20240406T160000
END:STANDARD
BEGIN:DAYLIGHT
TZOFFSETFROM:+1000
TZOFFSETTO:+1100
TZNAME:AEDT
DTSTART:20241005T160000
END:DAYLIGHT
BEGIN:STANDARD
TZOFFSETFROM:+1100
TZOFFSETTO:+1000
TZNAME:AEST
DTSTART:20250405T160000
END:STANDARD
BEGIN:DAYLIGHT
TZOFFSETFROM:+1000
TZOFFSETTO:+1100
TZNAME:AEDT
DTSTART:20251004T160000
END:DAYLIGHT
BEGIN:STANDARD
TZOFFSETFROM:+1100
TZOFFSETTO:+1000
TZNAME:AEST
DTSTART:20260404T160000
END:STANDARD
BEGIN:DAYLIGHT
TZOFFSETFROM:+1000
TZOFFSETTO:+1100
TZNAME:AEDT
DTSTART:20261003T160000
END:DAYLIGHT
END:VTIMEZONE
BEGIN:VEVENT
DTSTART;TZID=Australia/Melbourne:20241022T110000
DTEND;TZID=Australia/Melbourne:20241022T110000
DTSTAMP:20260421T131804
CREATED:20240705T000621Z
LAST-MODIFIED:20240705T003249Z
UID:45908-1729594800-1729594800@www.latrobe.edu.au
SUMMARY:Green Tuesdays
DESCRIPTION:Join us every Tuesday for Green Tuesdays at the City Campus Level 3 Open Area\, starting Week 2 on August 6 through Week 12\, from 11:00 AM to 1:00 PM. Step away from your busy day into a peaceful setting filled with barista-made coffee\, delightful snacks\, and engaging planting activities. Cultivate your green thumb\, take home a potted herb\, and unwind with a variety of fun lawn games. It’s the perfect weekly retreat to relax\, recharge\, and connect right on campus. Don’t miss this chance to enjoy a slice of tranquility each week!
URL:https://www.latrobe.edu.au/mylatrobe/event/green-tuesdays-6/
CATEGORIES:City
END:VEVENT
BEGIN:VEVENT
DTSTART;TZID=Australia/Melbourne:20241022T123000
DTEND;TZID=Australia/Melbourne:20241022T140000
DTSTAMP:20260421T131804
CREATED:20240923T232019Z
LAST-MODIFIED:20240923T232021Z
UID:47552-1729600200-1729605600@www.latrobe.edu.au
SUMMARY:Launches @ the Library
DESCRIPTION:Join us for Launches @ La Trobe\, featuring Clare Wright with her new book Näku Dhäruk and Katherine Ellinghaus & Barry Judd\, authors of Enlightened Aboriginal Futures in conversation with Julie Andrews. \n\n\n\nLocation: Borchardt Library\, Melbourne (Bundoora) Campus \n\n\n\n\nRegister now
URL:https://www.latrobe.edu.au/mylatrobe/event/launches-the-library-2/
CATEGORIES:Bundoora
END:VEVENT
BEGIN:VEVENT
DTSTART;TZID=Australia/Melbourne:20241022T170000
DTEND;TZID=Australia/Melbourne:20241022T193000
DTSTAMP:20260421T131804
CREATED:20241010T004930Z
LAST-MODIFIED:20241010T004933Z
UID:47816-1729616400-1729625400@www.latrobe.edu.au
SUMMARY:Startup Fest 2024
DESCRIPTION:Join us for a free evening of pitching and unveiling of start ups from the 2024 cohort of the La Trobe University Startup Year program. \n\n\n\nPost-pitches\, attendees can enjoy great food and drink as well as the opportunity to network with students\, industry partners\, alumni entrepreneurs\, and the wider La trobe start-up network. \n\n\n\nDetails: \n\n\n\n\nVenue: John Scott Meeting house\, La Trobe Bundoora Campus\n\n\n\nCost: Free\n\n\n\n\n\nRSVP HERE
URL:https://www.latrobe.edu.au/mylatrobe/event/startup-fest-2024/
CATEGORIES:Bundoora
END:VEVENT
BEGIN:VEVENT
DTSTART;TZID=Australia/Melbourne:20241023T120000
DTEND;TZID=Australia/Melbourne:20241023T120000
DTSTAMP:20260421T131804
CREATED:20240705T000621Z
LAST-MODIFIED:20240705T005531Z
UID:45909-1729684800-1729684800@www.latrobe.edu.au
SUMMARY:Donut Day
DESCRIPTION:Break up your study time and pop down to the Agora to grab a free donut!
URL:https://www.latrobe.edu.au/mylatrobe/event/activation-donut-day/
LOCATION:Agora
CATEGORIES:Bundoora
END:VEVENT
BEGIN:VEVENT
DTSTART;TZID=Australia/Melbourne:20241023T120000
DTEND;TZID=Australia/Melbourne:20241023T140000
DTSTAMP:20260421T131804
CREATED:20240916T234932Z
LAST-MODIFIED:20240925T050054Z
UID:47387-1729684800-1729692000@www.latrobe.edu.au
SUMMARY:Social Work - end of year catch up
DESCRIPTION:To say thank you for such a great year. We want to invite all Social Work students\, their supporters and a few local potential employers to our final Co Hort catch up for 2024. \n\n\n\nEnjoy a La Trobe University lunch at the GV Hotel while mingling with your cohort! \n\n\n\n\nRSVP is required
URL:https://www.latrobe.edu.au/mylatrobe/event/social-work-end-of-year-catch-up/
LOCATION:GV Hotel (Main Bar)\, 221-233 High Street\, Greater Shepparton\, Victoria\, 3630\, Australia
CATEGORIES:Shepparton
END:VEVENT
BEGIN:VEVENT
DTSTART;TZID=Australia/Melbourne:20241023T180000
DTEND;TZID=Australia/Melbourne:20241023T200000
DTSTAMP:20260421T131804
CREATED:20240916T235744Z
LAST-MODIFIED:20240925T050241Z
UID:47399-1729706400-1729713600@www.latrobe.edu.au
SUMMARY:Education - end of year catch up
DESCRIPTION:To say thank you for such a great year. We want to invite all Education students\, to our final Co Hort catch up for 2024. \n\n\n\nThis event is open to all years. Pizza and non alcoholic drinks provided by LTU (alcohol to be purchased by attendees). \n\n\n\n\nRSVP is required
URL:https://www.latrobe.edu.au/mylatrobe/event/education-end-of-year-catch-up/
LOCATION:Eves Bar\, 210 High Street\, Shepparton\, Victoria\, 3630\, Australia
CATEGORIES:Shepparton
END:VEVENT
BEGIN:VEVENT
DTSTART;TZID=Australia/Melbourne:20241024T083000
DTEND;TZID=Australia/Melbourne:20241024T083000
DTSTAMP:20260421T131804
CREATED:20240705T000620Z
LAST-MODIFIED:20240705T003248Z
UID:45911-1729758600-1729758600@www.latrobe.edu.au
SUMMARY:Weekly Activation - Free Coffee!
DESCRIPTION:Free coffee each week from Nexus Cafe (SuniTAFE Canteen). Simply show your student card to get your free hot drink!
URL:https://www.latrobe.edu.au/mylatrobe/event/weekly-activation-free-coffee-16/
CATEGORIES:Mildura
END:VEVENT
BEGIN:VEVENT
DTSTART;TZID=Australia/Melbourne:20241024T170000
DTEND;TZID=Australia/Melbourne:20241024T200000
DTSTAMP:20260421T131804
CREATED:20240925T052827Z
LAST-MODIFIED:20240925T053447Z
UID:47614-1729789200-1729800000@www.latrobe.edu.au
SUMMARY:LTSA Bendigo End of Year Celebration
DESCRIPTION:LTSA’s End of Year Celebration is sure to be a great way to end 2024! \n\n\n\nCome along to the Plaza and enjoy the unique experience of grabbing a drink from Kombi Keg\, live music from Ryan Gay (KNOT Music) and delicious food provided by the following food vans: \n\n\n\nSmoke N Roast meal choices: Smoked pulled brisket burger and chips\, pulled lamb burger with chips and Cajun spiced pumpkin fritters. Vegetarian options. \n\n\n\nJas’s Indian Kitchen meal choices: TBC – gluten free\, Halal\, vegetarian and vegan options. \n\n\n\nLTSA Ice Cream Cart: with Dixie cups and toppings. \n\n\n\nTickets are only $10 and includes five alcoholic drinks (soft drink and water also available)\, live music and food. \n\n\n\nNote: this event is 18+ Please bring your photo ID \n\n\n\n\nBook your ticket now!
URL:https://www.latrobe.edu.au/mylatrobe/event/ltsa-end-of-year-celebration/
CATEGORIES:Bendigo
END:VEVENT
BEGIN:VEVENT
DTSTART;TZID=Australia/Melbourne:20241027T090000
DTEND;TZID=Australia/Melbourne:20241027T090000
DTSTAMP:20260421T131804
CREATED:20240705T000620Z
LAST-MODIFIED:20240705T003248Z
UID:45912-1730019600-1730019600@www.latrobe.edu.au
SUMMARY:Forest Therapy Walk
DESCRIPTION:We give you permission to slow down on this mindful wander amongst magnificent River Red Gums and billabongs at Nangak Tamboree Wildlife Sanctuary.  Bookings essential tinyurl.com/NTWSwhatson
URL:https://www.latrobe.edu.au/mylatrobe/event/forest-therapy-walk-3/
LOCATION:Nangak Tamboree Wildlife Sanctuary\, La Trobe Avenue\, Bundoora\, Victoria\, 3086\, Australia
CATEGORIES:Bundoora
END:VEVENT
BEGIN:VEVENT
DTSTART;TZID=Australia/Melbourne:20241030T184500
DTEND;TZID=Australia/Melbourne:20241030T223000
DTSTAMP:20260421T131804
CREATED:20240705T003248Z
LAST-MODIFIED:20240924T064012Z
UID:45930-1730313900-1730327400@www.latrobe.edu.au
SUMMARY:Halloween Boat Party
DESCRIPTION:Celebrate the end of the year cruising down the Yarra at this year’s Halloween Boat Party! Guests will receive one free drink on arrival\, free food throughout the night and will get to enjoy all the spooktacular fun on board while taking in the stunning views of Melbourne. Costumes are strongly encouraged\, however\, not compulsory. Return transport is also available from the Bundoora Campus for a limited number of partygoers. \nBook now to secure your place. You won’t want to miss this! \n 
URL:https://www.latrobe.edu.au/mylatrobe/event/end-of-year-boat-party/
CATEGORIES:Bundoora
END:VEVENT
BEGIN:VEVENT
DTSTART;TZID=Australia/Melbourne:20241101T200000
DTEND;TZID=Australia/Melbourne:20241101T200000
DTSTAMP:20260421T131804
CREATED:20240705T000620Z
LAST-MODIFIED:20240705T003247Z
UID:45934-1730491200-1730491200@www.latrobe.edu.au
SUMMARY:Citizen Science event - Stagwatch
DESCRIPTION:Come and help us monitor the arboreal mammals\, birds and bats that utilise the nest boxes and natural tree hollows throughout the Nangak Tamboree Wildlife Sanctuary. Free event\, but bookings essential tinyurl.com/NTWSwhatson
URL:https://www.latrobe.edu.au/mylatrobe/event/citizen-science-event-stagwatch-3/
LOCATION:Nangak Tamboree Wildlife Sanctuary\, La Trobe Avenue\, Bundoora\, Victoria\, 3086\, Australia
CATEGORIES:Bundoora
END:VEVENT
BEGIN:VEVENT
DTSTART;TZID=Australia/Melbourne:20241102T150000
DTEND;TZID=Australia/Melbourne:20241102T150000
DTSTAMP:20260421T131804
CREATED:20240705T000620Z
LAST-MODIFIED:20240705T003247Z
UID:45932-1730559600-1730559600@www.latrobe.edu.au
SUMMARY:End of Year Bottomless Brunch
DESCRIPTION:End of year bottomless brunch for Students at the Albion Albury.
URL:https://www.latrobe.edu.au/mylatrobe/event/end-of-year-bottomless-brunch/
CATEGORIES:Albury-Wodonga
END:VEVENT
BEGIN:VEVENT
DTSTART;TZID=Australia/Melbourne:20241104T120000
DTEND;TZID=Australia/Melbourne:20241104T133000
DTSTAMP:20260421T131804
CREATED:20240711T061758Z
LAST-MODIFIED:20240711T061804Z
UID:46104-1730721600-1730727000@www.latrobe.edu.au
SUMMARY:How To Start A Club - Online Info Session
DESCRIPTION:Looking to start your own student club? Want to find out more about community on campus?  \nJoin the next ‘How To Start A Club’ information session online and find out more! \nRegister to attend one of the upcoming virtual sessions HERE. \nDiscover more about the La Trobe University Clubs & Societies program online. 
URL:https://www.latrobe.edu.au/mylatrobe/event/how-to-start-a-club-online-info-session/
CATEGORIES:Albury-Wodonga,Bendigo,Bundoora,City,Mildura,Online,Shepparton,Sydney
ORGANIZER;CN="La Trobe Clubs Team":MAILTO:clubs@latrobe.edu.au
END:VEVENT
BEGIN:VEVENT
DTSTART;TZID=Australia/Melbourne:20241104T201500
DTEND;TZID=Australia/Melbourne:20241104T201500
DTSTAMP:20260421T131804
CREATED:20240705T000619Z
LAST-MODIFIED:20240705T003247Z
UID:45937-1730751300-1730751300@www.latrobe.edu.au
SUMMARY:Twilight Tour
DESCRIPTION:Join us for a tour of the Sanctuary! We’ll hopefully see possums\, bats\, birds\, the odd gecko and other local wildlife. Bookings essential tinyurl.com/NTWSwhatson
URL:https://www.latrobe.edu.au/mylatrobe/event/twilight-tour-6/
LOCATION:Nangak Tamboree Wildlife Sanctuary\, La Trobe Avenue\, Bundoora\, Victoria\, 3086\, Australia
CATEGORIES:Bundoora
END:VEVENT
BEGIN:VEVENT
DTSTART;TZID=Australia/Melbourne:20241106T080000
DTEND;TZID=Australia/Melbourne:20241106T100000
DTSTAMP:20260421T131804
CREATED:20240711T020751Z
LAST-MODIFIED:20240711T020752Z
UID:46105-1730880000-1730887200@www.latrobe.edu.au
SUMMARY:Bikers Brekkie
DESCRIPTION:Free breakfast from Caffeine for students and staff who ride to Uni!
URL:https://www.latrobe.edu.au/mylatrobe/event/bikers-brekkie-7/
LOCATION:Agora
CATEGORIES:Bundoora,City,Online
END:VEVENT
BEGIN:VEVENT
DTSTART;TZID=Australia/Melbourne:20241107T080000
DTEND;TZID=Australia/Melbourne:20241107T100000
DTSTAMP:20260421T131804
CREATED:20240909T014555Z
LAST-MODIFIED:20240909T014558Z
UID:47325-1730966400-1730973600@www.latrobe.edu.au
SUMMARY:Free Biker's Brekkie - Albury Wodonga
DESCRIPTION:If you ride to uni on the first Thursday of the month you can get breakfast on us! \n\n\n\nSimply show your helmet to our representative between 8 am and 10 am and you will get a voucher for breakfast and a coffee at La Moka Café.
URL:https://www.latrobe.edu.au/mylatrobe/event/free-bikers-brekkie-albury-wodonga-2/
CATEGORIES:Albury-Wodonga
END:VEVENT
BEGIN:VEVENT
DTSTART;TZID=Australia/Melbourne:20241113T110000
DTEND;TZID=Australia/Melbourne:20241113T150000
DTSTAMP:20260421T131804
CREATED:20240705T003248Z
LAST-MODIFIED:20240917T065547Z
UID:45913-1731495600-1731510000@www.latrobe.edu.au
SUMMARY:T6 Summer Orientation
DESCRIPTION:Welcome to Term 6 Summer Orientation! Come along to the International Meet & Greet and Student Services expo. There will be free food\, campus tours\, entertainment and lots of opportunities to meet your peers! Where: WLT 1
URL:https://www.latrobe.edu.au/mylatrobe/event/t6-orientation-and-mini-festival/
CATEGORIES:Bundoora
END:VEVENT
BEGIN:VEVENT
DTSTART;TZID=Australia/Melbourne:20241118T093000
DTEND;TZID=Australia/Melbourne:20241118T170000
DTSTAMP:20260421T131804
CREATED:20241031T010754Z
LAST-MODIFIED:20241031T012825Z
UID:48101-1731922200-1731949200@www.latrobe.edu.au
SUMMARY:Sands & Safety: The Aussie Beach Experience
DESCRIPTION:Join us for an exciting and educational day at Port Melbourne Beach! This unique beach adventure is designed to give international students a fun-filled experience exploring Australian beaches while learning essential beach safety skills.  \n\n\n\nYou’ll get the opportunity to enjoy the sand and sea with fellow La Trobe students\, all while gaining confidence in staying safe on Australia’s beautiful coastline. \n\n\n\nCost: FREE! \n\n\n\nSpaces are limited\, so don’t miss out!
URL:https://www.latrobe.edu.au/mylatrobe/event/sands-safety-the-aussie-beach-experience/
CATEGORIES:Multi-Campus
END:VEVENT
BEGIN:VEVENT
DTSTART;TZID=Australia/Melbourne:20241121T163000
DTEND;TZID=Australia/Melbourne:20241121T180000
DTSTAMP:20260421T131804
CREATED:20241025T042127Z
LAST-MODIFIED:20241025T051314Z
UID:48009-1732206600-1732212000@www.latrobe.edu.au
SUMMARY:Building a Thriving Career as an International Student - a professional networking session
DESCRIPTION:An exclusive event for current La Trobe International students to understand Australian work culture\, job market and key ingredients for a successful career.Join this panel discussion led by key professionals\, followed by Q&A and light refreshments. \n\n\n\nEvent Details: \n\n\n\n\nCost: Free\n\n\n\nLocation: Level-3\, Room-3.08 & 3.09\, La Trobe Melbourne (City) Campus\n\n\n\n\n\nREGISTER NOW
URL:https://www.latrobe.edu.au/mylatrobe/event/building-a-thriving-career-as-an-international-student-a-professional-networking-session/
CATEGORIES:City
END:VEVENT
BEGIN:VEVENT
DTSTART;TZID=Australia/Melbourne:20241128T060000
DTEND;TZID=Australia/Melbourne:20241128T060000
DTSTAMP:20260421T131804
CREATED:20240320T232033Z
LAST-MODIFIED:20240705T003246Z
UID:43622-1732773600-1732773600@www.latrobe.edu.au
SUMMARY:Citizen Science event - Breakfast with the Birds
DESCRIPTION:Did you know that over 140 species of bird have been recorded at Nangak Tamboree Wildlife Sanctuary? Come and find out which species call the sanctuary home! Bookings essential tinyurl.com/NTWSwhatson
URL:https://www.latrobe.edu.au/mylatrobe/event/citizen-science-event-breakfast-with-the-birds/
CATEGORIES:Bundoora
END:VEVENT
BEGIN:VEVENT
DTSTART;TZID=Australia/Melbourne:20241129T183000
DTEND;TZID=Australia/Melbourne:20241129T220000
DTSTAMP:20260421T131804
CREATED:20241113T013156Z
LAST-MODIFIED:20241113T014539Z
UID:48182-1732905000-1732917600@www.latrobe.edu.au
SUMMARY:Mildura End of Year Twilight Extravaganza at the Lawn Bowls Club
DESCRIPTION:FREE entry for you and a friend \n\n\n\nFREE nibbles and pizza \n\n\n\nFREE drinks* \n\n\n\nFREE lawn bowls \n\n\n\nFREE LTSA Christmas Hampers to take home \n\n\n\nFREE games of bingo with $500 worth of Coles-Myer and Officeworks Gift Cards to be won! \n\n\n\n*Drink card provided upon entry\, entitling you to 4x drinks at the bar. All non-alcoholic drinks completely free of charge. \n\n\n\n\nREGISTER NOW
URL:https://www.latrobe.edu.au/mylatrobe/event/mildura-end-of-year-twilight-extravaganza-at-the-lawn-bowls-club/
LOCATION:Mildura Bowls Club\, 176 Cureton Avenue\, Mildura\, VIC\, 3500\, Australia
CATEGORIES:Mildura
END:VEVENT
BEGIN:VEVENT
DTSTART;TZID=Australia/Melbourne:20241202T150000
DTEND;TZID=Australia/Melbourne:20241202T163000
DTSTAMP:20260421T131804
CREATED:20240711T062004Z
LAST-MODIFIED:20240711T062006Z
UID:46138-1733151600-1733157000@www.latrobe.edu.au
SUMMARY:How To Start A Club - Online Info Session
DESCRIPTION:Looking to start your own student club? Want to find out more about community on campus?  \nJoin the next ‘How To Start A Club’ information session online and find out more! \nRegister to attend one of the upcoming virtual sessions HERE. \nDiscover more about the La Trobe University Clubs & Societies program online. 
URL:https://www.latrobe.edu.au/mylatrobe/event/how-to-start-a-club-online-info-session-2/
CATEGORIES:Albury-Wodonga,Bendigo,Bundoora,City,Mildura,Online,Shepparton,Sydney
ORGANIZER;CN="La Trobe Clubs Team":MAILTO:clubs@latrobe.edu.au
END:VEVENT
BEGIN:VEVENT
DTSTART;TZID=Australia/Melbourne:20241204T080000
DTEND;TZID=Australia/Melbourne:20241204T100000
DTSTAMP:20260421T131804
CREATED:20240711T020615Z
LAST-MODIFIED:20240711T020617Z
UID:46140-1733299200-1733306400@www.latrobe.edu.au
SUMMARY:Bikers Brekkie
DESCRIPTION:Free breakfast from Caffeine for students and staff who ride to Uni!
URL:https://www.latrobe.edu.au/mylatrobe/event/bikers-brekkie-6/
LOCATION:Agora
CATEGORIES:Bundoora,City,Online
END:VEVENT
BEGIN:VEVENT
DTSTART;TZID=Australia/Melbourne:20241204T170000
DTEND;TZID=Australia/Melbourne:20241204T190000
DTSTAMP:20260421T131804
CREATED:20240917T000310Z
LAST-MODIFIED:20240925T050359Z
UID:47405-1733331600-1733338800@www.latrobe.edu.au
SUMMARY:Nursing 3rd Year Awards
DESCRIPTION:The annual 3rd Year Awards hosted by Amy Dann and the Shepparton Nursing Academics\, is on again. \n\n\n\nThis is an exclusive event for 3rd year nursing. Pizza and non alcoholic drinks provided by LTU (alcohol to be purchased by attendees). \n\n\n\n\nRSVP is required
URL:https://www.latrobe.edu.au/mylatrobe/event/nursing-3rd-year-awards/
LOCATION:Eves Bar\, 210 High Street\, Shepparton\, Victoria\, 3630\, Australia
CATEGORIES:Shepparton
END:VEVENT
BEGIN:VEVENT
DTSTART;TZID=Australia/Melbourne:20241205T080000
DTEND;TZID=Australia/Melbourne:20241205T100000
DTSTAMP:20260421T131804
CREATED:20240909T014715Z
LAST-MODIFIED:20240909T014718Z
UID:47329-1733385600-1733392800@www.latrobe.edu.au
SUMMARY:Free Biker's Brekkie - Albury Wodonga
DESCRIPTION:If you ride to uni on the first Thursday of the month you can get breakfast on us! \n\n\n\nSimply show your helmet to our representative between 8 am and 10 am and you will get a voucher for breakfast and a coffee at La Moka Café.
URL:https://www.latrobe.edu.au/mylatrobe/event/free-bikers-brekkie-albury-wodonga-3/
CATEGORIES:Albury-Wodonga
END:VEVENT
BEGIN:VEVENT
DTSTART;TZID=Australia/Melbourne:20241213T093000
DTEND;TZID=Australia/Melbourne:20241213T120000
DTSTAMP:20260421T131804
CREATED:20241205T041651Z
LAST-MODIFIED:20241205T041741Z
UID:48340-1734082200-1734091200@www.latrobe.edu.au
SUMMARY:Carlton FC Open Training Session
DESCRIPTION:Come along and watch the Blues train at Tony Sheehan Oval in the La Trobe Sports Park (Bundoora) as they prepare for their 2025 season campaign. Carlton players will be hosting a short autograph signing period post the training session with food and beverage stalls available on-site. \n\n\n\n\nREGISTER HERE
URL:https://www.latrobe.edu.au/mylatrobe/event/carlton-fc-open-training-session/
CATEGORIES:Bundoora,City
END:VEVENT
BEGIN:VEVENT
DTSTART;TZID=Australia/Melbourne:20250212T120000
DTEND;TZID=Australia/Melbourne:20250212T140000
DTSTAMP:20260421T131804
CREATED:20250122T052004Z
LAST-MODIFIED:20250202T233537Z
UID:48518-1739361600-1739368800@www.latrobe.edu.au
SUMMARY:Pre-Oh Pop Up
DESCRIPTION:Let’s enjoy summer and start getting ready for O Week. Come down and grab a free gelato\, have a look around campus\, join in some outdoor games or relax with some tunes in the Agora. See you there!
URL:https://www.latrobe.edu.au/mylatrobe/event/free-gelato/
CATEGORIES:Bundoora
ATTACH;FMTTYPE=image/png:https://www.latrobe.edu.au/mylatrobe/wp-content/uploads/2025/01/WordPress-Article-650-x-400-2.png
END:VEVENT
BEGIN:VEVENT
DTSTART;TZID=Australia/Melbourne:20250219T120000
DTEND;TZID=Australia/Melbourne:20250219T140000
DTSTAMP:20260421T131804
CREATED:20250122T053155Z
LAST-MODIFIED:20250202T233455Z
UID:48523-1739966400-1739973600@www.latrobe.edu.au
SUMMARY:Pre-Oh Pop Up
DESCRIPTION:Let’s enjoy summer and start getting ready for O Week. Come down and grab a free gelato\, have a look around campus\, join in some outdoor games or relax with some tunes in the Agora. See you there!
URL:https://www.latrobe.edu.au/mylatrobe/event/free-gelato-2/
CATEGORIES:Bundoora
ATTACH;FMTTYPE=image/png:https://www.latrobe.edu.au/mylatrobe/wp-content/uploads/2025/01/WordPress-Article-650-x-400-2.png
END:VEVENT
BEGIN:VEVENT
DTSTART;TZID=Australia/Melbourne:20250224T000000
DTEND;TZID=Australia/Melbourne:20250227T235959
DTSTAMP:20260421T131804
CREATED:20250219T060058Z
LAST-MODIFIED:20250224T000753Z
UID:48902-1740355200-1740700799@www.latrobe.edu.au
SUMMARY:2025 Orientation Week
DESCRIPTION:O Week is on from Monday 24 February – Thursday 27 February. \n\n\n\nCome along to our Orientation events across all campuses and online and prepare to meet a whole bunch of new people. There’ll be music\, fun activities\, free food\, and giveaways\, you can join a club or society and lots more! \n\n\n\nRemember to check the Orientation Planner regularly to see what’s on. Please note\, your plan won’t automatically update if new compulsory sessions are added\, so make sure to keep checking what’s on.  \n\n\n\nToo excited to wait until O Week starts? Get a head start and explore the On Demand content available 24/7 via the Orientation Planner.  \n\n\n\nLa Trobe is committed to providing events that are accessible and inclusive for Neurodivergent and/or Neurominority students. Each Festival has designated Quiet Zones and the final 30 minutes of each Festival event will be designated as a ‘Quiet’ period. \n\n\n\nAll students across all years are welcome to join! \n\n\n\nWhat are you waiting for? Create your custom Orientation planner now. \n\n\n\nHere’s a run-down of key festival events being held at each campus:\n\n\n\nFor details about these events and more check out the Orientation Planner. \n\n\n\n2025 Orientation Highlights\n\n\n\n\nMelbourne (Bundoora) – Wominjeka Ceremonies and Day 1 Festivals – Monday 24 February & Tuesday 25 February\n\n\n\nMelbourne (Bundoora) – Day 2 (Sports Fest) – Wednesday 26 February\n\n\n\nMelbourne (Bundoora) – Day 3 (Clubs Fest) – Thursday 27 February\n\n\n\nAlbury Wodonga – Orientation Welcome and Festival\, Course Meet & Greets – Tuesday 25 February\n\n\n\nBendigo – Orientation Welcome and Festival\, Course Meet & Greets – Monday 24 February\n\n\n\nCity – Orientation Welcome and Festival\, Course Meet & Greets – Wednesday 26 February\n\n\n\nMildura – Orientation Welcome and Festival\, Course Meet & Greets – Thursday 27 February\n\n\n\nShepparton – Orientation Welcome and Festival\, Course Meet & Greets – Wednesday 26 February
URL:https://www.latrobe.edu.au/mylatrobe/event/2025-orientation-week/
CATEGORIES:Albury-Wodonga,Bendigo,Bundoora,City,Mildura,Online,Shepparton
ATTACH;FMTTYPE=image/png:https://www.latrobe.edu.au/mylatrobe/wp-content/uploads/2025/02/Main-O-Week-image_WordPress-Article-650-x-400.png
END:VEVENT
BEGIN:VEVENT
DTSTART;TZID=Australia/Melbourne:20250224T110000
DTEND;TZID=Australia/Melbourne:20250224T140000
DTSTAMP:20260421T131804
CREATED:20250219T054813Z
LAST-MODIFIED:20250219T222121Z
UID:48893-1740394800-1740405600@www.latrobe.edu.au
SUMMARY:Welcome Festival: Melbourne (Bundoora)
DESCRIPTION:Location: Agora \n\n\n\nJoin the Wominjeka Ceremonies and Day 1 Festivals at our Melbourne (Bundoora) campus! \n\n\n\nThis event is designed for all students.
URL:https://www.latrobe.edu.au/mylatrobe/event/welcome-festival-melbourne-bundoora/
CATEGORIES:Bundoora
ATTACH;FMTTYPE=image/png:https://www.latrobe.edu.au/mylatrobe/wp-content/uploads/2025/02/Bundoora-Agora_O-Week-image_WordPress-Article-650-x-400.png
END:VEVENT
END:VCALENDAR