BEGIN:VCALENDAR
VERSION:2.0
PRODID:-//MyLaTrobe - ECPv6.15.20//NONSGML v1.0//EN
CALSCALE:GREGORIAN
METHOD:PUBLISH
X-ORIGINAL-URL:https://www.latrobe.edu.au/mylatrobe
X-WR-CALDESC:Events for MyLaTrobe
REFRESH-INTERVAL;VALUE=DURATION:PT1H
X-Robots-Tag:noindex
X-PUBLISHED-TTL:PT1H
BEGIN:VTIMEZONE
TZID:Australia/Melbourne
BEGIN:STANDARD
TZOFFSETFROM:+1100
TZOFFSETTO:+1000
TZNAME:AEST
DTSTART:20240406T160000
END:STANDARD
BEGIN:DAYLIGHT
TZOFFSETFROM:+1000
TZOFFSETTO:+1100
TZNAME:AEDT
DTSTART:20241005T160000
END:DAYLIGHT
BEGIN:STANDARD
TZOFFSETFROM:+1100
TZOFFSETTO:+1000
TZNAME:AEST
DTSTART:20250405T160000
END:STANDARD
BEGIN:DAYLIGHT
TZOFFSETFROM:+1000
TZOFFSETTO:+1100
TZNAME:AEDT
DTSTART:20251004T160000
END:DAYLIGHT
BEGIN:STANDARD
TZOFFSETFROM:+1100
TZOFFSETTO:+1000
TZNAME:AEST
DTSTART:20260404T160000
END:STANDARD
BEGIN:DAYLIGHT
TZOFFSETFROM:+1000
TZOFFSETTO:+1100
TZNAME:AEDT
DTSTART:20261003T160000
END:DAYLIGHT
END:VTIMEZONE
BEGIN:VEVENT
DTSTART;TZID=Australia/Melbourne:20250728T083000
DTEND;TZID=Australia/Melbourne:20250728T083000
DTSTAMP:20260420T090535
CREATED:20250724T035547Z
LAST-MODIFIED:20250724T042021Z
UID:52934-1753691400-1753691400@www.latrobe.edu.au
SUMMARY:Campus Activation - FREE Coffee @ Sista by Stellar
DESCRIPTION:Students enjoy a FREE coffee from Sista by Stellar. While waiting for your coffee\, you will be given a card to write what you want to see happen on campus. Name an activity\, event or activation (other than free food) – We also have info on some of our student facing services here to help you throughout your university journeyBe sure to get into Sista by Stellar quick or they might sell out!
URL:https://www.latrobe.edu.au/mylatrobe/event/campus-activation-free-coffee-sista-by-stellar-6/
CATEGORIES:Shepparton
END:VEVENT
BEGIN:VEVENT
DTSTART;TZID=Australia/Melbourne:20250730T120000
DTEND;TZID=Australia/Melbourne:20250730T120000
DTSTAMP:20260420T090535
CREATED:20250724T040139Z
LAST-MODIFIED:20250724T042400Z
UID:52935-1753876800-1753876800@www.latrobe.edu.au
SUMMARY:Welcome Back Orientation Festival
DESCRIPTION:Don’t miss the Shepparton Orientation Welcome Festival! Get to know La Trobe’s\, support services\, the La Trobe Student Association (LTSA) and meet fellow students and staff. Are you a current student? We have representatives from GV Health\, Headspace and more ready to chat all things employability. PLUS there’ll be music\, activities\, free food\, and giveaways. See you there!
URL:https://www.latrobe.edu.au/mylatrobe/event/welcome-back-orientation-festival/
CATEGORIES:Shepparton
END:VEVENT
BEGIN:VEVENT
DTSTART;TZID=Australia/Melbourne:20250731T180000
DTEND;TZID=Australia/Melbourne:20250731T180000
DTSTAMP:20260420T090535
CREATED:20250724T040241Z
LAST-MODIFIED:20250724T040241Z
UID:52936-1753984800-1753984800@www.latrobe.edu.au
SUMMARY:Paint & Sip
DESCRIPTION:Get ready to unleash your inner Picasso with our paint and sip evening. Paint by numbers will guide you to create a masterpieces while enjoying a skilfully mixed mocktail and platter.  It’s a fun\, unique\, and creative way to meet other students.
URL:https://www.latrobe.edu.au/mylatrobe/event/paint-sip/
CATEGORIES:Shepparton
END:VEVENT
END:VCALENDAR