BEGIN:VCALENDAR
VERSION:2.0
PRODID:-//MyLaTrobe - ECPv6.15.20//NONSGML v1.0//EN
CALSCALE:GREGORIAN
METHOD:PUBLISH
X-WR-CALNAME:MyLaTrobe
X-ORIGINAL-URL:https://www.latrobe.edu.au/mylatrobe
X-WR-CALDESC:Events for MyLaTrobe
REFRESH-INTERVAL;VALUE=DURATION:PT1H
X-Robots-Tag:noindex
X-PUBLISHED-TTL:PT1H
BEGIN:VTIMEZONE
TZID:Australia/Melbourne
BEGIN:STANDARD
TZOFFSETFROM:+1100
TZOFFSETTO:+1000
TZNAME:AEST
DTSTART:20240406T160000
END:STANDARD
BEGIN:DAYLIGHT
TZOFFSETFROM:+1000
TZOFFSETTO:+1100
TZNAME:AEDT
DTSTART:20241005T160000
END:DAYLIGHT
BEGIN:STANDARD
TZOFFSETFROM:+1100
TZOFFSETTO:+1000
TZNAME:AEST
DTSTART:20250405T160000
END:STANDARD
BEGIN:DAYLIGHT
TZOFFSETFROM:+1000
TZOFFSETTO:+1100
TZNAME:AEDT
DTSTART:20251004T160000
END:DAYLIGHT
BEGIN:STANDARD
TZOFFSETFROM:+1100
TZOFFSETTO:+1000
TZNAME:AEST
DTSTART:20260404T160000
END:STANDARD
BEGIN:DAYLIGHT
TZOFFSETFROM:+1000
TZOFFSETTO:+1100
TZNAME:AEDT
DTSTART:20261003T160000
END:DAYLIGHT
END:VTIMEZONE
BEGIN:VEVENT
DTSTART;TZID=Australia/Melbourne:20250507T084500
DTEND;TZID=Australia/Melbourne:20250507T084500
DTSTAMP:20260420T085736
CREATED:20250312T230419Z
LAST-MODIFIED:20250312T230419Z
UID:49901-1746607500-1746607500@www.latrobe.edu.au
SUMMARY:Mid-week Coffee Voucher
DESCRIPTION:Get in quick (between 8:45 – 9:15 am) and collect one of 25 vouchers available to enjoy a hot drink on us!
URL:https://www.latrobe.edu.au/mylatrobe/event/mid-week-coffee-voucher-7/
CATEGORIES:Shepparton
END:VEVENT
BEGIN:VEVENT
DTSTART;TZID=Australia/Melbourne:20250512T093000
DTEND;TZID=Australia/Melbourne:20250512T093000
DTSTAMP:20260420T085736
CREATED:20250312T230419Z
LAST-MODIFIED:20250312T230419Z
UID:49908-1747042200-1747042200@www.latrobe.edu.au
SUMMARY:International Day of Nurses and Midwives - High Tea
DESCRIPTION:All Nursing students at Shepparton are invited to attend our high-tea where you’ll have the opportunity to network and hear from a Health industy guest speaker.
URL:https://www.latrobe.edu.au/mylatrobe/event/international-day-of-nurses-and-midwives-high-tea/
CATEGORIES:Shepparton
END:VEVENT
BEGIN:VEVENT
DTSTART;TZID=Australia/Melbourne:20250513T120000
DTEND;TZID=Australia/Melbourne:20250513T120000
DTSTAMP:20260420T085736
CREATED:20250312T230420Z
LAST-MODIFIED:20250312T230420Z
UID:49914-1747137600-1747137600@www.latrobe.edu.au
SUMMARY:How to secure job opportunities without a PR for International students
DESCRIPTION:This will be a panel session primarity aimed from peers and alumni who will be sharing their stories of securing jobs/ practical experiences  without having a PR and providing tips for the same. Requested many times by students (On Demand topic)
URL:https://www.latrobe.edu.au/mylatrobe/event/how-to-secure-job-opportunities-without-a-pr-for-international-students-3/
CATEGORIES:Shepparton
END:VEVENT
BEGIN:VEVENT
DTSTART;TZID=Australia/Melbourne:20250514T084500
DTEND;TZID=Australia/Melbourne:20250514T084500
DTSTAMP:20260420T085736
CREATED:20250312T230420Z
LAST-MODIFIED:20250312T230420Z
UID:49920-1747212300-1747212300@www.latrobe.edu.au
SUMMARY:Mid-week Coffee Voucher
DESCRIPTION:Get in quick (between 8:45 – 9:15 am) and collect one of 25 vouchers available to enjoy a hot drink on us!
URL:https://www.latrobe.edu.au/mylatrobe/event/mid-week-coffee-voucher-8/
CATEGORIES:Shepparton
END:VEVENT
BEGIN:VEVENT
DTSTART;TZID=Australia/Melbourne:20250516T090000
DTEND;TZID=Australia/Melbourne:20250516T090000
DTSTAMP:20260420T085736
CREATED:20250312T230528Z
LAST-MODIFIED:20250312T230528Z
UID:49928-1747386000-1747386000@www.latrobe.edu.au
SUMMARY:UniSport Swimming Nationals Commences
DESCRIPTION:Get your goggles on\, Team La Trobe heads to Sydney to compete in UniSport Swimming Nationals! La Trobe University will battle it out against 43 other member universities in an event that cannot be missed.  “For updated event information please visit\, https://www.latrobe.edu.au/sport/play-sport/represent/university-nationals’
URL:https://www.latrobe.edu.au/mylatrobe/event/unisport-swimming-nationals-commences-4/
CATEGORIES:Shepparton
END:VEVENT
BEGIN:VEVENT
DTSTART;TZID=Australia/Melbourne:20250521T084500
DTEND;TZID=Australia/Melbourne:20250521T084500
DTSTAMP:20260420T085736
CREATED:20250312T230528Z
LAST-MODIFIED:20250312T230528Z
UID:49935-1747817100-1747817100@www.latrobe.edu.au
SUMMARY:Mid-week Coffee Voucher
DESCRIPTION:Get in quick (between 8:45 – 9:15 am) and collect one of 25 vouchers available to enjoy a hot drink on us!
URL:https://www.latrobe.edu.au/mylatrobe/event/mid-week-coffee-voucher-9/
CATEGORIES:Shepparton
END:VEVENT
BEGIN:VEVENT
DTSTART;TZID=Australia/Melbourne:20250527T090000
DTEND;TZID=Australia/Melbourne:20250527T090000
DTSTAMP:20260420T085736
CREATED:20250312T230529Z
LAST-MODIFIED:20250312T230529Z
UID:49953-1748336400-1748336400@www.latrobe.edu.au
SUMMARY:UniSport 3x3 Basketball Nationals Commence
DESCRIPTION:Team La Trobe descends onto Monash University to face Australian Universities to battle it out for the title in 3×3 Basketball
URL:https://www.latrobe.edu.au/mylatrobe/event/unisport-3x3-basketball-nationals-commence-3/
CATEGORIES:Shepparton
END:VEVENT
BEGIN:VEVENT
DTSTART;TZID=Australia/Melbourne:20250527T120000
DTEND;TZID=Australia/Melbourne:20250527T120000
DTSTAMP:20260420T085736
CREATED:20250312T230529Z
LAST-MODIFIED:20250312T230529Z
UID:49957-1748347200-1748347200@www.latrobe.edu.au
SUMMARY:Importance of Professional Communication at the Workplace  for International students
DESCRIPTION:Students have the opportunity to know the importance of a proper professional communication and the dos and don’t s that they need to know important for the job market. Some of them might be different from their Home countries
URL:https://www.latrobe.edu.au/mylatrobe/event/importance-of-professional-communication-at-the-workplace-for-international-students-2/
CATEGORIES:Shepparton
END:VEVENT
BEGIN:VEVENT
DTSTART;TZID=Australia/Melbourne:20250528T084500
DTEND;TZID=Australia/Melbourne:20250528T084500
DTSTAMP:20260420T085736
CREATED:20250312T230529Z
LAST-MODIFIED:20250312T230529Z
UID:49963-1748421900-1748421900@www.latrobe.edu.au
SUMMARY:Mid-week Coffee Voucher
DESCRIPTION:Get in quick (between 8:45 – 9:15 am) and collect one of 25 vouchers available to enjoy a hot drink on us!
URL:https://www.latrobe.edu.au/mylatrobe/event/mid-week-coffee-voucher-10/
CATEGORIES:Shepparton
END:VEVENT
END:VCALENDAR