BEGIN:VCALENDAR
VERSION:2.0
PRODID:-//MyLaTrobe - ECPv6.15.20//NONSGML v1.0//EN
CALSCALE:GREGORIAN
METHOD:PUBLISH
X-ORIGINAL-URL:https://www.latrobe.edu.au/mylatrobe
X-WR-CALDESC:Events for MyLaTrobe
REFRESH-INTERVAL;VALUE=DURATION:PT1H
X-Robots-Tag:noindex
X-PUBLISHED-TTL:PT1H
BEGIN:VTIMEZONE
TZID:Australia/Melbourne
BEGIN:STANDARD
TZOFFSETFROM:+1100
TZOFFSETTO:+1000
TZNAME:AEST
DTSTART:20240406T160000
END:STANDARD
BEGIN:DAYLIGHT
TZOFFSETFROM:+1000
TZOFFSETTO:+1100
TZNAME:AEDT
DTSTART:20241005T160000
END:DAYLIGHT
BEGIN:STANDARD
TZOFFSETFROM:+1100
TZOFFSETTO:+1000
TZNAME:AEST
DTSTART:20250405T160000
END:STANDARD
BEGIN:DAYLIGHT
TZOFFSETFROM:+1000
TZOFFSETTO:+1100
TZNAME:AEDT
DTSTART:20251004T160000
END:DAYLIGHT
BEGIN:STANDARD
TZOFFSETFROM:+1100
TZOFFSETTO:+1000
TZNAME:AEST
DTSTART:20260404T160000
END:STANDARD
BEGIN:DAYLIGHT
TZOFFSETFROM:+1000
TZOFFSETTO:+1100
TZNAME:AEDT
DTSTART:20261003T160000
END:DAYLIGHT
END:VTIMEZONE
BEGIN:VEVENT
DTSTART;TZID=Australia/Melbourne:20250312T133000
DTEND;TZID=Australia/Melbourne:20250312T133000
DTSTAMP:20260420T120627
CREATED:20250312T230611Z
LAST-MODIFIED:20250312T230611Z
UID:49719-1741786200-1741786200@www.latrobe.edu.au
SUMMARY:Student Experience Grants Information Session
DESCRIPTION:Are you interested in applying for a Student Experience Grant? Join this information session to learn about the program\, eligibility requirements\, and key details to include in your application. This session will help you understand how to create a strong proposal and make the most of this funding opportunity. There will also be time for questions\, so bring your ideas!
URL:https://www.latrobe.edu.au/mylatrobe/event/student-experience-grants-information-session-3/
CATEGORIES:Shepparton
END:VEVENT
BEGIN:VEVENT
DTSTART;TZID=Australia/Melbourne:20250313T120000
DTEND;TZID=Australia/Melbourne:20250313T120000
DTSTAMP:20260420T120627
CREATED:20250312T225403Z
LAST-MODIFIED:20250312T225403Z
UID:49731-1741867200-1741867200@www.latrobe.edu.au
SUMMARY:Importance of getting local experience for International students through Placements. WIL & Volunteering
DESCRIPTION:One of the most popluar events in 2024 for International students.  Representattive from the WIL Team  talks about their different opportunities into the program that the international students can explore to get local experience to enter the job market .
URL:https://www.latrobe.edu.au/mylatrobe/event/importance-of-getting-local-experience-for-international-students-through-placements-wil-volunteering-3/
CATEGORIES:Shepparton
END:VEVENT
BEGIN:VEVENT
DTSTART;TZID=Australia/Melbourne:20250313T173000
DTEND;TZID=Australia/Melbourne:20250313T173000
DTSTAMP:20260420T120627
CREATED:20250312T225403Z
LAST-MODIFIED:20250312T225403Z
UID:49735-1741887000-1741887000@www.latrobe.edu.au
SUMMARY:Student Experience Grants Information Session
DESCRIPTION:Are you interested in applying for a Student Experience Grant? Join this information session to learn about the program\, eligibility requirements\, and key details to include in your application. This session will help you understand how to create a strong proposal and make the most of this funding opportunity. There will also be time for questions\, so bring your ideas!
URL:https://www.latrobe.edu.au/mylatrobe/event/student-experience-grants-information-session-2/
CATEGORIES:Shepparton
END:VEVENT
BEGIN:VEVENT
DTSTART;TZID=Australia/Melbourne:20250317T110000
DTEND;TZID=Australia/Melbourne:20250317T110000
DTSTAMP:20260420T120627
CREATED:20250312T225404Z
LAST-MODIFIED:20250312T225404Z
UID:49741-1742209200-1742209200@www.latrobe.edu.au
SUMMARY:Preparing for & standing at the Big Meet & Bendigo Employability Expo.
DESCRIPTION:4 panelists participating at the Big Meet share insights. Ideal for students looking for graduate roles\, paid internships or summer vacation programs. Panellists will provide tips on how students can prepare effectively and make a great first impression with industry professionals at the Big Meet.
URL:https://www.latrobe.edu.au/mylatrobe/event/preparing-for-standing-at-the-big-meet-bendigo-employability-expo/
CATEGORIES:Shepparton
END:VEVENT
BEGIN:VEVENT
DTSTART;TZID=Australia/Melbourne:20250318T073000
DTEND;TZID=Australia/Melbourne:20250318T073000
DTSTAMP:20260420T120627
CREATED:20250312T225404Z
LAST-MODIFIED:20250312T225404Z
UID:49746-1742283000-1742283000@www.latrobe.edu.au
SUMMARY:Cohort Catch Up -Social Work Day Breakfast
DESCRIPTION:Open to all current Social Work students\, join us for a breakfast to celebrate World Social Work Day!
URL:https://www.latrobe.edu.au/mylatrobe/event/cohort-catch-up-social-work-day-breakfast/
CATEGORIES:Shepparton
END:VEVENT
BEGIN:VEVENT
DTSTART;TZID=Australia/Melbourne:20250318T073000
DTEND;TZID=Australia/Melbourne:20250318T073000
DTSTAMP:20260420T120627
CREATED:20250312T225404Z
LAST-MODIFIED:20250312T225404Z
UID:49747-1742283000-1742283000@www.latrobe.edu.au
SUMMARY:World Social Work day Breakfast
DESCRIPTION:Join us for breakfast to celebrate World Social Work Day\, Current social work students and local social workers are invited
URL:https://www.latrobe.edu.au/mylatrobe/event/world-social-work-day-breakfast/
CATEGORIES:Shepparton
END:VEVENT
BEGIN:VEVENT
DTSTART;TZID=Australia/Melbourne:20250318T073000
DTEND;TZID=Australia/Melbourne:20250318T090000
DTSTAMP:20260420T120627
CREATED:20250305T055812Z
LAST-MODIFIED:20250305T055817Z
UID:49145-1742283000-1742288400@www.latrobe.edu.au
SUMMARY:World Social Work Day breakfast - Shepparton
DESCRIPTION:Please join us for breakfast to celebrate World Social Work Day. La Trobe staff\, students and local social workers are all invited to attend. \n\n\n\nVenue: La Trobe University Shepparton Campus 210 Fryers Street Shepparton. \n\n\n\nRegister now for this free event!
URL:https://www.latrobe.edu.au/mylatrobe/event/world-social-work-day-breakfast-shepparton/
CATEGORIES:Shepparton
END:VEVENT
BEGIN:VEVENT
DTSTART;TZID=Australia/Melbourne:20250318T130000
DTEND;TZID=Australia/Melbourne:20250318T130000
DTSTAMP:20260420T120627
CREATED:20250312T225405Z
LAST-MODIFIED:20250312T225405Z
UID:49755-1742302800-1742302800@www.latrobe.edu.au
SUMMARY:Exploring career options with your degree
DESCRIPTION:Broaden your perspective on potential career pathways.
URL:https://www.latrobe.edu.au/mylatrobe/event/exploring-career-options-with-your-degree-5/
CATEGORIES:Shepparton
END:VEVENT
BEGIN:VEVENT
DTSTART;TZID=Australia/Melbourne:20250319T083000
DTEND;TZID=Australia/Melbourne:20250319T083000
DTSTAMP:20260420T120627
CREATED:20250312T225405Z
LAST-MODIFIED:20250312T225405Z
UID:49760-1742373000-1742373000@www.latrobe.edu.au
SUMMARY:Harmony Week
DESCRIPTION:Join us in celebrating cultural diversity with a free Harmony Breakfast. Enjoy pancakes\, juice and cupcakes.
URL:https://www.latrobe.edu.au/mylatrobe/event/harmony-week-3/
CATEGORIES:Shepparton
END:VEVENT
BEGIN:VEVENT
DTSTART;TZID=Australia/Melbourne:20250319T084500
DTEND;TZID=Australia/Melbourne:20250319T084500
DTSTAMP:20260420T120627
CREATED:20250312T225405Z
LAST-MODIFIED:20250312T225405Z
UID:49761-1742373900-1742373900@www.latrobe.edu.au
SUMMARY:Mid-week Coffee Voucher
DESCRIPTION:Get in quick (between 8:45 – 9:15 am) and collect one of 25 vouchers available to enjoy a hot drink on us!
URL:https://www.latrobe.edu.au/mylatrobe/event/mid-week-coffee-voucher/
CATEGORIES:Shepparton
END:VEVENT
BEGIN:VEVENT
DTSTART;TZID=Australia/Melbourne:20250320T110000
DTEND;TZID=Australia/Melbourne:20250320T110000
DTSTAMP:20260420T120627
CREATED:20250312T225503Z
LAST-MODIFIED:20250312T225503Z
UID:49769-1742468400-1742468400@www.latrobe.edu.au
SUMMARY:Developing targeted job applications.
DESCRIPTION:The focus of this webinar is on how you can stand out from your competitors by tailoring resumes and cover letters while strategically using AI to market your skills effectively.
URL:https://www.latrobe.edu.au/mylatrobe/event/developing-targeted-job-applications/
CATEGORIES:Shepparton
END:VEVENT
BEGIN:VEVENT
DTSTART;TZID=Australia/Melbourne:20250320T130000
DTEND;TZID=Australia/Melbourne:20250320T130000
DTSTAMP:20260420T120627
CREATED:20250312T225503Z
LAST-MODIFIED:20250312T225503Z
UID:49776-1742475600-1742475600@www.latrobe.edu.au
SUMMARY:Interview preparation & using AI to your advantage
DESCRIPTION:This webinar focuses on the best approach to answer questions\, how AI can support you in preparing for interviews & much more.
URL:https://www.latrobe.edu.au/mylatrobe/event/interview-preparation-using-ai-to-your-advantage/
CATEGORIES:Shepparton
END:VEVENT
BEGIN:VEVENT
DTSTART;TZID=Australia/Melbourne:20250326T084500
DTEND;TZID=Australia/Melbourne:20250326T084500
DTSTAMP:20260420T120627
CREATED:20250312T225506Z
LAST-MODIFIED:20250312T225506Z
UID:49793-1742978700-1742978700@www.latrobe.edu.au
SUMMARY:Mid-week Coffee Voucher
DESCRIPTION:Get in quick (between 8:45 – 9:15 am) and collect one of 25 vouchers available to enjoy a hot drink on us!
URL:https://www.latrobe.edu.au/mylatrobe/event/mid-week-coffee-voucher-2/
CATEGORIES:Shepparton
END:VEVENT
BEGIN:VEVENT
DTSTART;TZID=Australia/Melbourne:20250326T120000
DTEND;TZID=Australia/Melbourne:20250326T120000
DTSTAMP:20260420T120627
CREATED:20250312T225506Z
LAST-MODIFIED:20250312T225506Z
UID:49795-1742990400-1742990400@www.latrobe.edu.au
SUMMARY:Career Options in Government.
DESCRIPTION:A panel discussion on career pathways with recruiters from government departments.
URL:https://www.latrobe.edu.au/mylatrobe/event/career-options-in-government/
CATEGORIES:Shepparton
END:VEVENT
BEGIN:VEVENT
DTSTART;TZID=Australia/Melbourne:20250326T120000
DTEND;TZID=Australia/Melbourne:20250326T120000
DTSTAMP:20260420T120627
CREATED:20250312T225506Z
LAST-MODIFIED:20250312T225506Z
UID:49798-1742990400-1742990400@www.latrobe.edu.au
SUMMARY:Re-Orientation
DESCRIPTION:It’s time to re-live all the fun of Orientation! Meet your support services\, take part in some interactive activities like badge-making and painting\, and enjoy a gourmet BBQ.
URL:https://www.latrobe.edu.au/mylatrobe/event/re-orientation-4/
CATEGORIES:Shepparton
END:VEVENT
END:VCALENDAR