BEGIN:VCALENDAR
VERSION:2.0
PRODID:-//MyLaTrobe - ECPv6.15.20//NONSGML v1.0//EN
CALSCALE:GREGORIAN
METHOD:PUBLISH
X-WR-CALNAME:MyLaTrobe
X-ORIGINAL-URL:https://www.latrobe.edu.au/mylatrobe
X-WR-CALDESC:Events for MyLaTrobe
REFRESH-INTERVAL;VALUE=DURATION:PT1H
X-Robots-Tag:noindex
X-PUBLISHED-TTL:PT1H
BEGIN:VTIMEZONE
TZID:Australia/Melbourne
BEGIN:DAYLIGHT
TZOFFSETFROM:+1000
TZOFFSETTO:+1100
TZNAME:AEDT
DTSTART:19711030T160000
END:DAYLIGHT
END:VTIMEZONE
BEGIN:VEVENT
DTSTART;TZID=Australia/Melbourne:20260421T163639
DTEND;TZID=Australia/Melbourne:20260421T163639
DTSTAMP:20260421T163639
CREATED:20250728T012648Z
LAST-MODIFIED:20250728T012648Z
UID:53528-0-0@www.latrobe.edu.au
SUMMARY:Preparing for the Employability Expo & making a good first impression webinar
DESCRIPTION:Hear from industry respresentatives on how you can best prepare for the Expo and stand out.
URL:https://www.latrobe.edu.au/mylatrobe/event/preparing-for-the-employability-expo-making-a-good-first-impression-webinar/
LOCATION:Victoria
CATEGORIES:Online
END:VEVENT
BEGIN:VEVENT
DTSTART;TZID=Australia/Melbourne:20260421T163639
DTEND;TZID=Australia/Melbourne:20260421T163639
DTSTAMP:20260421T163639
CREATED:20250728T012648Z
LAST-MODIFIED:20250728T012648Z
UID:53543-0-0@www.latrobe.edu.au
SUMMARY:Job search strategies webinar
DESCRIPTION:Get tips on developing a job search strategy that will leave you feeling more confident with this activity.
URL:https://www.latrobe.edu.au/mylatrobe/event/job-search-strategies-webinar/
LOCATION:Victoria
CATEGORIES:Online
END:VEVENT
BEGIN:VEVENT
DTSTART;TZID=Australia/Melbourne:20260421T163639
DTEND;TZID=Australia/Melbourne:20260421T163639
DTSTAMP:20260421T163639
CREATED:20250728T012647Z
LAST-MODIFIED:20250728T012647Z
UID:53521-0-0@www.latrobe.edu.au
SUMMARY:Work Rights for International Students- Semester 2
DESCRIPTION:This webinar is an important session for International Students to know their working Rights from Expert (Principal Lawyer) from Jobwatch
URL:https://www.latrobe.edu.au/mylatrobe/event/work-rights-for-international-students-semester-2/
LOCATION:Victoria
CATEGORIES:Online
END:VEVENT
BEGIN:VEVENT
DTSTART;TZID=Australia/Melbourne:20260421T163639
DTEND;TZID=Australia/Melbourne:20260421T163639
DTSTAMP:20260421T163639
CREATED:20250728T012512Z
LAST-MODIFIED:20250728T012526Z
UID:53531-0-0@www.latrobe.edu.au
SUMMARY:ThursYAY - Free Soup Day @ Bendigo Campus
DESCRIPTION:Live near Bendigo Campus? Warm up this winter with a free soup and roll! Show your ID to pick up your Winter Warmer voucher from a member of the Campus Engagement Team in the LSU and redeem it at JD Café. A perfect way to beat the chill – delicious\, comforting\, and completely free! Don’t miss out – grab yours while they last!
URL:https://www.latrobe.edu.au/mylatrobe/event/thursyay-free-soup-day-bendigo-campus/
LOCATION:LSU
CATEGORIES:Bendigo,Online
END:VEVENT
BEGIN:VEVENT
DTSTART;TZID=Australia/Melbourne:20260421T163639
DTEND;TZID=Australia/Melbourne:20260421T163639
DTSTAMP:20260421T163639
CREATED:20250728T012512Z
LAST-MODIFIED:20250728T012526Z
UID:53554-0-0@www.latrobe.edu.au
SUMMARY:Spring Festival @ Bendigo Campus
DESCRIPTION:Live near Bendigo Campus? Celebrate with us in style at the 2025 Spring Festival. This year’s event will showcase  the 2025 La Trobe Walk / Run\, free lunch\, music\, drinks\, photo booth and much more. We can’t wait to see you there!
URL:https://www.latrobe.edu.au/mylatrobe/event/spring-festival-bendigo-campus/
LOCATION:Victoria
CATEGORIES:Bendigo,Online
END:VEVENT
BEGIN:VEVENT
DTSTART;TZID=Australia/Melbourne:20260421T163639
DTEND;TZID=Australia/Melbourne:20260421T163639
DTSTAMP:20260421T163639
CREATED:20250728T012511Z
LAST-MODIFIED:20250728T012526Z
UID:53545-0-0@www.latrobe.edu.au
SUMMARY:Pride Festival @ Bendigo Campus
DESCRIPTION:Live near Bendigo campus? Celebrate 2025 Pride Week with us in style!!Enjoy live DJ performance\, hot food\, engage with La Trobe and external LGBTQI service providers and join in our activities designed to add some rainbow sparkle to your day!
URL:https://www.latrobe.edu.au/mylatrobe/event/pride-festival-bendigo-campus/
LOCATION:Victoria
CATEGORIES:Bendigo,Online
END:VEVENT
BEGIN:VEVENT
DTSTART;TZID=Australia/Melbourne:20260421T163639
DTEND;TZID=Australia/Melbourne:20260421T163639
DTSTAMP:20260421T163639
CREATED:20250728T012511Z
LAST-MODIFIED:20250728T012525Z
UID:53519-0-0@www.latrobe.edu.au
SUMMARY:Tuesday - Free Soup Day @ Bendigo Campus
DESCRIPTION:Live near Bendigo Campus? Warm up this winter with a free soup and roll! Show your ID to pick up your Winter Warmer voucher from a member of the Campus Engagement Team in the LSU and redeem it at JD Café. A perfect way to beat the chill – delicious\, comforting\, and completely free! Don’t miss out – grab yours while they last!
URL:https://www.latrobe.edu.au/mylatrobe/event/tuesday-free-soup-day-bendigo-campus/
LOCATION:LSU
CATEGORIES:Bendigo,Online
END:VEVENT
BEGIN:VEVENT
DTSTART;TZID=Australia/Melbourne:20260421T163639
DTEND;TZID=Australia/Melbourne:20260421T163639
DTSTAMP:20260421T163639
CREATED:20250728T012511Z
LAST-MODIFIED:20250728T012525Z
UID:53520-0-0@www.latrobe.edu.au
SUMMARY:Semester 2 Orientation Welcome Back Festival @ Bendigo Campus
DESCRIPTION:Kick off Semester 2 at the Bendigo Welcome Festival! Explore club stalls\, learn about support services\, enjoy free food\, and experience live entertainment. It’s a great opportunity to meet new people\, discover your interests\, and begin the semester with energy and excitement. Don’t miss out on making the most of your university experience!
URL:https://www.latrobe.edu.au/mylatrobe/event/semester-2-orientation-welcome-back-festival-bendigo-campus/
LOCATION:Victoria
CATEGORIES:Bendigo,Online
END:VEVENT
END:VCALENDAR