BEGIN:VCALENDAR
VERSION:2.0
PRODID:-//MyLaTrobe - ECPv6.15.20//NONSGML v1.0//EN
CALSCALE:GREGORIAN
METHOD:PUBLISH
X-WR-CALNAME:MyLaTrobe
X-ORIGINAL-URL:https://www.latrobe.edu.au/mylatrobe
X-WR-CALDESC:Events for MyLaTrobe
REFRESH-INTERVAL;VALUE=DURATION:PT1H
X-Robots-Tag:noindex
X-PUBLISHED-TTL:PT1H
BEGIN:VTIMEZONE
TZID:Australia/Melbourne
BEGIN:DAYLIGHT
TZOFFSETFROM:+1000
TZOFFSETTO:+1100
TZNAME:AEDT
DTSTART:19711030T160000
END:DAYLIGHT
END:VTIMEZONE
BEGIN:VEVENT
DTSTART;TZID=Australia/Melbourne:20260421T133241
DTEND;TZID=Australia/Melbourne:20260421T133241
DTSTAMP:20260421T133241
CREATED:20250728T012836Z
LAST-MODIFIED:20250821T020310Z
UID:53523-0-0@www.latrobe.edu.au
SUMMARY:Free Coffee Friday @ Bundoora Campus
DESCRIPTION:Live near Bundoora campus? Wrap up the week with a FREE coffee!
URL:https://www.latrobe.edu.au/mylatrobe/event/free-coffee-friday-bundoora-campus/
CATEGORIES:Online
END:VEVENT
BEGIN:VEVENT
DTSTART;TZID=Australia/Melbourne:20260421T133241
DTEND;TZID=Australia/Melbourne:20260421T133241
DTSTAMP:20260421T133241
CREATED:20250728T012836Z
LAST-MODIFIED:20250902T004508Z
UID:53555-0-0@www.latrobe.edu.au
SUMMARY:Spring Festival - Twilight Market @ Bundoora campus
DESCRIPTION:Spring is in the air at Bundoora Campus! It’s time to refresh and reset at this year’s Spring Festival – Twilight Market. If you live near Bundoora campus or fancy a drive in the afternoon\, come along for some pampering\, craft activities or just sit back and enjoy the entertainment. Go on\, you deserve it!
URL:https://www.latrobe.edu.au/mylatrobe/event/spring-festival-twilight-market-bundoora-campus/
CATEGORIES:Online
END:VEVENT
BEGIN:VEVENT
DTSTART;TZID=Australia/Melbourne:20260421T133241
DTEND;TZID=Australia/Melbourne:20260421T133241
DTSTAMP:20260421T133241
CREATED:20250728T012836Z
LAST-MODIFIED:20250728T012836Z
UID:53526-0-0@www.latrobe.edu.au
SUMMARY:Free Winter Warmer @ Bundoora Campus
DESCRIPTION:Live near Bundoora campus? Come and grab a free hot soup today in the Agora to keep you warm while you study.
URL:https://www.latrobe.edu.au/mylatrobe/event/free-winter-warmer-bundoora-campus/
LOCATION:Agora
CATEGORIES:Online
END:VEVENT
BEGIN:VEVENT
DTSTART;TZID=Australia/Melbourne:20260421T133241
DTEND;TZID=Australia/Melbourne:20260421T133241
DTSTAMP:20260421T133241
CREATED:20250728T012836Z
LAST-MODIFIED:20250728T012836Z
UID:53565-0-0@www.latrobe.edu.au
SUMMARY:Building a Thriving Career as an international students - A networking event with professionals
DESCRIPTION:This will be a professional on- campus networking event for international students where they can interact with the industry professionals and network with them
URL:https://www.latrobe.edu.au/mylatrobe/event/building-a-thriving-career-as-an-international-students-a-networking-event-with-professionals/
CATEGORIES:Online
END:VEVENT
BEGIN:VEVENT
DTSTART;TZID=Australia/Melbourne:20260421T133241
DTEND;TZID=Australia/Melbourne:20260421T133241
DTSTAMP:20260421T133241
CREATED:20250728T012751Z
LAST-MODIFIED:20250728T012751Z
UID:53553-0-0@www.latrobe.edu.au
SUMMARY:Career Conversations: Employers Expectations from International Students- A panel session
DESCRIPTION:This will be a panel webinar where the students will know straight from employers about their expectations\, industry trends\, how to network with the employers in relation to job opportunities and many more.
URL:https://www.latrobe.edu.au/mylatrobe/event/career-conversations-employers-expectations-from-international-students-a-panel-session/
CATEGORIES:Online
END:VEVENT
BEGIN:VEVENT
DTSTART;TZID=Australia/Melbourne:20260421T133241
DTEND;TZID=Australia/Melbourne:20260421T133241
DTSTAMP:20260421T133241
CREATED:20250728T012750Z
LAST-MODIFIED:20250728T012750Z
UID:53536-0-0@www.latrobe.edu.au
SUMMARY:2025 Study Australia Industry Experience Projects (SAIEP) Info Session 4- Practera - Sep- 2weeks
DESCRIPTION:This is the SAIEP Information Session 4 for domestic and international students for the September- 2 weeks of virtual Industry Experience Project for 2 weeks
URL:https://www.latrobe.edu.au/mylatrobe/event/2025-study-australia-industry-experience-projects-saiep-info-session-4-practera-sep-2weeks/
CATEGORIES:Online
END:VEVENT
BEGIN:VEVENT
DTSTART;TZID=Australia/Melbourne:20260421T133241
DTEND;TZID=Australia/Melbourne:20260421T133241
DTSTAMP:20260421T133241
CREATED:20250728T012750Z
LAST-MODIFIED:20250728T012750Z
UID:53547-0-0@www.latrobe.edu.au
SUMMARY:Preparing for a (mock) interview
DESCRIPTION:Interview preparation tips
URL:https://www.latrobe.edu.au/mylatrobe/event/preparing-for-a-mock-interview/
CATEGORIES:Online
END:VEVENT
BEGIN:VEVENT
DTSTART;TZID=Australia/Melbourne:20260421T133241
DTEND;TZID=Australia/Melbourne:20260421T133241
DTSTAMP:20260421T133241
CREATED:20250728T012648Z
LAST-MODIFIED:20250728T012648Z
UID:53528-0-0@www.latrobe.edu.au
SUMMARY:Preparing for the Employability Expo & making a good first impression webinar
DESCRIPTION:Hear from industry respresentatives on how you can best prepare for the Expo and stand out.
URL:https://www.latrobe.edu.au/mylatrobe/event/preparing-for-the-employability-expo-making-a-good-first-impression-webinar/
CATEGORIES:Online
END:VEVENT
BEGIN:VEVENT
DTSTART;TZID=Australia/Melbourne:20260421T133241
DTEND;TZID=Australia/Melbourne:20260421T133241
DTSTAMP:20260421T133241
CREATED:20250728T012648Z
LAST-MODIFIED:20250728T012648Z
UID:53543-0-0@www.latrobe.edu.au
SUMMARY:Job search strategies webinar
DESCRIPTION:Get tips on developing a job search strategy that will leave you feeling more confident with this activity.
URL:https://www.latrobe.edu.au/mylatrobe/event/job-search-strategies-webinar/
CATEGORIES:Online
END:VEVENT
BEGIN:VEVENT
DTSTART;TZID=Australia/Melbourne:20260421T133241
DTEND;TZID=Australia/Melbourne:20260421T133241
DTSTAMP:20260421T133241
CREATED:20250728T012648Z
LAST-MODIFIED:20250728T012648Z
UID:53533-0-0@www.latrobe.edu.au
SUMMARY:LinkedIn Essentials & Job Search webinar
DESCRIPTION:Update or create your LinkedIn profile for optimum benefit  and connect with industry representatives at the Employability Expo.
URL:https://www.latrobe.edu.au/mylatrobe/event/linkedin-essentials-job-search-webinar/
CATEGORIES:Online
END:VEVENT
BEGIN:VEVENT
DTSTART;TZID=Australia/Melbourne:20260421T133241
DTEND;TZID=Australia/Melbourne:20260421T133241
DTSTAMP:20260421T133241
CREATED:20250728T012648Z
LAST-MODIFIED:20250728T012648Z
UID:53539-0-0@www.latrobe.edu.au
SUMMARY:Developing target resumes & cover letters webinar
DESCRIPTION:Get  tips from our Careers Advisor on how you can stand out from the compeition when applying for a job.
URL:https://www.latrobe.edu.au/mylatrobe/event/developing-target-resumes-cover-letters-webinar/
CATEGORIES:Online
END:VEVENT
BEGIN:VEVENT
DTSTART;TZID=Australia/Melbourne:20260421T133241
DTEND;TZID=Australia/Melbourne:20260421T133241
DTSTAMP:20260421T133241
CREATED:20250728T012648Z
LAST-MODIFIED:20250728T012648Z
UID:53527-0-0@www.latrobe.edu.au
SUMMARY:Career Ready Month: Visa Pathways for International Students
DESCRIPTION:This webinar will be conducted from Industry Experts from Department of Home Affairs & Department of Jobs\, Skills & Industry\, Victoria for the suitable guide and pathways available for the International students
URL:https://www.latrobe.edu.au/mylatrobe/event/career-ready-month-visa-pathways-for-international-students/
CATEGORIES:Online
END:VEVENT
BEGIN:VEVENT
DTSTART;TZID=Australia/Melbourne:20260421T133241
DTEND;TZID=Australia/Melbourne:20260421T133241
DTSTAMP:20260421T133241
CREATED:20250728T012647Z
LAST-MODIFIED:20250728T012647Z
UID:53521-0-0@www.latrobe.edu.au
SUMMARY:Work Rights for International Students- Semester 2
DESCRIPTION:This webinar is an important session for International Students to know their working Rights from Expert (Principal Lawyer) from Jobwatch
URL:https://www.latrobe.edu.au/mylatrobe/event/work-rights-for-international-students-semester-2/
CATEGORIES:Online
END:VEVENT
BEGIN:VEVENT
DTSTART;TZID=Australia/Melbourne:20260421T133241
DTEND;TZID=Australia/Melbourne:20260421T133241
DTSTAMP:20260421T133241
CREATED:20250728T012512Z
LAST-MODIFIED:20250728T012526Z
UID:53531-0-0@www.latrobe.edu.au
SUMMARY:ThursYAY - Free Soup Day @ Bendigo Campus
DESCRIPTION:Live near Bendigo Campus? Warm up this winter with a free soup and roll! Show your ID to pick up your Winter Warmer voucher from a member of the Campus Engagement Team in the LSU and redeem it at JD Café. A perfect way to beat the chill – delicious\, comforting\, and completely free! Don’t miss out – grab yours while they last!
URL:https://www.latrobe.edu.au/mylatrobe/event/thursyay-free-soup-day-bendigo-campus/
LOCATION:LSU
CATEGORIES:Bendigo,Online
END:VEVENT
BEGIN:VEVENT
DTSTART;TZID=Australia/Melbourne:20260421T133241
DTEND;TZID=Australia/Melbourne:20260421T133241
DTSTAMP:20260421T133241
CREATED:20250728T012512Z
LAST-MODIFIED:20250728T012526Z
UID:53554-0-0@www.latrobe.edu.au
SUMMARY:Spring Festival @ Bendigo Campus
DESCRIPTION:Live near Bendigo Campus? Celebrate with us in style at the 2025 Spring Festival. This year’s event will showcase  the 2025 La Trobe Walk / Run\, free lunch\, music\, drinks\, photo booth and much more. We can’t wait to see you there!
URL:https://www.latrobe.edu.au/mylatrobe/event/spring-festival-bendigo-campus/
CATEGORIES:Bendigo,Online
END:VEVENT
BEGIN:VEVENT
DTSTART;TZID=Australia/Melbourne:20260421T133241
DTEND;TZID=Australia/Melbourne:20260421T133241
DTSTAMP:20260421T133241
CREATED:20250728T012511Z
LAST-MODIFIED:20250728T012525Z
UID:53520-0-0@www.latrobe.edu.au
SUMMARY:Semester 2 Orientation Welcome Back Festival @ Bendigo Campus
DESCRIPTION:Kick off Semester 2 at the Bendigo Welcome Festival! Explore club stalls\, learn about support services\, enjoy free food\, and experience live entertainment. It’s a great opportunity to meet new people\, discover your interests\, and begin the semester with energy and excitement. Don’t miss out on making the most of your university experience!
URL:https://www.latrobe.edu.au/mylatrobe/event/semester-2-orientation-welcome-back-festival-bendigo-campus/
CATEGORIES:Bendigo,Online
END:VEVENT
BEGIN:VEVENT
DTSTART;TZID=Australia/Melbourne:20260421T133241
DTEND;TZID=Australia/Melbourne:20260421T133241
DTSTAMP:20260421T133241
CREATED:20250728T012511Z
LAST-MODIFIED:20250728T012526Z
UID:53545-0-0@www.latrobe.edu.au
SUMMARY:Pride Festival @ Bendigo Campus
DESCRIPTION:Live near Bendigo campus? Celebrate 2025 Pride Week with us in style!!Enjoy live DJ performance\, hot food\, engage with La Trobe and external LGBTQI service providers and join in our activities designed to add some rainbow sparkle to your day!
URL:https://www.latrobe.edu.au/mylatrobe/event/pride-festival-bendigo-campus/
CATEGORIES:Bendigo,Online
END:VEVENT
BEGIN:VEVENT
DTSTART;TZID=Australia/Melbourne:20260421T133241
DTEND;TZID=Australia/Melbourne:20260421T133241
DTSTAMP:20260421T133241
CREATED:20250728T012511Z
LAST-MODIFIED:20250728T012525Z
UID:53519-0-0@www.latrobe.edu.au
SUMMARY:Tuesday - Free Soup Day @ Bendigo Campus
DESCRIPTION:Live near Bendigo Campus? Warm up this winter with a free soup and roll! Show your ID to pick up your Winter Warmer voucher from a member of the Campus Engagement Team in the LSU and redeem it at JD Café. A perfect way to beat the chill – delicious\, comforting\, and completely free! Don’t miss out – grab yours while they last!
URL:https://www.latrobe.edu.au/mylatrobe/event/tuesday-free-soup-day-bendigo-campus/
LOCATION:LSU
CATEGORIES:Bendigo,Online
END:VEVENT
END:VCALENDAR