BEGIN:VCALENDAR
VERSION:2.0
PRODID:-//MyLaTrobe - ECPv6.15.20//NONSGML v1.0//EN
CALSCALE:GREGORIAN
METHOD:PUBLISH
X-ORIGINAL-URL:https://www.latrobe.edu.au/mylatrobe
X-WR-CALDESC:Events for MyLaTrobe
REFRESH-INTERVAL;VALUE=DURATION:PT1H
X-Robots-Tag:noindex
X-PUBLISHED-TTL:PT1H
BEGIN:VTIMEZONE
TZID:Australia/Melbourne
BEGIN:STANDARD
TZOFFSETFROM:+1100
TZOFFSETTO:+1000
TZNAME:AEST
DTSTART:20240406T160000
END:STANDARD
BEGIN:DAYLIGHT
TZOFFSETFROM:+1000
TZOFFSETTO:+1100
TZNAME:AEDT
DTSTART:20241005T160000
END:DAYLIGHT
BEGIN:STANDARD
TZOFFSETFROM:+1100
TZOFFSETTO:+1000
TZNAME:AEST
DTSTART:20250405T160000
END:STANDARD
BEGIN:DAYLIGHT
TZOFFSETFROM:+1000
TZOFFSETTO:+1100
TZNAME:AEDT
DTSTART:20251004T160000
END:DAYLIGHT
BEGIN:STANDARD
TZOFFSETFROM:+1100
TZOFFSETTO:+1000
TZNAME:AEST
DTSTART:20260404T160000
END:STANDARD
BEGIN:DAYLIGHT
TZOFFSETFROM:+1000
TZOFFSETTO:+1100
TZNAME:AEDT
DTSTART:20261003T160000
END:DAYLIGHT
END:VTIMEZONE
BEGIN:VEVENT
DTSTART;TZID=Australia/Melbourne:20250818T120000
DTEND;TZID=Australia/Melbourne:20250818T120000
DTSTAMP:20260420T213909
CREATED:20250724T040443Z
LAST-MODIFIED:20250731T034736Z
UID:52956-1755518400-1755518400@www.latrobe.edu.au
SUMMARY:Learn How to Reference: AGLC
DESCRIPTION:Learn how and when you need to acknowledge the information you are using in your assessments using the Academic Referencing Tool (ART) with a particular focus on AGLC.
URL:https://www.latrobe.edu.au/mylatrobe/event/learn-how-to-reference-aglc/
CATEGORIES:Albury-Wodonga,Bendigo,Bundoora,City,Mildura,Multi-Campus,Online,Shepparton,Sydney
END:VEVENT
BEGIN:VEVENT
DTSTART;TZID=Australia/Melbourne:20250814T110000
DTEND;TZID=Australia/Melbourne:20250814T120000
DTSTAMP:20260420T213909
CREATED:20250731T044705Z
LAST-MODIFIED:20250731T044705Z
UID:53840-1755169200-1755172800@www.latrobe.edu.au
SUMMARY:Assessment Writing Skills
DESCRIPTION:Understand what is expected in academic writing at university\, including: academic language\, tone\, structure\, paragraphs\, using sources and referencing. And know where to get support for these areas.
URL:https://www.latrobe.edu.au/mylatrobe/event/assessment-writing-skills-4/
CATEGORIES:Albury-Wodonga,Bendigo,Bundoora,City,Mildura,Multi-Campus,Online,Shepparton,Sydney
END:VEVENT
BEGIN:VEVENT
DTSTART;TZID=Australia/Melbourne:20250813T110000
DTEND;TZID=Australia/Melbourne:20250813T110000
DTSTAMP:20260420T213909
CREATED:20250724T040443Z
LAST-MODIFIED:20250731T034425Z
UID:52954-1755082800-1755082800@www.latrobe.edu.au
SUMMARY:Presenting for Assessments
DESCRIPTION:This workshop covers the essentials of presenting assessments with a focus on using media for presentations\, including PowerPoint slides\, Zoom\, e-posters and recording a Powerpoint presentation.
URL:https://www.latrobe.edu.au/mylatrobe/event/presenting-for-assessments/
CATEGORIES:Albury-Wodonga,Bendigo,Bundoora,City,Mildura,Multi-Campus,Online,Shepparton,Sydney
END:VEVENT
BEGIN:VEVENT
DTSTART;TZID=Australia/Melbourne:20250812T140000
DTEND;TZID=Australia/Melbourne:20250812T140000
DTSTAMP:20260420T213909
CREATED:20250724T040443Z
LAST-MODIFIED:20250731T034137Z
UID:52952-1755007200-1755007200@www.latrobe.edu.au
SUMMARY:Using Evidence in your Writing
DESCRIPTION:This workshop will teach you how to incorporate sources into your writing that support your academic arguments and help you avoid plagiarism.
URL:https://www.latrobe.edu.au/mylatrobe/event/using-evidence-in-your-writing-3/
CATEGORIES:Albury-Wodonga,Bendigo,Bundoora,City,Mildura,Multi-Campus,Online,Shepparton,Sydney
END:VEVENT
BEGIN:VEVENT
DTSTART;TZID=Australia/Melbourne:20250812T120000
DTEND;TZID=Australia/Melbourne:20250812T124500
DTSTAMP:20260420T213909
CREATED:20250807T014834Z
LAST-MODIFIED:20250807T015024Z
UID:54096-1755000000-1755002700@www.latrobe.edu.au
SUMMARY:Study Australia Industry Experience Projects (SAIEP)
DESCRIPTION:Join us for an information session and hear about the virtual industry programs La Trobe University has on offer in September for 2 weeks from Study Australia Industry Experience Project (SAIEP)- Practera where students work on an industry project for a client along with other university students. \n\n\n\nLocationOnline \n\n\n\n\nRegister
URL:https://www.latrobe.edu.au/mylatrobe/event/study-australia-industry-experience-projects-saiep/
CATEGORIES:Multi-Campus,Online
END:VEVENT
BEGIN:VEVENT
DTSTART;TZID=Australia/Melbourne:20250812T110000
DTEND;TZID=Australia/Melbourne:20250812T110000
DTSTAMP:20260420T213909
CREATED:20250724T040443Z
LAST-MODIFIED:20250731T034045Z
UID:52951-1754996400-1754996400@www.latrobe.edu.au
SUMMARY:Understanding Turnitin and Plagiarism
DESCRIPTION:This workshop explores the basics of Turnitin – what it is\, and how it works. We also look at what is meant by plagiarism\, and how to avoid it.
URL:https://www.latrobe.edu.au/mylatrobe/event/understanding-turnitin-and-plagiarism/
CATEGORIES:Albury-Wodonga,Bendigo,Bundoora,City,Mildura,Multi-Campus,Online,Shepparton,Sydney
END:VEVENT
BEGIN:VEVENT
DTSTART;TZID=Australia/Melbourne:20250811T160000
DTEND;TZID=Australia/Melbourne:20250811T160000
DTSTAMP:20260420T213909
CREATED:20250724T040443Z
LAST-MODIFIED:20250728T005216Z
UID:52950-1754928000-1754928000@www.latrobe.edu.au
SUMMARY:Using Library Databases and Google Scholar
DESCRIPTION:Boost your study success by exploring strategies to find the right resources for your assessments and developing your search skills in Library databases and Google Scholar.
URL:https://www.latrobe.edu.au/mylatrobe/event/using-library-databases-and-google-scholar-2/
CATEGORIES:Albury-Wodonga,Bendigo,Bundoora,City,Mildura,Online,Shepparton
END:VEVENT
BEGIN:VEVENT
DTSTART;TZID=Australia/Melbourne:20250811T120000
DTEND;TZID=Australia/Melbourne:20250811T130000
DTSTAMP:20260420T213909
CREATED:20250807T014914Z
LAST-MODIFIED:20250807T015147Z
UID:54075-1754913600-1754917200@www.latrobe.edu.au
SUMMARY:LinkedIn Essentials and Job Search Webinar
DESCRIPTION:In this webinar\, you will learn \n\n\n\n– How to use LinkedIn to build your professional brand\, connect with others and search for jobs.– Updating or creating your LinkedIn profile and connecting with industry representatives at the Employability Expo – Bundoora – brought to you by Medibank on 13/08/25.– How to create a LinkedIn profile and optimise it for maximum benefit. \n\n\n\nLocation Online \n\n\n\n \n\n\n\n\nRegister
URL:https://www.latrobe.edu.au/mylatrobe/event/linkedin-essentials-and-job-search-webinar/
CATEGORIES:Multi-Campus,Online
END:VEVENT
BEGIN:VEVENT
DTSTART;TZID=Australia/Melbourne:20250808T150000
DTEND;TZID=Australia/Melbourne:20250808T150000
DTSTAMP:20260420T213909
CREATED:20250724T040442Z
LAST-MODIFIED:20250728T005201Z
UID:52947-1754665200-1754665200@www.latrobe.edu.au
SUMMARY:Advanced Database Search Skills for Health
DESCRIPTION:In this advanced database searching session\, you will learn how to systematically search Medline as well as translate your search across other databases.
URL:https://www.latrobe.edu.au/mylatrobe/event/advanced-database-search-skills-for-health-2/
CATEGORIES:Albury-Wodonga,Bendigo,Bundoora,City,Mildura,Online,Shepparton
END:VEVENT
BEGIN:VEVENT
DTSTART;TZID=Australia/Melbourne:20250808T140000
DTEND;TZID=Australia/Melbourne:20250808T140000
DTSTAMP:20260420T213909
CREATED:20250724T040442Z
LAST-MODIFIED:20250728T005201Z
UID:52946-1754661600-1754661600@www.latrobe.edu.au
SUMMARY:Introduction to Microsoft Word
DESCRIPTION:This workshop covers basic Word skills and how to format a document for essays.
URL:https://www.latrobe.edu.au/mylatrobe/event/introduction-to-microsoft-word/
CATEGORIES:Albury-Wodonga,Bendigo,Bundoora,City,Mildura,Online,Shepparton
END:VEVENT
BEGIN:VEVENT
DTSTART;TZID=Australia/Melbourne:20250807T140000
DTEND;TZID=Australia/Melbourne:20250807T140000
DTSTAMP:20260420T213909
CREATED:20250724T040442Z
LAST-MODIFIED:20250731T034635Z
UID:52945-1754575200-1754575200@www.latrobe.edu.au
SUMMARY:Assessment Writing Skills
DESCRIPTION:Understand what is expected in academic writing at university\, including: academic language\, tone\, structure\, paragraphs\, using sources and referencing. And know where to get support for these areas
URL:https://www.latrobe.edu.au/mylatrobe/event/assessment-writing-skills-2/
CATEGORIES:Albury-Wodonga,Bendigo,Bundoora,City,Mildura,Multi-Campus,Online,Shepparton,Sydney
END:VEVENT
BEGIN:VEVENT
DTSTART;TZID=Australia/Melbourne:20250807T100000
DTEND;TZID=Australia/Melbourne:20250807T100000
DTSTAMP:20260420T213909
CREATED:20250724T040442Z
LAST-MODIFIED:20250728T005201Z
UID:52944-1754560800-1754560800@www.latrobe.edu.au
SUMMARY:Manage your References with Endnote
DESCRIPTION:Learn how to use EndNote for reference management. Create a library\, add and modify references and use EndNote within Microsoft Word. Attendees are advised to have prior knowledge of referencing.
URL:https://www.latrobe.edu.au/mylatrobe/event/manage-your-references-with-endnote-3/
CATEGORIES:Albury-Wodonga,Bendigo,Bundoora,City,Mildura,Online,Shepparton
END:VEVENT
BEGIN:VEVENT
DTSTART;TZID=Australia/Melbourne:20250806T140000
DTEND;TZID=Australia/Melbourne:20250806T140000
DTSTAMP:20260420T213909
CREATED:20250724T040442Z
LAST-MODIFIED:20250728T005146Z
UID:52943-1754488800-1754488800@www.latrobe.edu.au
SUMMARY:Tactics for Time Management
DESCRIPTION:Got time troubles? Join our workshop to learn simple strategies that will help you manage deadlines better and work more efficiently – without the stress.
URL:https://www.latrobe.edu.au/mylatrobe/event/tactics-for-time-management/
CATEGORIES:Albury-Wodonga,Bendigo,Bundoora,City,Mildura,Online,Shepparton
END:VEVENT
BEGIN:VEVENT
DTSTART;TZID=Australia/Melbourne:20250806T110000
DTEND;TZID=Australia/Melbourne:20250806T110000
DTSTAMP:20260420T213909
CREATED:20250724T040442Z
LAST-MODIFIED:20250728T005146Z
UID:52942-1754478000-1754478000@www.latrobe.edu.au
SUMMARY:Fast-Track your Reading and Note Taking
DESCRIPTION:Master the art of effective academic reading in our practical workshop. Learn proven strategies to tackle complex texts with confidence\, read more efficiently\, and develop stronger critical analysis skills.
URL:https://www.latrobe.edu.au/mylatrobe/event/fast-track-your-reading-and-note-taking/
CATEGORIES:Albury-Wodonga,Bendigo,Bundoora,City,Mildura,Online,Shepparton
END:VEVENT
BEGIN:VEVENT
DTSTART;TZID=Australia/Melbourne:20250805T140000
DTEND;TZID=Australia/Melbourne:20250805T140000
DTSTAMP:20260420T213909
CREATED:20250724T040442Z
LAST-MODIFIED:20250728T005127Z
UID:52940-1754402400-1754402400@www.latrobe.edu.au
SUMMARY:Improve your Library Search Skills
DESCRIPTION:Boost your study success by exploring strategies to find the right resources for your assessments and developing your search skills in Library Search.
URL:https://www.latrobe.edu.au/mylatrobe/event/improve-your-library-search-skills-3/
CATEGORIES:Albury-Wodonga,Bendigo,Bundoora,City,Mildura,Online,Shepparton
END:VEVENT
BEGIN:VEVENT
DTSTART;TZID=Australia/Melbourne:20250805T120000
DTEND;TZID=Australia/Melbourne:20250805T130000
DTSTAMP:20260420T213909
CREATED:20250805T003500Z
LAST-MODIFIED:20250805T101142Z
UID:54005-1754395200-1754398800@www.latrobe.edu.au
SUMMARY:Career Ready Month: Visa Pathways for International Students
DESCRIPTION:The topic that will be covered in this webinar are as follows: Work rights for Student visa (subclass 500)\, Temporary Graduate visa (subclass 485)\, Employer Sponsored visas\, General Skilled Migration visas\, ‘Check Twice\, Submit Once’ Campaign and more. \n\n\n\nDETAILS \n\n\n\nDate: 05 August \n\n\n\nTime: 12.00pm – 1.00pm \n\n\n\nLocation: online \n\n\n\nEvent organiser: La Trobe University Career Hub
URL:https://www.latrobe.edu.au/mylatrobe/event/career-ready-month-visa-pathways-for-international-students-2/
LOCATION:Online
CATEGORIES:Online
END:VEVENT
BEGIN:VEVENT
DTSTART;TZID=Australia/Melbourne:20250805T110000
DTEND;TZID=Australia/Melbourne:20250805T110000
DTSTAMP:20260420T213909
CREATED:20250724T040441Z
LAST-MODIFIED:20250728T005127Z
UID:52939-1754391600-1754391600@www.latrobe.edu.au
SUMMARY:Study Essentials
DESCRIPTION:Discover some fundamental info about studying and completing assessments: what to expect\, available resources and where to get help.
URL:https://www.latrobe.edu.au/mylatrobe/event/study-essentials-2/
CATEGORIES:Albury-Wodonga,Bendigo,Bundoora,City,Mildura,Online,Shepparton
END:VEVENT
BEGIN:VEVENT
DTSTART;TZID=Australia/Melbourne:20250730T180000
DTEND;TZID=Australia/Melbourne:20250730T190000
DTSTAMP:20260420T213909
CREATED:20250430T063954Z
LAST-MODIFIED:20250430T063958Z
UID:51341-1753898400-1753902000@www.latrobe.edu.au
SUMMARY:Postgraduate Webinar: Master of Physiotherapy Practice
DESCRIPTION:Launch your career in physiotherapy with a university ranked in the world’s top 200 for clinical and health.* \n\n\n\nBuild your skills with on-campus simulated clinical practice and then get real-world experience with placements in a variety of healthcare settings. Learn how to confidently assess and treat patients from across the lifespan with varying needs. \n\n\n\nUnderstand the ethical and professional codes of conduct that physiotherapists work under and graduate ready for a wide range of settings\, including private practice\, community health centres\, rehabilitation centres and more. \n\n\n\nAttend this webinar to learn more about the entry requirements\, course content\, clinical placement and career opportunities. Ask your questions in a live Q&A with the program coordinators. \n\n\n\n* Times Higher Education (THE)\, 2023\, World University Rankings 2024 by subject: clinical and health
URL:https://www.latrobe.edu.au/mylatrobe/event/postgraduate-webinar-master-of-physiotherapy-practice/
CATEGORIES:Online
END:VEVENT
BEGIN:VEVENT
DTSTART;TZID=Australia/Melbourne:20250729T180000
DTEND;TZID=Australia/Melbourne:20250729T190000
DTSTAMP:20260420T213909
CREATED:20250430T063814Z
LAST-MODIFIED:20250430T063819Z
UID:51339-1753812000-1753815600@www.latrobe.edu.au
SUMMARY:Postgraduate Webinar: Master of Speech Pathology
DESCRIPTION:La Trobe’s Master of Speech Pathology gives you the knowledge and skills to help people realise their communication and swallowing potential. Learn how to observe communication and mealtimes in everyday settings\, conduct assessments\, interpret clinical data and develop interventions. You’ll also gain hands-on experience working with a range of individual clients. \n\n\n\nAs you learn\, you’ll take part in clinical workshops\, guided demonstration sessions and simulation activities. You’ll also work with service providers to help people with communication and swallowing needs participate and feel included in their community. \n\n\n\nLearn about the course content\, entry requirements\, placement details and more. Ask your questions in a live Q&A with the program coordinators. \n\n\n\nThis course may have limited Commonwealth-supported places (CSPs) available. Attend the webinar to find out how you can access this government subsidy. Generous scholarships may also be available for eligible international students.
URL:https://www.latrobe.edu.au/mylatrobe/event/postgraduate-webinar-master-of-speech-pathology/
CATEGORIES:Online
END:VEVENT
BEGIN:VEVENT
DTSTART;TZID=Australia/Melbourne:20250728T180000
DTEND;TZID=Australia/Melbourne:20250728T190000
DTSTAMP:20260420T213909
CREATED:20250430T063651Z
LAST-MODIFIED:20250430T063655Z
UID:51336-1753725600-1753729200@www.latrobe.edu.au
SUMMARY:Postgraduate Webinar: Master of Nursing
DESCRIPTION:La Trobe’s Master of Nursing lets you match your study to your career aspirations. Enhance your knowledge and skills in specialist areas by choosing from a range of clinical and non-clinical subjects. \n\n\n\nTune in to learn more about the study model\, specialisations and what it’s like to study with us. Ask your questions in our live Q&A with the program coordinators. \n\n\n\nThis course has limited Commonwealth supported places (CSPs) available. Attend the webinar to find out how you can access the government subsidy.
URL:https://www.latrobe.edu.au/mylatrobe/event/postgraduate-webinar-master-of-nursing/
CATEGORIES:Online
END:VEVENT
BEGIN:VEVENT
DTSTART;TZID=Australia/Melbourne:20250728T180000
DTEND;TZID=Australia/Melbourne:20250728T190000
DTSTAMP:20260420T213909
CREATED:20250430T062805Z
LAST-MODIFIED:20250430T062810Z
UID:51330-1753725600-1753729200@www.latrobe.edu.au
SUMMARY:Postgraduate Webinar: Master of Clinical Psychology
DESCRIPTION:Take your career in psychology to the next level with the Master of Clinical Psychology. \n\n\n\nYou’ll learn practical skills and knowledge essential for a career in professional clinical psychology. The curriculum covers areas such as cognitive behavioural therapy\, child and adolescent mental health\, psychopathology\, counselling skills\, psychological assessment and treatment\, and advanced psychotherapy process skills. \n\n\n\nYou’ll also explore the ethical and professional issues associated with work in this field\, and develop skills in writing professional-standard assessment reports suitable for a range of referral agencies or contexts. \n\n\n\nDuring your clinical placement practicum\, you’ll perform clinic intake assessments and conduct case work with clients including face-to-face assessment and intervention with adults and children. \n\n\n\nJoin our webinar to hear more information and ask your questions in a live Q&A with the course coordinator.
URL:https://www.latrobe.edu.au/mylatrobe/event/postgraduate-webinar-master-of-clinical-psychology/
CATEGORIES:Online
END:VEVENT
BEGIN:VEVENT
DTSTART;TZID=Australia/Melbourne:20250725T123000
DTEND;TZID=Australia/Melbourne:20250725T133000
DTSTAMP:20260420T213909
CREATED:20250703T022239Z
LAST-MODIFIED:20250703T022243Z
UID:52457-1753446600-1753450200@www.latrobe.edu.au
SUMMARY:How Assistive Tech can help with your studies
DESCRIPTION:This session will cover how assistive tech can help to make reading\, writing\, notetaking\, and executive functioning easier.
URL:https://www.latrobe.edu.au/mylatrobe/event/how-assistive-tech-can-help-with-your-studies/
LOCATION:Online via Zoom
CATEGORIES:Online
END:VEVENT
BEGIN:VEVENT
DTSTART;TZID=Australia/Melbourne:20250718T140000
DTEND;TZID=Australia/Melbourne:20250718T150000
DTSTAMP:20260420T213909
CREATED:20250623T063452Z
LAST-MODIFIED:20250623T063452Z
UID:52327-1752847200-1752850800@www.latrobe.edu.au
SUMMARY:Learn How to Reference
DESCRIPTION:Learn how and when you need to acknowledge the information you are using in your assessments using the Academic Referencing Tool (ART). 
URL:https://www.latrobe.edu.au/mylatrobe/event/learn-how-to-reference-2/
CATEGORIES:Online
END:VEVENT
BEGIN:VEVENT
DTSTART;TZID=Australia/Melbourne:20250718T110000
DTEND;TZID=Australia/Melbourne:20250718T120000
DTSTAMP:20260420T213909
CREATED:20250623T063452Z
LAST-MODIFIED:20250623T063452Z
UID:52326-1752836400-1752840000@www.latrobe.edu.au
SUMMARY:Key Study Tips for International Students
DESCRIPTION:This session will help you understand some of the academic expectations\, services and supports available to you as a student at La Trobe.
URL:https://www.latrobe.edu.au/mylatrobe/event/key-study-tips-for-international-students/
CATEGORIES:Online
END:VEVENT
BEGIN:VEVENT
DTSTART;TZID=Australia/Melbourne:20250717T140000
DTEND;TZID=Australia/Melbourne:20250717T150000
DTSTAMP:20260420T213909
CREATED:20250623T063452Z
LAST-MODIFIED:20250623T063452Z
UID:52325-1752760800-1752764400@www.latrobe.edu.au
SUMMARY:Studying as a Parent
DESCRIPTION:Get some tips and learn about the services available to you to make studying as a parent just a little easier. You’ll also have a chance to ask questions and meet other parents.
URL:https://www.latrobe.edu.au/mylatrobe/event/studying-as-a-parent/
CATEGORIES:Online
END:VEVENT
BEGIN:VEVENT
DTSTART;TZID=Australia/Melbourne:20250717T110000
DTEND;TZID=Australia/Melbourne:20250717T120000
DTSTAMP:20260420T213909
CREATED:20250623T063452Z
LAST-MODIFIED:20250623T063452Z
UID:52324-1752750000-1752753600@www.latrobe.edu.au
SUMMARY:Using Evidence in your Writing
DESCRIPTION:This workshop will teach you how to incorporate sources into your writing that support your academic arguments and help you avoid plagiarism. 
URL:https://www.latrobe.edu.au/mylatrobe/event/using-evidence-in-your-writing-2/
CATEGORIES:Online
END:VEVENT
BEGIN:VEVENT
DTSTART;TZID=Australia/Melbourne:20250716T150000
DTEND;TZID=Australia/Melbourne:20250716T163000
DTSTAMP:20260420T213909
CREATED:20250623T063451Z
LAST-MODIFIED:20250623T063451Z
UID:52323-1752678000-1752683400@www.latrobe.edu.au
SUMMARY:Manage your References with EndNote
DESCRIPTION:Maximise your potential at Assessment Bootcamp with useful tips and strategies for assessment success. Learn how to use EndNote for reference management. Create a library\, add and modify references and use EndNote within Microsoft Word.
URL:https://www.latrobe.edu.au/mylatrobe/event/manage-your-references-with-endnote-2/
CATEGORIES:Online
END:VEVENT
BEGIN:VEVENT
DTSTART;TZID=Australia/Melbourne:20250716T140000
DTEND;TZID=Australia/Melbourne:20250716T144500
DTSTAMP:20260420T213909
CREATED:20250623T063451Z
LAST-MODIFIED:20250623T063451Z
UID:52322-1752674400-1752677100@www.latrobe.edu.au
SUMMARY:International students: Build your vocabulary
DESCRIPTION:Strategies to quickly expand your English vocabulary for your studies.
URL:https://www.latrobe.edu.au/mylatrobe/event/international-students-build-your-vocabulary/
CATEGORIES:Online
END:VEVENT
BEGIN:VEVENT
DTSTART;TZID=Australia/Melbourne:20250716T110000
DTEND;TZID=Australia/Melbourne:20250716T123000
DTSTAMP:20260420T213909
CREATED:20250623T063451Z
LAST-MODIFIED:20250623T063451Z
UID:52321-1752663600-1752669000@www.latrobe.edu.au
SUMMARY:Advanced Database Search Skills for Health
DESCRIPTION:In this advanced database searching session\, you will learn how to systematically search Medline as well as translate your search across other databases.
URL:https://www.latrobe.edu.au/mylatrobe/event/advanced-database-search-skills-for-health/
CATEGORIES:Online
END:VEVENT
BEGIN:VEVENT
DTSTART;TZID=Australia/Melbourne:20250715T140000
DTEND;TZID=Australia/Melbourne:20250715T150000
DTSTAMP:20260420T213909
CREATED:20250623T063451Z
LAST-MODIFIED:20250623T063451Z
UID:52320-1752588000-1752591600@www.latrobe.edu.au
SUMMARY:Write that Assignment: Reports
DESCRIPTION:This workshop focuses on how to write reports\, with tips on structure\, style and use of evidence. It will detail what should be included in each section\, and also cover common errors.
URL:https://www.latrobe.edu.au/mylatrobe/event/write-that-assignment-reports-2/
CATEGORIES:Online
END:VEVENT
END:VCALENDAR