BEGIN:VCALENDAR
VERSION:2.0
PRODID:-//MyLaTrobe - ECPv6.15.20//NONSGML v1.0//EN
CALSCALE:GREGORIAN
METHOD:PUBLISH
X-WR-CALNAME:MyLaTrobe
X-ORIGINAL-URL:https://www.latrobe.edu.au/mylatrobe
X-WR-CALDESC:Events for MyLaTrobe
REFRESH-INTERVAL;VALUE=DURATION:PT1H
X-Robots-Tag:noindex
X-PUBLISHED-TTL:PT1H
BEGIN:VTIMEZONE
TZID:Australia/Melbourne
BEGIN:STANDARD
TZOFFSETFROM:+1100
TZOFFSETTO:+1000
TZNAME:AEST
DTSTART:20230401T160000
END:STANDARD
BEGIN:DAYLIGHT
TZOFFSETFROM:+1000
TZOFFSETTO:+1100
TZNAME:AEDT
DTSTART:20230930T160000
END:DAYLIGHT
BEGIN:STANDARD
TZOFFSETFROM:+1100
TZOFFSETTO:+1000
TZNAME:AEST
DTSTART:20240406T160000
END:STANDARD
BEGIN:DAYLIGHT
TZOFFSETFROM:+1000
TZOFFSETTO:+1100
TZNAME:AEDT
DTSTART:20241005T160000
END:DAYLIGHT
BEGIN:STANDARD
TZOFFSETFROM:+1100
TZOFFSETTO:+1000
TZNAME:AEST
DTSTART:20250405T160000
END:STANDARD
BEGIN:DAYLIGHT
TZOFFSETFROM:+1000
TZOFFSETTO:+1100
TZNAME:AEDT
DTSTART:20251004T160000
END:DAYLIGHT
END:VTIMEZONE
BEGIN:VEVENT
DTSTART;TZID=Australia/Melbourne:20240803T070000
DTEND;TZID=Australia/Melbourne:20240803T170000
DTSTAMP:20260420T064712
CREATED:20240704T235206Z
LAST-MODIFIED:20240711T025611Z
UID:45703-1722668400-1722704400@www.latrobe.edu.au
SUMMARY:LTSA Shepparton Snow Trip to Mt Buller
DESCRIPTION:Make the most of winter in Victoria and spend a day in the snow!  \nLTSA Members $55pp \nFriends\, family or non LTSA Members $75pp \nDeparting from La Trobe University Shepparton Campus (Fryers Street side) 7am sharp to Mt Buller. Will arrive back in Shepparton 5pm. \nTransport\, pub lunch\, chains and mountain entry fee included. \nSnacks\, drinks\, snow gear and snow sport equipment to be organised by the student. \nDress warm and pack a change of clothes. \nGRAB YOUR TICKETS NOW \nSign up to LTSA online now to become a member and receive student perks.
URL:https://www.latrobe.edu.au/mylatrobe/event/ltsa-shepparton-snow-trip-to-mt-buller/
CATEGORIES:Online,Shepparton
ATTACH;FMTTYPE=image/jpeg:https://www.latrobe.edu.au/mylatrobe/wp-content/uploads/2024/07/https___cdn.evbuc_.com_images_782358919_507892869331_1_original.jpeg
END:VEVENT
BEGIN:VEVENT
DTSTART;TZID=Australia/Melbourne:20240805T150000
DTEND;TZID=Australia/Melbourne:20240805T163000
DTSTAMP:20260420T064712
CREATED:20240704T235206Z
LAST-MODIFIED:20240711T054930Z
UID:45707-1722870000-1722875400@www.latrobe.edu.au
SUMMARY:How To Start A Club - Online Info Session
DESCRIPTION:Looking to start your own student club? Want to find out more about community on campus?  \nJoin the next ‘How To Start A Club’ information session online and find out more! \nRegister to attend one of the upcoming virtual sessions HERE. \nDiscover more about the La Trobe University Clubs & Societies program online. 
URL:https://www.latrobe.edu.au/mylatrobe/event/how-to-start-a-club-info-sesh/
CATEGORIES:Albury-Wodonga,Bendigo,Bundoora,City,Mildura,Online,Shepparton,Sydney
ORGANIZER;CN="La Trobe Clubs Team":MAILTO:clubs@latrobe.edu.au
END:VEVENT
BEGIN:VEVENT
DTSTART;TZID=Australia/Melbourne:20240806T040000
DTEND;TZID=Australia/Melbourne:20240806T043000
DTSTAMP:20260420T064712
CREATED:20240718T004416Z
LAST-MODIFIED:20240718T004418Z
UID:46379-1722916800-1722918600@www.latrobe.edu.au
SUMMARY:Develop your EQ in Semester 2
DESCRIPTION:Motivation and leadership expert Josh Farr is returning to the La Trobe Leaders Program in semester 2. This time we’re doing things all little bit differently…  it’s 4 weeks\, 4 student workshops on different but related topics to help you get on top and stay on top  of your goals this semester! \n\n\n\nMost likely before your first assignment is even due…   you will have:  \n\n\n\n\nFound and connected with your sense of purpose \n\n\n\nLearned about managing you time and energy well \n\n\n\nUncovered  the art of getting and staying motivated \n\n\n\nBoosted your confidence in communications!\n\n\n\n\nStarting in week 1 of semester and running for 4 weeks  each  Tuesday 3 – 4:30 pm join Josh and the La Trobe Leaders Program online and take the time to work on yourself and develop your potential. \n\n\n\nThis week it’s all about managing your time and energy!
URL:https://www.latrobe.edu.au/mylatrobe/event/develop-your-eq-in-semester-2-2/
CATEGORIES:Albury-Wodonga,Bendigo,Bundoora,City,Mildura,Multi-Campus,Online,Shepparton
END:VEVENT
BEGIN:VEVENT
DTSTART;TZID=Australia/Melbourne:20240807T080000
DTEND;TZID=Australia/Melbourne:20240807T100000
DTSTAMP:20260420T064712
CREATED:20240704T235208Z
LAST-MODIFIED:20240711T020238Z
UID:45718-1723017600-1723024800@www.latrobe.edu.au
SUMMARY:Bikers Brekkie
DESCRIPTION:Free breakfast from Caffeine for students and staff who ride to Uni. Bike servicing also available!
URL:https://www.latrobe.edu.au/mylatrobe/event/bikers-brekkie/
LOCATION:Agora
CATEGORIES:Bundoora,Online
END:VEVENT
BEGIN:VEVENT
DTSTART;TZID=Australia/Melbourne:20240807T170000
DTEND;TZID=Australia/Melbourne:20240807T193000
DTSTAMP:20260420T064712
CREATED:20240704T235207Z
LAST-MODIFIED:20240729T052211Z
UID:45714-1723050000-1723059000@www.latrobe.edu.au
SUMMARY:Music Bingo Party
DESCRIPTION:Join us for a fantastic Bingo night on 7 August from 5:00 – 7:30 PM at the Glenn College Dining Hall! Enjoy a thrilling game of Music Bingo\, win exciting prizes\, and connect with fellow students in a fun and relaxed setting. \nDon’t miss out on the fun – mark your calendars and get ready to shout “Bingo!” at La Trobe’s Music Bingo Bash!  \nSecure your tickets now via Eventbrite. 
URL:https://www.latrobe.edu.au/mylatrobe/event/music-bingo-bash/
LOCATION:Glenn College Dining Hall\, Glenn College\, near Car Park 6\, La Trobe Bundoora Campus\, Bundoora\, Victoria\, 3086\, Australia
CATEGORIES:Bundoora,City,Online
ATTACH;FMTTYPE=image/png:https://www.latrobe.edu.au/mylatrobe/wp-content/uploads/2024/07/Purple-and-Pink-Illustration-Music-Party-Banner.png
END:VEVENT
BEGIN:VEVENT
DTSTART;TZID=Australia/Melbourne:20240809T110000
DTEND;TZID=Australia/Melbourne:20240809T130000
DTSTAMP:20260420T064712
CREATED:20240704T235404Z
LAST-MODIFIED:20240715T064811Z
UID:45728-1723201200-1723208400@www.latrobe.edu.au
SUMMARY:Explore Melbourne City Tour
DESCRIPTION:Join our Explore Melbourne City Tour designed for new students to Melbourne on Friday August 9. \nWe offer 3 start times—11:00 AM\, 2:00 PM\, or 4:00 PM – and each tour takes approx 2 hours. \nEnjoy a guided discovery of Melbourne’s iconic landmarks\, a delicious lunch\, and free entry to the Eureka Skydeck\, all led by our experienced La Trobe Student Leaders. \nSecure your $5 ticket via Eventbrite now.  \nPlease note that booking is essential. 
URL:https://www.latrobe.edu.au/mylatrobe/event/explore-melbourne-city-tour-semester-2/
CATEGORIES:Bundoora,City,Online
ATTACH;FMTTYPE=image/jpeg:https://www.latrobe.edu.au/mylatrobe/wp-content/uploads/2024/07/https___cdn.evbuc_.com_images_788729859_312879645991_1_original.jpeg
END:VEVENT
BEGIN:VEVENT
DTSTART;TZID=Australia/Melbourne:20240809T140000
DTEND;TZID=Australia/Melbourne:20240809T160000
DTSTAMP:20260420T064712
CREATED:20240704T235405Z
LAST-MODIFIED:20240715T064630Z
UID:45729-1723212000-1723219200@www.latrobe.edu.au
SUMMARY:Explore Melbourne City Tour
DESCRIPTION:Join our Explore Melbourne City Tour designed for new students to Melbourne on Friday August 9. \nWe offer 3 start times—11:00 AM\, 2:00 PM\, or 4:00 PM – and each tour takes approx 2 hours. \nEnjoy a guided discovery of Melbourne’s iconic landmarks\, a delicious lunch\, and free entry to the Eureka Skydeck\, all led by our experienced La Trobe Student Leaders. \nSecure your $5 ticket via Eventbrite now.  \nPlease note that booking is essential. 
URL:https://www.latrobe.edu.au/mylatrobe/event/explore-melbourne-city-tour-semester-2-2/
CATEGORIES:Bundoora,City,Online
ATTACH;FMTTYPE=image/jpeg:https://www.latrobe.edu.au/mylatrobe/wp-content/uploads/2024/07/https___cdn.evbuc_.com_images_788729859_312879645991_1_original.jpeg
END:VEVENT
BEGIN:VEVENT
DTSTART;TZID=Australia/Melbourne:20240809T160000
DTEND;TZID=Australia/Melbourne:20240809T180000
DTSTAMP:20260420T064712
CREATED:20240704T235405Z
LAST-MODIFIED:20240715T064356Z
UID:45730-1723219200-1723226400@www.latrobe.edu.au
SUMMARY:Explore Melbourne City Tour
DESCRIPTION:Join our Explore Melbourne City Tour designed for new students to Melbourne on Friday August 9. \nWe offer 3 start times—11:00 AM\, 2:00 PM\, or 4:00 PM – and each tour takes approx 2 hours. \nEnjoy a guided discovery of Melbourne’s iconic landmarks\, a delicious lunch\, and free entry to the Eureka Skydeck\, all led by our experienced La Trobe Student Leaders. \nSecure your $5 ticket via Eventbrite now.  \nPlease note that booking is essential. 
URL:https://www.latrobe.edu.au/mylatrobe/event/explore-melbourne-city-tour-semester-2-3/
CATEGORIES:Bundoora,City,Online
ATTACH;FMTTYPE=image/jpeg:https://www.latrobe.edu.au/mylatrobe/wp-content/uploads/2024/07/https___cdn.evbuc_.com_images_788729859_312879645991_1_original.jpeg
END:VEVENT
BEGIN:VEVENT
DTSTART;TZID=Australia/Melbourne:20240809T173000
DTEND;TZID=Australia/Melbourne:20240809T203000
DTSTAMP:20260420T064712
CREATED:20240704T235205Z
LAST-MODIFIED:20240731T040929Z
UID:45702-1723224600-1723235400@www.latrobe.edu.au
SUMMARY:Mildura Uni Night
DESCRIPTION:You’re invited to our inaugural end of month uni night social gathering at The Setts in Mildura. \nThis event is a partnership between the La Trobe Student Association\, Monash University School of Rural Health\, and the University of Sydney (Broken Hill UDRH) and all uni students studying in Sunraysia are welcome to come along! \n\nFree drink on arrival\nFree food\nFree pool\nDrinks specials\nBring a friend\n\nREGISTER ONLINE NOW \n18+ ID required. 
URL:https://www.latrobe.edu.au/mylatrobe/event/ltsa-uni-night/
LOCATION:The Setts\, 110/114 Eighth Street\, Mildura\, Victoria\, 3500\, Australia
CATEGORIES:Mildura,Online
ATTACH;FMTTYPE=image/jpeg:https://www.latrobe.edu.au/mylatrobe/wp-content/uploads/2024/07/Uni-night-banner.jpg
END:VEVENT
BEGIN:VEVENT
DTSTART;TZID=Australia/Melbourne:20240813T150000
DTEND;TZID=Australia/Melbourne:20240813T163000
DTSTAMP:20260420T064712
CREATED:20240718T025554Z
LAST-MODIFIED:20240718T025556Z
UID:46381-1723561200-1723566600@www.latrobe.edu.au
SUMMARY:Develop Your EQ in Semester 2
DESCRIPTION:Motivation and leadership expert Josh Farr is returning to the La Trobe Leaders Program in semester 2 and you’re invited to join us!  \n\n\n\nOver 4 weeks you’ll develop your understanding of  4 different but related topics to help you get on top and stay on top  of your goals this semester! \n\n\n\nMost likely before your first assignment is even due…   you will have:  \n\n\n\n\nFound and connected with your sense of purpose \n\n\n\nLearned about managing you time and energy well \n\n\n\nUncovered  the art of getting and staying motivated \n\n\n\nBoosted your confidence in communications!\n\n\n\n\nStarting in week 1 of semester and running for 4 weeks  each  Tuesday 3 – 4:30 pm join Josh online and take the time to work on yourself and develop your potential. \n\n\n\nIn this week (week 3) it’s all about motivation… understanding what drives or motivates you and how to harness motivation into action and achieve your goals! 
URL:https://www.latrobe.edu.au/mylatrobe/event/develop-your-eq-in-semester-2-3/
CATEGORIES:Albury-Wodonga,Bendigo,Bundoora,City,Mildura,Multi-Campus,Online,Shepparton
END:VEVENT
BEGIN:VEVENT
DTSTART;TZID=Australia/Melbourne:20240815T120000
DTEND;TZID=Australia/Melbourne:20240815T140000
DTSTAMP:20260420T064712
CREATED:20240704T234825Z
LAST-MODIFIED:20240715T065856Z
UID:45742-1723723200-1723730400@www.latrobe.edu.au
SUMMARY:Queen Vic Market - Ultimate Foodie Tour
DESCRIPTION:Join us for an unforgettable culinary adventure with La Trobe University’s Ultimate Foodie Tour at the iconic Queen Victoria Market! \n15 August from 12:00 PM to 2:00 PM \nImmerse yourself in Melbourne’s rich food culture as you taste fresh produce\, discover unique ingredients\, and meet passionate traders. This two-hour guided tour offers generous tastings from a specially curated vegetarian menu\, engaging insights into the market’s history\, and a complimentary Market shopping bag. Don’t miss this opportunity to explore\, learn\, and indulge in one of Melbourne’s most vibrant settings—experience the best of culinary Melbourne with us! \n$5 tickets. Registration is essential – sign up via Eventbrite.
URL:https://www.latrobe.edu.au/mylatrobe/event/queen-vic-market-ultimate-foodie-tour/
CATEGORIES:Bundoora,City,Online
ATTACH;FMTTYPE=image/jpeg:https://www.latrobe.edu.au/mylatrobe/wp-content/uploads/2024/07/foodie-tour-image.jpeg
END:VEVENT
BEGIN:VEVENT
DTSTART;TZID=Australia/Melbourne:20240821T130000
DTEND;TZID=Australia/Melbourne:20240821T150000
DTSTAMP:20260420T064712
CREATED:20240730T053156Z
LAST-MODIFIED:20240730T053415Z
UID:46547-1724245200-1724252400@www.latrobe.edu.au
SUMMARY:Students as Partners Workshop (Online)
DESCRIPTION:We’re changing the way we do things at La Trobe\, and we want you to lead the change! \n\n\n\nYou’re invited to join us for a two-hour workshop that will be dedicated to brainstorming ideas and making decisions about how the University partners with students at La Trobe.  \n\n\n\n\nRegister now
URL:https://www.latrobe.edu.au/mylatrobe/event/students-as-partners-workshop-online/
LOCATION:Online via Zoom
CATEGORIES:Online
ORGANIZER;CN="Alicia Hendrie and Jiordan Tolli%2C Coordinators%2C Student Partnership":MAILTO:StudentsAsPartnersNetwork@latrobe.edu.au
END:VEVENT
BEGIN:VEVENT
DTSTART;TZID=Australia/Melbourne:20240827T181500
DTEND;TZID=Australia/Melbourne:20240827T203000
DTSTAMP:20260420T064712
CREATED:20240704T235407Z
LAST-MODIFIED:20240814T070152Z
UID:45751-1724782500-1724790600@www.latrobe.edu.au
SUMMARY:Pride Week Trivia
DESCRIPTION:Join us for Pride themed Trivia at Church St Hotel\, Wodonga \nTickets are free and if you register you can enjoy 50% off on drinks and your meal!  \nRegister via Humanitix now
URL:https://www.latrobe.edu.au/mylatrobe/event/pride-trivia/
LOCATION:Church Street Hotel\, 49 Church Street\, Wodonga\, Victoria\, 3690\, Australia
CATEGORIES:Albury-Wodonga,Online
ATTACH;FMTTYPE=image/jpeg:https://www.latrobe.edu.au/mylatrobe/wp-content/uploads/2024/07/0001-1335751562624983039.jpeg
END:VEVENT
BEGIN:VEVENT
DTSTART;TZID=Australia/Melbourne:20240828T180000
DTEND;TZID=Australia/Melbourne:20240828T220000
DTSTAMP:20260420T064712
CREATED:20240704T235205Z
LAST-MODIFIED:20240731T040034Z
UID:45697-1724868000-1724882400@www.latrobe.edu.au
SUMMARY:Drag Queen Bingo
DESCRIPTION:?️‍??️‍?Happy La Trobe Pride Week!!?️‍??️‍? \nGet ready for FREE Drag Queen Bingo! Join us for laughter\, dazzling performances\, prizes\, and complimentary food and drink on arrival at Bendigo’s local Piano Bar. It’s bingo like never before—prepare for a fierce and fabulous evening! \nEveryone welcome! Register for your free ticket HERE.
URL:https://www.latrobe.edu.au/mylatrobe/event/drag-queen-bingo/
LOCATION:Piano Bar\, 264 Hargreaves St\, Bendigo\, Victoria\, 3550\, Australia
CATEGORIES:Bendigo,Online
ATTACH;FMTTYPE=image/png:https://www.latrobe.edu.au/mylatrobe/wp-content/uploads/2024/07/Latrobe-Drag-Bingo-July-2024-2160-x-1080-px-1-1.png
END:VEVENT
BEGIN:VEVENT
DTSTART;TZID=Australia/Melbourne:20240829T110000
DTEND;TZID=Australia/Melbourne:20240829T140000
DTSTAMP:20260420T064712
CREATED:20240704T235648Z
LAST-MODIFIED:20240820T042512Z
UID:45772-1724929200-1724940000@www.latrobe.edu.au
SUMMARY:Pride Festival & Annual Pride March (Market Takeover)
DESCRIPTION:Celebrate Pride at La Trobe! Join us for our annual Pride March and Market takeover in the Agora. There will be free food\, entertainment and heaps of rainbow fun!
URL:https://www.latrobe.edu.au/mylatrobe/event/pride-festival-annual-pride-march-market-takeover/
LOCATION:Agora
CATEGORIES:Bundoora,Online
ATTACH;FMTTYPE=image/jpeg:https://www.latrobe.edu.au/mylatrobe/wp-content/uploads/2024/07/BU-Pride.jpg
END:VEVENT
BEGIN:VEVENT
DTSTART;TZID=Australia/Melbourne:20240830T180000
DTEND;TZID=Australia/Melbourne:20240831T120000
DTSTAMP:20260420T064712
CREATED:20240704T235649Z
LAST-MODIFIED:20240711T041055Z
UID:45775-1725040800-1725105600@www.latrobe.edu.au
SUMMARY:AW Social Ball
DESCRIPTION:Celebrate with your uni friends at a special social event at the SS&A Club\, Albury. \nTickets from $45 and include a 3 course meal\, 3 x drinks\, dancing\, DJ and Photobooth. \nDress Code: Black Tie  \n18+ ID required. 18+ event only. La Trobe supports responsible drinking.  \n 
URL:https://www.latrobe.edu.au/mylatrobe/event/aw-social-ball/
CATEGORIES:Albury-Wodonga,Online
ATTACH;FMTTYPE=image/png:https://www.latrobe.edu.au/mylatrobe/wp-content/uploads/2024/07/La-Trobe-Social-ball-1.png
END:VEVENT
END:VCALENDAR