BEGIN:VCALENDAR
VERSION:2.0
PRODID:-//MyLaTrobe - ECPv6.15.20//NONSGML v1.0//EN
CALSCALE:GREGORIAN
METHOD:PUBLISH
X-ORIGINAL-URL:https://www.latrobe.edu.au/mylatrobe
X-WR-CALDESC:Events for MyLaTrobe
REFRESH-INTERVAL;VALUE=DURATION:PT1H
X-Robots-Tag:noindex
X-PUBLISHED-TTL:PT1H
BEGIN:VTIMEZONE
TZID:Australia/Melbourne
BEGIN:STANDARD
TZOFFSETFROM:+1100
TZOFFSETTO:+1000
TZNAME:AEST
DTSTART:20230401T160000
END:STANDARD
BEGIN:DAYLIGHT
TZOFFSETFROM:+1000
TZOFFSETTO:+1100
TZNAME:AEDT
DTSTART:20230930T160000
END:DAYLIGHT
BEGIN:STANDARD
TZOFFSETFROM:+1100
TZOFFSETTO:+1000
TZNAME:AEST
DTSTART:20240406T160000
END:STANDARD
BEGIN:DAYLIGHT
TZOFFSETFROM:+1000
TZOFFSETTO:+1100
TZNAME:AEDT
DTSTART:20241005T160000
END:DAYLIGHT
BEGIN:STANDARD
TZOFFSETFROM:+1100
TZOFFSETTO:+1000
TZNAME:AEST
DTSTART:20250405T160000
END:STANDARD
BEGIN:DAYLIGHT
TZOFFSETFROM:+1000
TZOFFSETTO:+1100
TZNAME:AEDT
DTSTART:20251004T160000
END:DAYLIGHT
END:VTIMEZONE
BEGIN:VEVENT
DTSTART;TZID=Australia/Melbourne:20241118T093000
DTEND;TZID=Australia/Melbourne:20241118T170000
DTSTAMP:20260420T082951
CREATED:20241031T010754Z
LAST-MODIFIED:20241031T012825Z
UID:48101-1731922200-1731949200@www.latrobe.edu.au
SUMMARY:Sands & Safety: The Aussie Beach Experience
DESCRIPTION:Join us for an exciting and educational day at Port Melbourne Beach! This unique beach adventure is designed to give international students a fun-filled experience exploring Australian beaches while learning essential beach safety skills.  \n\n\n\nYou’ll get the opportunity to enjoy the sand and sea with fellow La Trobe students\, all while gaining confidence in staying safe on Australia’s beautiful coastline. \n\n\n\nCost: FREE! \n\n\n\nSpaces are limited\, so don’t miss out!
URL:https://www.latrobe.edu.au/mylatrobe/event/sands-safety-the-aussie-beach-experience/
CATEGORIES:Multi-Campus
END:VEVENT
BEGIN:VEVENT
DTSTART;TZID=Australia/Melbourne:20241017T180000
DTEND;TZID=Australia/Melbourne:20241017T213000
DTSTAMP:20260420T082951
CREATED:20241009T030611Z
LAST-MODIFIED:20241009T030614Z
UID:47790-1729188000-1729200600@www.latrobe.edu.au
SUMMARY:Cheer with the locals: AFLW game experience
DESCRIPTION:Join us at the Carlton Football Club HQ in Ikon Park for an excilerating AFLW game between Carlton and the Western Bulldogs with dinner provided after the match. \n\n\n\n\n\n\nGET TICKETS
URL:https://www.latrobe.edu.au/mylatrobe/event/cheer-with-the-locals-aflw-game-experience/
LOCATION:Ikon Park\, 400 Royal Parade\, Carlton North\, VIC\, 3054\, Australia
CATEGORIES:Multi-Campus
END:VEVENT
BEGIN:VEVENT
DTSTART;TZID=Australia/Melbourne:20240925T170000
DTEND;TZID=Australia/Melbourne:20240925T190000
DTSTAMP:20260420T082951
CREATED:20240909T024820Z
LAST-MODIFIED:20240909T025625Z
UID:47337-1727283600-1727290800@www.latrobe.edu.au
SUMMARY:Do you live on campus? Join a forum led by Deputy Vice-Chancellor Professor Jessica Vanderlelie
DESCRIPTION:Living on campus is more than just a convenience—it’s an opportunity to immerse yourself fully in the vibrant life of La Trobe University. As a residential student\, you are an integral part of our community\, and we want to hear from you! \n\n\n\nWe are excited to invite all students living on campus to a virtual discussion led by Professor Jessica Vanderlelie\, our Deputy Vice-Chancellor (Academic). \n\n\n\nThis is your chance to connect directly with university leadership and share your insights\, ideas\, and feedback on your residential experience. Whether you’ve been living on campus for a while or are new to the community\, your voice matters. \n\n\n\nEvent details: \n\n\n\n\nWhen: Wednesday 25 September 2024\, 5.00 pm-7.00 pm (AEST)\n\n\n\nWhere: Zoom (Join from the comfort of your room or anywhere else!)\n\n\n\n\n\n\n\n\n\n\nAny questions about the event can be directed to the Student Partnerships team: studentpartnership@latrobe.edu.au
URL:https://www.latrobe.edu.au/mylatrobe/event/do-you-live-on-campus-join-a-forum-led-by-deputy-vice-chancellor-professor-jessica-vanderlelie/
CATEGORIES:Multi-Campus
END:VEVENT
BEGIN:VEVENT
DTSTART;TZID=Australia/Melbourne:20240830T083000
DTEND;TZID=Australia/Melbourne:20240830T163000
DTSTAMP:20260420T082951
CREATED:20240722T021644Z
LAST-MODIFIED:20240722T021647Z
UID:46426-1725006600-1725035400@www.latrobe.edu.au
SUMMARY:ServiceNow X Deloitte Appathon
DESCRIPTION:In collaboration with ServiceNow and Deloitte Australia\, La Trobe University’s Appathon event is a ‘hackathon-style’ opportunity for students and alumni to build scalable low-code business applications using the ServiceNow App Engine Studio. You will learn and use industry methods and tools for requirements gathering\, design and progress tracking. \n\n\n\nThis free event is open to La Trobe students of all majors and disciplines. You do not need to be a computer science major or in a technical field of study!  \n\n\n\nApplications close on Friday 9 August.
URL:https://www.latrobe.edu.au/mylatrobe/event/servicenow-x-deloitte-appathon/
CATEGORIES:Multi-Campus
END:VEVENT
BEGIN:VEVENT
DTSTART;TZID=Australia/Melbourne:20240830T000000
DTEND;TZID=Australia/Melbourne:20240830T235959
DTSTAMP:20260420T082951
CREATED:20240822T010641Z
LAST-MODIFIED:20240830T015649Z
UID:47021-1724976000-1725062399@www.latrobe.edu.au
SUMMARY:Wear It Purple Day 2024
DESCRIPTION:Pride Week at La Trobe ends with Wear it Purple Day on the 30 August. This day is celebrated annually and is a day dedicated to fostering safe\, supportive and inclusive environments for LGBTIQA+ young people. It began in 2010 as a response to global stories of bullying and harassment leading to tragic outcomes for rainbow youth. The day serves as a reminder that everyone deserves to be proud of who they are\, regardless of their gender identity or sexuality.    \n\n\n\nWe encourage you to wear purple on Friday 30 August\, standing in solidarity with LGBTIQA+ communities\, raising awareness and promoting acceptance to ensure that all young people feel seen\, valued and supported.  \n\n\n\nLearn more at the Wear It Purple website\, or host and register your own team event! 
URL:https://www.latrobe.edu.au/mylatrobe/event/wear-it-purple-day-2024/
CATEGORIES:Multi-Campus
END:VEVENT
BEGIN:VEVENT
DTSTART;TZID=Australia/Melbourne:20240822T183000
DTEND;TZID=Australia/Melbourne:20240822T183000
DTSTAMP:20260420T082951
CREATED:20240704T235408Z
LAST-MODIFIED:20240704T235408Z
UID:45757-1724351400-1724351400@www.latrobe.edu.au
SUMMARY:Calm in Your Pocket: DIY Self-Soothing Tool Kit
DESCRIPTION:Discover the “Calm in Your Pocket: DIY Self-Soothing Tool Kit” workshop\, designed to help you create a personal toolkit for managing stress and anxiety. Led by art therapist Stef Kam\, this session will guide you through making custom self-soothing items that you can carry with you. This hands-on workshop aims to empower you with practical tools to enhance your mental health and wellbeing. Register via the link provided to guarantee your spot!
URL:https://www.latrobe.edu.au/mylatrobe/event/calm-in-your-pocket-diy-self-soothing-tool-kit/
CATEGORIES:Multi-Campus
END:VEVENT
BEGIN:VEVENT
DTSTART;TZID=Australia/Melbourne:20240815T183000
DTEND;TZID=Australia/Melbourne:20240815T183000
DTSTAMP:20260420T082951
CREATED:20240704T235406Z
LAST-MODIFIED:20240704T235406Z
UID:45741-1723746600-1723746600@www.latrobe.edu.au
SUMMARY:Dear Future Me: Postcard Creation Workshop
DESCRIPTION:Join us for the “Dear Future Me: Postcard Creation Workshop\,” a unique and reflective session designed for international students from Asia\, aged 18-25. This workshop offers a chance to creatively express your aspirations and dreams. Guided by art therapist Stef Kam\, you’ll craft personalized postcards to your future self\, providing a meaningful way to visualize your goals and reflect on your journey. This engaging workshop fosters a supportive community\, helping you manage stress and enhance your mental wellbeing. Register via the link provided to guarantee your spot!
URL:https://www.latrobe.edu.au/mylatrobe/event/dear-future-me-postcard-creation-workshop/
CATEGORIES:Multi-Campus
END:VEVENT
BEGIN:VEVENT
DTSTART;TZID=Australia/Melbourne:20240813T150000
DTEND;TZID=Australia/Melbourne:20240813T163000
DTSTAMP:20260420T082951
CREATED:20240718T025554Z
LAST-MODIFIED:20240718T025556Z
UID:46381-1723561200-1723566600@www.latrobe.edu.au
SUMMARY:Develop Your EQ in Semester 2
DESCRIPTION:Motivation and leadership expert Josh Farr is returning to the La Trobe Leaders Program in semester 2 and you’re invited to join us!  \n\n\n\nOver 4 weeks you’ll develop your understanding of  4 different but related topics to help you get on top and stay on top  of your goals this semester! \n\n\n\nMost likely before your first assignment is even due…   you will have:  \n\n\n\n\nFound and connected with your sense of purpose \n\n\n\nLearned about managing you time and energy well \n\n\n\nUncovered  the art of getting and staying motivated \n\n\n\nBoosted your confidence in communications!\n\n\n\n\nStarting in week 1 of semester and running for 4 weeks  each  Tuesday 3 – 4:30 pm join Josh online and take the time to work on yourself and develop your potential. \n\n\n\nIn this week (week 3) it’s all about motivation… understanding what drives or motivates you and how to harness motivation into action and achieve your goals! 
URL:https://www.latrobe.edu.au/mylatrobe/event/develop-your-eq-in-semester-2-3/
CATEGORIES:Albury-Wodonga,Bendigo,Bundoora,City,Mildura,Multi-Campus,Online,Shepparton
END:VEVENT
BEGIN:VEVENT
DTSTART;TZID=Australia/Melbourne:20240807T120000
DTEND;TZID=Australia/Melbourne:20240815T130000
DTSTAMP:20260420T082951
CREATED:20240714T231758Z
LAST-MODIFIED:20240714T231803Z
UID:46332-1723032000-1723726800@www.latrobe.edu.au
SUMMARY:Equity\, Diversity & Inclusion Framework: International Student Consultations
DESCRIPTION:La Trobe University is seeking your advice on how they can make a more inclusive university for International Students like you!  You are invited to participate in student focus groups about a new Equity\, Diversity & Inclusion Strategy and Framework for the University.  Consultation sessions are happening across August online and in person. with focus groups happening on: \n\n\n\n\nAugust 7th 12-1pm online\n\n\n\nAugust  13th 2-3pm online \n\n\n\nAugust 15th  11-12pm in person at the City Campus \n\n\n\n\nIts a fantastic way to provide advice to the University and to help make La Trobe a better\, more inclusive place! \n\n\n\nNote this consultation is only for International Students. \n\n\n\nE.O.I. here for this opportunity  \n\n\n\n\nhttps://forms.office.com/r/UQXQsU037b
URL:https://www.latrobe.edu.au/mylatrobe/event/equity-diversity-inclusion-framework-international-student-consultations/
CATEGORIES:Albury-Wodonga,Bendigo,Bundoora,City,Mildura,Multi-Campus,Shepparton
END:VEVENT
BEGIN:VEVENT
DTSTART;TZID=Australia/Melbourne:20240806T040000
DTEND;TZID=Australia/Melbourne:20240806T043000
DTSTAMP:20260420T082951
CREATED:20240718T004416Z
LAST-MODIFIED:20240718T004418Z
UID:46379-1722916800-1722918600@www.latrobe.edu.au
SUMMARY:Develop your EQ in Semester 2
DESCRIPTION:Motivation and leadership expert Josh Farr is returning to the La Trobe Leaders Program in semester 2. This time we’re doing things all little bit differently…  it’s 4 weeks\, 4 student workshops on different but related topics to help you get on top and stay on top  of your goals this semester! \n\n\n\nMost likely before your first assignment is even due…   you will have:  \n\n\n\n\nFound and connected with your sense of purpose \n\n\n\nLearned about managing you time and energy well \n\n\n\nUncovered  the art of getting and staying motivated \n\n\n\nBoosted your confidence in communications!\n\n\n\n\nStarting in week 1 of semester and running for 4 weeks  each  Tuesday 3 – 4:30 pm join Josh and the La Trobe Leaders Program online and take the time to work on yourself and develop your potential. \n\n\n\nThis week it’s all about managing your time and energy!
URL:https://www.latrobe.edu.au/mylatrobe/event/develop-your-eq-in-semester-2-2/
CATEGORIES:Albury-Wodonga,Bendigo,Bundoora,City,Mildura,Multi-Campus,Online,Shepparton
END:VEVENT
BEGIN:VEVENT
DTSTART;TZID=Australia/Melbourne:20240730T150000
DTEND;TZID=Australia/Melbourne:20240730T163000
DTSTAMP:20260420T082951
CREATED:20240718T003837Z
LAST-MODIFIED:20240718T003839Z
UID:46369-1722351600-1722357000@www.latrobe.edu.au
SUMMARY:Develop your EQ in Semester 2
DESCRIPTION:Motivation and leadership expert Josh Farr is returning to the La Trobe Leaders Program in semester 2. This time we’re doing things all little bit differently…  it’s 4 weeks\, 4 student workshops on different but related topics to help you get on top and stay on top  of your goals this semester! \n\n\n\nMost likely before your first assignment is even due…   you will have:  \n\n\n\n\nFound and connected with your sense of purpose \n\n\n\nLearned about managing you time and energy well \n\n\n\nUncovered  the art of getting and staying motivated \n\n\n\nBoosted your confidence in communications!\n\n\n\n\nStarting in week 1 of semester and running for 4 weeks  each  Tuesday 3 – 4:30 pm join Josh and the La Trobe Leaders Program online and take the time to work on yourself and develop your potential. \n\n\n\nThis week it’s all about Ikigai or sense of purpose!
URL:https://www.latrobe.edu.au/mylatrobe/event/develop-your-eq-in-semester-2/
CATEGORIES:Albury-Wodonga,Bendigo,Bundoora,City,Mildura,Multi-Campus,Online,Shepparton
END:VEVENT
BEGIN:VEVENT
DTSTART;TZID=Australia/Melbourne:20240523T120000
DTEND;TZID=Australia/Melbourne:20240523T130000
DTSTAMP:20260420T082951
CREATED:20240513T031945Z
LAST-MODIFIED:20240513T032614Z
UID:45001-1716465600-1716469200@www.latrobe.edu.au
SUMMARY:Fulbright Scholarship Info Session
DESCRIPTION:Find out about applying for one of Australia’s most life changing scholarships to undertake PG study in the US in 2025. \n\n\n\nFulbright Australia Scholarships are now open for 2025. This is the chance to take the next step in your educational journey by applying to be a Fulbright Scholar for 2025. \n\n\n\nFulbright Scholars are supported to travel to the US to undertake PG coursework or research in what can best be described as a life changing opportunity. There are a range of Scholarships available with details on the Fulbright website \n\n\n\nDiscover more about Fulbright Scholarship opportunities and how to apply for this outstanding opportunity at our information session where you can meet representatives from Fulbright Australia. \n\n\n\nThursday May 23 at 12 noon via zoom. \n\n\n\nRegister here for the link to the event \n\n\n\nApplications close in early July. Note applications are open to Australian students.
URL:https://www.latrobe.edu.au/mylatrobe/event/fulbright-scholarship-info-session/
CATEGORIES:Albury-Wodonga,Bendigo,Bundoora,City,Mildura,Multi-Campus,Online,Shepparton
END:VEVENT
BEGIN:VEVENT
DTSTART;TZID=Australia/Melbourne:20240514T100000
DTEND;TZID=Australia/Melbourne:20240514T163000
DTSTAMP:20260420T082951
CREATED:20240430T030035Z
LAST-MODIFIED:20240430T030233Z
UID:44792-1715680800-1715704200@www.latrobe.edu.au
SUMMARY:Workplace Experience Challenge
DESCRIPTION:Unleash your creativity and make a real impact by participating in theWorkplace Experience Challenge. Your mission? Redefine the workplace experienceprogram and shape the future student experience at La Trobe. This is yourchance to develop an entrepreneurial mindset\, network with industryprofessionals and win exciting cash prizes. \n\n\n\nApplications close Monday 6 May
URL:https://www.latrobe.edu.au/mylatrobe/event/workplace-experience-challenge/
CATEGORIES:Multi-Campus
END:VEVENT
BEGIN:VEVENT
DTSTART;TZID=Australia/Melbourne:20240424T000000
DTEND;TZID=Australia/Melbourne:20240426T000000
DTSTAMP:20260420T082951
CREATED:20240320T232036Z
LAST-MODIFIED:20240320T232844Z
UID:43659-1713916800-1714089600@www.latrobe.edu.au
SUMMARY:UniSport Athletics Nationals
DESCRIPTION:Represent La Trobe University with pride! Team La trobe descends on the Gold Coast to compete in a range of track and field events against 43 other member Universities. For updated event information please visit\, the La Trobe Sport website.
URL:https://www.latrobe.edu.au/mylatrobe/event/unisport-athletics-nationals-2/
CATEGORIES:Multi-Campus
END:VEVENT
BEGIN:VEVENT
DTSTART;TZID=Australia/Melbourne:20240424T000000
DTEND;TZID=Australia/Melbourne:20240426T000000
DTSTAMP:20260420T082951
CREATED:20240320T232036Z
LAST-MODIFIED:20240320T232122Z
UID:43660-1713916800-1714089600@www.latrobe.edu.au
SUMMARY:UniSport Athletics Nationals
DESCRIPTION:Represent La Trobe University with pride! Team La trobe descends on the Gold Coast to compete in a range of track and field events against 43 other member Universities.  “For updated event information please visit\, https://www.latrobe.edu.au/sport/play-sport/represent/university-nationals’
URL:https://www.latrobe.edu.au/mylatrobe/event/unisport-athletics-nationals/
CATEGORIES:Multi-Campus
END:VEVENT
END:VCALENDAR