BEGIN:VCALENDAR
VERSION:2.0
PRODID:-//MyLaTrobe - ECPv6.15.20//NONSGML v1.0//EN
CALSCALE:GREGORIAN
METHOD:PUBLISH
X-WR-CALNAME:MyLaTrobe
X-ORIGINAL-URL:https://www.latrobe.edu.au/mylatrobe
X-WR-CALDESC:Events for MyLaTrobe
REFRESH-INTERVAL;VALUE=DURATION:PT1H
X-Robots-Tag:noindex
X-PUBLISHED-TTL:PT1H
BEGIN:VTIMEZONE
TZID:Australia/Melbourne
BEGIN:STANDARD
TZOFFSETFROM:+1100
TZOFFSETTO:+1000
TZNAME:AEST
DTSTART:20240406T160000
END:STANDARD
BEGIN:DAYLIGHT
TZOFFSETFROM:+1000
TZOFFSETTO:+1100
TZNAME:AEDT
DTSTART:20241005T160000
END:DAYLIGHT
BEGIN:STANDARD
TZOFFSETFROM:+1100
TZOFFSETTO:+1000
TZNAME:AEST
DTSTART:20250405T160000
END:STANDARD
BEGIN:DAYLIGHT
TZOFFSETFROM:+1000
TZOFFSETTO:+1100
TZNAME:AEDT
DTSTART:20251004T160000
END:DAYLIGHT
BEGIN:STANDARD
TZOFFSETFROM:+1100
TZOFFSETTO:+1000
TZNAME:AEST
DTSTART:20260404T160000
END:STANDARD
BEGIN:DAYLIGHT
TZOFFSETFROM:+1000
TZOFFSETTO:+1100
TZNAME:AEDT
DTSTART:20261003T160000
END:DAYLIGHT
BEGIN:STANDARD
TZOFFSETFROM:+1100
TZOFFSETTO:+1000
TZNAME:AEST
DTSTART:20270403T160000
END:STANDARD
BEGIN:DAYLIGHT
TZOFFSETFROM:+1000
TZOFFSETTO:+1100
TZNAME:AEDT
DTSTART:20271002T160000
END:DAYLIGHT
END:VTIMEZONE
BEGIN:VEVENT
DTSTART;TZID=Australia/Melbourne:20260123T150000
DTEND;TZID=Australia/Melbourne:20260123T163000
DTSTAMP:20260420T035457
CREATED:20251210T034152Z
LAST-MODIFIED:20251210T034152Z
UID:56268-1769180400-1769185800@www.latrobe.edu.au
SUMMARY:Manage your References with EndNote
DESCRIPTION:Learn how to use EndNote for reference management. Create a library\, add and modify references and use EndNote within Microsoft Word. Attendees are advised to have prior knowledge of referencing.
URL:https://www.latrobe.edu.au/mylatrobe/event/manage-your-references-with-endnote-7/
CATEGORIES:Albury-Wodonga,Bendigo,Bundoora,City,Mildura,Multi-Campus,Online,Shepparton
END:VEVENT
BEGIN:VEVENT
DTSTART;TZID=Australia/Melbourne:20260122T130000
DTEND;TZID=Australia/Melbourne:20260122T140000
DTSTAMP:20260420T035457
CREATED:20251210T034153Z
LAST-MODIFIED:20251210T034153Z
UID:56266-1769086800-1769090400@www.latrobe.edu.au
SUMMARY:Assessment Writing Skills
DESCRIPTION:Understand what is expected in academic writing at university\, including: academic language\, tone\, structure\, paragraphs\, using sources and referencing. And know where to get support for these areas.
URL:https://www.latrobe.edu.au/mylatrobe/event/assessment-writing-skills-7/
CATEGORIES:Albury-Wodonga,Bendigo,Bundoora,City,Mildura,Multi-Campus,Online,Shepparton
END:VEVENT
BEGIN:VEVENT
DTSTART;TZID=Australia/Melbourne:20260121T110000
DTEND;TZID=Australia/Melbourne:20260121T123000
DTSTAMP:20260420T035457
CREATED:20251210T034153Z
LAST-MODIFIED:20251210T034153Z
UID:56264-1768993200-1768998600@www.latrobe.edu.au
SUMMARY:Advanced Database Search Skills for Health
DESCRIPTION:In this advanced database searching session\, you will learn how to systematically search Medline as well as translate your search across other databases.
URL:https://www.latrobe.edu.au/mylatrobe/event/advanced-database-search-skills-for-health-5/
CATEGORIES:Albury-Wodonga,Bendigo,Bundoora,City,Mildura,Multi-Campus,Online,Shepparton
END:VEVENT
BEGIN:VEVENT
DTSTART;TZID=Australia/Melbourne:20260119T140000
DTEND;TZID=Australia/Melbourne:20260119T150000
DTSTAMP:20260420T035457
CREATED:20251210T034153Z
LAST-MODIFIED:20251210T034153Z
UID:56235-1768831200-1768834800@www.latrobe.edu.au
SUMMARY:Learn how to Reference
DESCRIPTION:Learn how and when you need to acknowledge the information you are using in your assessments using the Academic Referencing Tool (ART). 
URL:https://www.latrobe.edu.au/mylatrobe/event/learn-how-to-reference-6/
CATEGORIES:Albury-Wodonga,Bendigo,Bundoora,City,Mildura,Multi-Campus,Online,Shepparton
END:VEVENT
BEGIN:VEVENT
DTSTART;TZID=Australia/Melbourne:20260116T130000
DTEND;TZID=Australia/Melbourne:20260116T140000
DTSTAMP:20260420T035457
CREATED:20251210T034153Z
LAST-MODIFIED:20251210T034153Z
UID:56232-1768568400-1768572000@www.latrobe.edu.au
SUMMARY:Introduction to Microsoft Word
DESCRIPTION:This workshop covers basic Word skills\, including how to format a document for essays and tips and tricks as you type and review your document.
URL:https://www.latrobe.edu.au/mylatrobe/event/introduction-to-microsoft-word-3/
CATEGORIES:Albury-Wodonga,Bendigo,Bundoora,City,Mildura,Multi-Campus,Online,Shepparton
END:VEVENT
BEGIN:VEVENT
DTSTART;TZID=Australia/Melbourne:20260115T130000
DTEND;TZID=Australia/Melbourne:20260115T140000
DTSTAMP:20260420T035457
CREATED:20251210T034154Z
LAST-MODIFIED:20251210T034154Z
UID:56230-1768482000-1768485600@www.latrobe.edu.au
SUMMARY:Write that Assignment: Reports
DESCRIPTION:This workshop focuses on how to write reports\, with tips on structure\, style and use of evidence. It will detail what should be included in each section\, and also cover common errors.
URL:https://www.latrobe.edu.au/mylatrobe/event/write-that-assignment-reports-5/
CATEGORIES:Albury-Wodonga,Bendigo,Bundoora,City,Mildura,Multi-Campus,Online,Shepparton
END:VEVENT
BEGIN:VEVENT
DTSTART;TZID=Australia/Melbourne:20251121T150000
DTEND;TZID=Australia/Melbourne:20251121T163000
DTSTAMP:20260420T035457
CREATED:20251029T015000Z
LAST-MODIFIED:20251029T015000Z
UID:55822-1763737200-1763742600@www.latrobe.edu.au
SUMMARY:Manage your References with EndNote
DESCRIPTION:Learn how to use EndNote for reference management. Create a library\, add and modify references and use EndNote within Microsoft Word. Attendees are advised to have prior knowledge of referencing.  \n\n\n\nRegister here.
URL:https://www.latrobe.edu.au/mylatrobe/event/manage-your-references-with-endnote-5/
LOCATION:Online
CATEGORIES:Albury-Wodonga,Bendigo,Bundoora,City,Mildura,Multi-Campus,Online,Shepparton,Sydney
END:VEVENT
BEGIN:VEVENT
DTSTART;TZID=Australia/Melbourne:20251120T110000
DTEND;TZID=Australia/Melbourne:20251120T120000
DTSTAMP:20260420T035457
CREATED:20251029T015000Z
LAST-MODIFIED:20251029T015000Z
UID:55820-1763636400-1763640000@www.latrobe.edu.au
SUMMARY:Using Evidence in your Writing
DESCRIPTION:This workshop will teach you how to incorporate sources into your writing that support your academic arguments and help you avoid plagiarism.  \n\n\n\nRegister here.
URL:https://www.latrobe.edu.au/mylatrobe/event/using-evidence-in-your-writing-4/
LOCATION:Online
CATEGORIES:Albury-Wodonga,Bendigo,Bundoora,City,Mildura,Multi-Campus,Online,Shepparton,Sydney
END:VEVENT
BEGIN:VEVENT
DTSTART;TZID=Australia/Melbourne:20251119T110000
DTEND;TZID=Australia/Melbourne:20251119T120000
DTSTAMP:20260420T035457
CREATED:20251029T015000Z
LAST-MODIFIED:20251029T015000Z
UID:55818-1763550000-1763553600@www.latrobe.edu.au
SUMMARY:Learn How to Reference
DESCRIPTION:Learn how and when you need to acknowledge the information you are using in your assessments using the Academic Referencing Tool (ART).  \n\n\n\nRegister here.
URL:https://www.latrobe.edu.au/mylatrobe/event/learn-how-to-reference-4/
LOCATION:Online
CATEGORIES:Albury-Wodonga,Bendigo,Bundoora,City,Mildura,Multi-Campus,Online,Shepparton,Sydney
END:VEVENT
BEGIN:VEVENT
DTSTART;TZID=Australia/Melbourne:20251118T110000
DTEND;TZID=Australia/Melbourne:20251118T120000
DTSTAMP:20260420T035457
CREATED:20251029T015000Z
LAST-MODIFIED:20251029T015000Z
UID:55816-1763463600-1763467200@www.latrobe.edu.au
SUMMARY:Write that Assignment: Essays
DESCRIPTION:This workshop focuses on how to tackle essays with tips on structure\, writing good paragraphs\, using evidence\, and writing great introductions and conclusions.  \n\n\n\nRegister here.
URL:https://www.latrobe.edu.au/mylatrobe/event/write-that-assignment-essays-4/
LOCATION:Online
CATEGORIES:Albury-Wodonga,Bendigo,Bundoora,City,Mildura,Multi-Campus,Online,Shepparton,Sydney
END:VEVENT
BEGIN:VEVENT
DTSTART;TZID=Australia/Melbourne:20251117T140000
DTEND;TZID=Australia/Melbourne:20251117T150000
DTSTAMP:20260420T035457
CREATED:20251029T015001Z
LAST-MODIFIED:20251029T015001Z
UID:55814-1763388000-1763391600@www.latrobe.edu.au
SUMMARY:Write that Assignment: Reports
DESCRIPTION:This workshop focuses on how to write reports\, with tips on structure\, style and use of evidence. It will detail what should be included in each section and also cover common errors.  \n\n\n\nRegister here.
URL:https://www.latrobe.edu.au/mylatrobe/event/write-that-assignment-reports-3/
LOCATION:Online
CATEGORIES:Albury-Wodonga,Bendigo,Bundoora,City,Mildura,Multi-Campus,Online,Shepparton,Sydney
END:VEVENT
BEGIN:VEVENT
DTSTART;TZID=Australia/Melbourne:20251113T103000
DTEND;TZID=Australia/Melbourne:20251113T120000
DTSTAMP:20260420T035457
CREATED:20251029T015001Z
LAST-MODIFIED:20251029T015001Z
UID:55812-1763029800-1763035200@www.latrobe.edu.au
SUMMARY:Advanced Database Search Skills for Health
DESCRIPTION:In this advanced database searching session\, you will learn how to systematically search Medline as well as translate your search across other databases.  \n\n\n\nRegister here.
URL:https://www.latrobe.edu.au/mylatrobe/event/advanced-database-search-skills-for-health-3/
LOCATION:Online
CATEGORIES:Albury-Wodonga,Bendigo,Bundoora,City,Mildura,Multi-Campus,Online,Shepparton,Sydney
END:VEVENT
BEGIN:VEVENT
DTSTART;TZID=Australia/Melbourne:20251112T140000
DTEND;TZID=Australia/Melbourne:20251112T150000
DTSTAMP:20260420T035457
CREATED:20251029T015001Z
LAST-MODIFIED:20251029T015001Z
UID:55810-1762956000-1762959600@www.latrobe.edu.au
SUMMARY:Using Library Databases and Google Scholar
DESCRIPTION:Boost your study success by exploring strategies to find the right resources for your assessments and developing your search skills in Library databases and Google Scholar.  \n\n\n\nRegister here.
URL:https://www.latrobe.edu.au/mylatrobe/event/using-library-databases-and-google-scholar-3/
LOCATION:Online
CATEGORIES:Albury-Wodonga,Bendigo,Bundoora,City,Mildura,Multi-Campus,Online,Shepparton,Sydney
END:VEVENT
BEGIN:VEVENT
DTSTART;TZID=Australia/Melbourne:20251111T110000
DTEND;TZID=Australia/Melbourne:20251111T120000
DTSTAMP:20260420T035457
CREATED:20251029T015001Z
LAST-MODIFIED:20251029T015001Z
UID:55808-1762858800-1762862400@www.latrobe.edu.au
SUMMARY:Assessment Writing Skills
DESCRIPTION:Understand what is expected in academic writing at university\, including: academic language\, tone\, structure\, paragraphs\, using sources and referencing. And know where to get support for these areas.  \n\n\n\nRegister here.
URL:https://www.latrobe.edu.au/mylatrobe/event/assessment-writing-skills-5/
LOCATION:Online
CATEGORIES:Albury-Wodonga,Bendigo,Bundoora,City,Mildura,Multi-Campus,Online,Shepparton,Sydney
END:VEVENT
BEGIN:VEVENT
DTSTART;TZID=Australia/Melbourne:20251110T110000
DTEND;TZID=Australia/Melbourne:20251110T120000
DTSTAMP:20260420T035457
CREATED:20251029T011752Z
LAST-MODIFIED:20251029T011752Z
UID:55805-1762772400-1762776000@www.latrobe.edu.au
SUMMARY:Improve your Library Search Skills
DESCRIPTION:Boost your study success by exploring strategies to find the right resources for your assessments and developing your search skills in Library Search \n\n\n\nRegister here.
URL:https://www.latrobe.edu.au/mylatrobe/event/improve-your-library-search-skills-4/
LOCATION:Online
CATEGORIES:Albury-Wodonga,Bendigo,Bundoora,City,Mildura,Multi-Campus,Online,Shepparton,Sydney
END:VEVENT
BEGIN:VEVENT
DTSTART;TZID=Australia/Melbourne:20251015T140000
DTEND;TZID=Australia/Melbourne:20251015T150000
DTSTAMP:20260420T035457
CREATED:20251008T043136Z
LAST-MODIFIED:20251008T043202Z
UID:55464-1760536800-1760540400@www.latrobe.edu.au
SUMMARY:Spotlights on Success: Catch Common Writing Errors
DESCRIPTION:In this workshop\, you’ll learn how to: \n\n\n\n\nProofread your writing\n\n\n\nFix common writing errors\n\n\n\nWhere to find more help\n\n\n\n\nThis is a live online workshop and is not recorded. Registered attendees will receive the slides after the workshop. \n\n\n\nThis is a Career Ready event. Attendance will be marked and go towards your award.
URL:https://www.latrobe.edu.au/mylatrobe/event/spotlights-on-success-catch-common-writing-errors/
CATEGORIES:Multi-Campus,Online
END:VEVENT
BEGIN:VEVENT
DTSTART;TZID=Australia/Melbourne:20251014T140000
DTEND;TZID=Australia/Melbourne:20251014T150000
DTSTAMP:20260420T035457
CREATED:20251008T042627Z
LAST-MODIFIED:20251008T042903Z
UID:55459-1760450400-1760454000@www.latrobe.edu.au
SUMMARY:Spotlights on Success: Preparing for Exams
DESCRIPTION:In this workshop\, you’ll learn:  \n\n\n\n\nHow to organise your notes \n\n\n\nHow to create an exam schedule \n\n\n\nStrategies for exam revision \n\n\n\nTime management tips during the exam\n\n\n\n\nThis is a live online workshop and is not recorded. Registered attendees will receive the slides after the workshop. \n\n\n\nThis is a Career Ready event. Attendance will be marked and contribute to your Career Ready award.
URL:https://www.latrobe.edu.au/mylatrobe/event/spotlights-on-sucess-preparing-for-exams/
CATEGORIES:Multi-Campus,Online
END:VEVENT
BEGIN:VEVENT
DTSTART;TZID=Australia/Melbourne:20251013T140000
DTEND;TZID=Australia/Melbourne:20251013T150000
DTSTAMP:20260420T035457
CREATED:20251008T042412Z
LAST-MODIFIED:20251008T042418Z
UID:55457-1760364000-1760367600@www.latrobe.edu.au
SUMMARY:Spotlights on Success: Tactics for Time Management
DESCRIPTION:In this workshop\, you’ll learn: \n\n\n\n\nhow to identify the causes of your time management issues\n\n\n\nstrategies for time management \n\n\n\nhow to prioritise your time and plan your tasks\n\n\n\n\nThis is a live online workshop and is not recorded. Registered attendees will receive the slides after the workshop. \n\n\n\nThis is a Career Ready event. Attendance will be marked and go towards your award.
URL:https://www.latrobe.edu.au/mylatrobe/event/spotlights-on-success-tactics-for-time-management/
CATEGORIES:Multi-Campus,Online
END:VEVENT
BEGIN:VEVENT
DTSTART;TZID=Australia/Melbourne:20251008T140000
DTEND;TZID=Australia/Melbourne:20251008T150000
DTSTAMP:20260420T035457
CREATED:20251008T042136Z
LAST-MODIFIED:20251008T042143Z
UID:55455-1759932000-1759935600@www.latrobe.edu.au
SUMMARY:Spotlights on Success: Getting Back on Track with your Assessments
DESCRIPTION:In this workshop\, you will learn:  \n\n\n\n\nsome steps for getting back on track after falling behind\n\n\n\nstrategies for time management and prioritising tasks\n\n\n\nwhere to go for more support\n\n\n\n\nA video and resources are available in the LMS – Pathfinder: Getting back on track with your assessments | My LMS subjects \n\n\n\nThis is a live online workshop and is not recorded. Registered attendees will receive the slides after the workshop. \n\n\n\nThis is a Career Ready event. Attendance will be marked and contribute to your Career Ready award.
URL:https://www.latrobe.edu.au/mylatrobe/event/spotlights-on-success-getting-back-on-track-with-your-assessments/
CATEGORIES:Multi-Campus,Online
END:VEVENT
BEGIN:VEVENT
DTSTART;TZID=Australia/Melbourne:20251007T140000
DTEND;TZID=Australia/Melbourne:20251007T150000
DTSTAMP:20260420T035457
CREATED:20251008T043425Z
LAST-MODIFIED:20251008T043431Z
UID:55467-1759845600-1759849200@www.latrobe.edu.au
SUMMARY:Spotlights on Success: Keep to the word count
DESCRIPTION:In this workshop\, you’ll learn how to:  \n\n\n\n\nplan your assignment to meet the word count\n\n\n\nidentify and remove irrelevant or repetitive content\n\n\n\nreduce wordy paragraphs and phrases\n\n\n\nwrite more concisely\n\n\n\n\nThis is a live online workshop and is not recorded. Registered attendees will receive the slides after the workshop. \n\n\n\nThis is a Career Ready event. Attendance will be marked and go towards your award.
URL:https://www.latrobe.edu.au/mylatrobe/event/spotlights-on-success-keep-to-the-word-count-2/
CATEGORIES:Multi-Campus,Online
END:VEVENT
BEGIN:VEVENT
DTSTART;TZID=Australia/Melbourne:20250923T090000
DTEND;TZID=Australia/Melbourne:20250923T090000
DTSTAMP:20260420T035457
CREATED:20250728T010816Z
LAST-MODIFIED:20250731T042447Z
UID:53445-1758618000-1758618000@www.latrobe.edu.au
SUMMARY:UniSport Nationals - Division 1 & 2 Commences
DESCRIPTION:Welcome to the premier sporting event for University students – UniSport Nationals. Team La Trobe will participate in 15+ sports\, and battle it out against 43 member universities to see who reigns supreme! “For updated event information please visit\, https://www.latrobe.edu.au/sport/play-sport/represent/university-nationals”
URL:https://www.latrobe.edu.au/mylatrobe/event/unisport-nationals-division-1-2-commences-2/
CATEGORIES:Albury-Wodonga,Bendigo,Bundoora,City,Mildura,Multi-Campus,Online,Shepparton,Sydney
END:VEVENT
BEGIN:VEVENT
DTSTART;TZID=Australia/Melbourne:20250821T150000
DTEND;TZID=Australia/Melbourne:20250821T150000
DTSTAMP:20260420T035457
CREATED:20250724T040920Z
LAST-MODIFIED:20250731T040819Z
UID:52966-1755788400-1755788400@www.latrobe.edu.au
SUMMARY:Manage your References with Endnote
DESCRIPTION:Learn how to use EndNote for reference management. Create a library\, add and modify references and use EndNote within Microsoft Word. Attendees are advised to have prior knowledge of referencing.
URL:https://www.latrobe.edu.au/mylatrobe/event/manage-your-references-with-endnote-4/
CATEGORIES:Albury-Wodonga,Bendigo,Bundoora,City,Mildura,Multi-Campus,Online,Shepparton,Sydney
END:VEVENT
BEGIN:VEVENT
DTSTART;TZID=Australia/Melbourne:20250821T140000
DTEND;TZID=Australia/Melbourne:20250821T140000
DTSTAMP:20260420T035457
CREATED:20250724T040920Z
LAST-MODIFIED:20250731T040511Z
UID:52965-1755784800-1755784800@www.latrobe.edu.au
SUMMARY:Write that Assignment: Reports for the Sciences
DESCRIPTION:This workshop focuses on how to write scientific reports\, with tips on structure\, style and use of evidence. It will detail what should be included in each section\, and also cover common errors.
URL:https://www.latrobe.edu.au/mylatrobe/event/write-that-assignment-reports-for-the-sciences/
CATEGORIES:Albury-Wodonga,Bendigo,Bundoora,City,Mildura,Multi-Campus,Online,Shepparton,Sydney
END:VEVENT
BEGIN:VEVENT
DTSTART;TZID=Australia/Melbourne:20250820T160000
DTEND;TZID=Australia/Melbourne:20250820T160000
DTSTAMP:20260420T035457
CREATED:20250724T040920Z
LAST-MODIFIED:20250731T035932Z
UID:52964-1755705600-1755705600@www.latrobe.edu.au
SUMMARY:Learn How to Reference
DESCRIPTION:Learn how and when you need to acknowledge the information you are using in your assessments using the Academic Referencing Tool (ART).
URL:https://www.latrobe.edu.au/mylatrobe/event/learn-how-to-reference-3/
CATEGORIES:Albury-Wodonga,Bendigo,Bundoora,City,Mildura,Multi-Campus,Online,Shepparton,Sydney
END:VEVENT
BEGIN:VEVENT
DTSTART;TZID=Australia/Melbourne:20250819T140000
DTEND;TZID=Australia/Melbourne:20250819T140000
DTSTAMP:20260420T035457
CREATED:20250724T040443Z
LAST-MODIFIED:20250731T035810Z
UID:52962-1755612000-1755612000@www.latrobe.edu.au
SUMMARY:Write that Assignment: Essays
DESCRIPTION:This workshop focuses on how to tackle essays with tips on structure\, writing good paragraphs\, using evidence\, and writing great introductions and conclusions.
URL:https://www.latrobe.edu.au/mylatrobe/event/write-that-assignment-essays-3/
CATEGORIES:Albury-Wodonga,Bendigo,Bundoora,City,Mildura,Multi-Campus,Online,Shepparton,Sydney
END:VEVENT
BEGIN:VEVENT
DTSTART;TZID=Australia/Melbourne:20250819T110000
DTEND;TZID=Australia/Melbourne:20250819T110000
DTSTAMP:20260420T035457
CREATED:20250724T040443Z
LAST-MODIFIED:20250731T035721Z
UID:52960-1755601200-1755601200@www.latrobe.edu.au
SUMMARY:Student-to-Student: Group Work
DESCRIPTION:The term “group assignment” might give you a chill\, and relying on others to get a good grade can easily cause anxiety. This workshop will help you transform group work into an opportunity rather than a chore. It focuses on the critical elements necessary to make the most of your group assignments.
URL:https://www.latrobe.edu.au/mylatrobe/event/student-to-student-group-work/
CATEGORIES:Albury-Wodonga,Bendigo,Bundoora,City,Mildura,Multi-Campus,Online,Shepparton,Sydney
END:VEVENT
BEGIN:VEVENT
DTSTART;TZID=Australia/Melbourne:20250818T120000
DTEND;TZID=Australia/Melbourne:20250818T120000
DTSTAMP:20260420T035457
CREATED:20250724T040443Z
LAST-MODIFIED:20250731T034736Z
UID:52956-1755518400-1755518400@www.latrobe.edu.au
SUMMARY:Learn How to Reference: AGLC
DESCRIPTION:Learn how and when you need to acknowledge the information you are using in your assessments using the Academic Referencing Tool (ART) with a particular focus on AGLC.
URL:https://www.latrobe.edu.au/mylatrobe/event/learn-how-to-reference-aglc/
CATEGORIES:Albury-Wodonga,Bendigo,Bundoora,City,Mildura,Multi-Campus,Online,Shepparton,Sydney
END:VEVENT
BEGIN:VEVENT
DTSTART;TZID=Australia/Melbourne:20250814T110000
DTEND;TZID=Australia/Melbourne:20250814T120000
DTSTAMP:20260420T035457
CREATED:20250731T044705Z
LAST-MODIFIED:20250731T044705Z
UID:53840-1755169200-1755172800@www.latrobe.edu.au
SUMMARY:Assessment Writing Skills
DESCRIPTION:Understand what is expected in academic writing at university\, including: academic language\, tone\, structure\, paragraphs\, using sources and referencing. And know where to get support for these areas.
URL:https://www.latrobe.edu.au/mylatrobe/event/assessment-writing-skills-4/
CATEGORIES:Albury-Wodonga,Bendigo,Bundoora,City,Mildura,Multi-Campus,Online,Shepparton,Sydney
END:VEVENT
BEGIN:VEVENT
DTSTART;TZID=Australia/Melbourne:20250813T110000
DTEND;TZID=Australia/Melbourne:20250813T110000
DTSTAMP:20260420T035457
CREATED:20250724T040443Z
LAST-MODIFIED:20250731T034425Z
UID:52954-1755082800-1755082800@www.latrobe.edu.au
SUMMARY:Presenting for Assessments
DESCRIPTION:This workshop covers the essentials of presenting assessments with a focus on using media for presentations\, including PowerPoint slides\, Zoom\, e-posters and recording a Powerpoint presentation.
URL:https://www.latrobe.edu.au/mylatrobe/event/presenting-for-assessments/
CATEGORIES:Albury-Wodonga,Bendigo,Bundoora,City,Mildura,Multi-Campus,Online,Shepparton,Sydney
END:VEVENT
BEGIN:VEVENT
DTSTART;TZID=Australia/Melbourne:20250812T140000
DTEND;TZID=Australia/Melbourne:20250812T140000
DTSTAMP:20260420T035457
CREATED:20250724T040443Z
LAST-MODIFIED:20250731T034137Z
UID:52952-1755007200-1755007200@www.latrobe.edu.au
SUMMARY:Using Evidence in your Writing
DESCRIPTION:This workshop will teach you how to incorporate sources into your writing that support your academic arguments and help you avoid plagiarism.
URL:https://www.latrobe.edu.au/mylatrobe/event/using-evidence-in-your-writing-3/
CATEGORIES:Albury-Wodonga,Bendigo,Bundoora,City,Mildura,Multi-Campus,Online,Shepparton,Sydney
END:VEVENT
END:VCALENDAR