BEGIN:VCALENDAR
VERSION:2.0
PRODID:-//MyLaTrobe - ECPv6.15.20//NONSGML v1.0//EN
CALSCALE:GREGORIAN
METHOD:PUBLISH
X-ORIGINAL-URL:https://www.latrobe.edu.au/mylatrobe
X-WR-CALDESC:Events for MyLaTrobe
REFRESH-INTERVAL;VALUE=DURATION:PT1H
X-Robots-Tag:noindex
X-PUBLISHED-TTL:PT1H
BEGIN:VTIMEZONE
TZID:Australia/Melbourne
BEGIN:STANDARD
TZOFFSETFROM:+1100
TZOFFSETTO:+1000
TZNAME:AEST
DTSTART:20240406T160000
END:STANDARD
BEGIN:DAYLIGHT
TZOFFSETFROM:+1000
TZOFFSETTO:+1100
TZNAME:AEDT
DTSTART:20241005T160000
END:DAYLIGHT
BEGIN:STANDARD
TZOFFSETFROM:+1100
TZOFFSETTO:+1000
TZNAME:AEST
DTSTART:20250405T160000
END:STANDARD
BEGIN:DAYLIGHT
TZOFFSETFROM:+1000
TZOFFSETTO:+1100
TZNAME:AEDT
DTSTART:20251004T160000
END:DAYLIGHT
BEGIN:STANDARD
TZOFFSETFROM:+1100
TZOFFSETTO:+1000
TZNAME:AEST
DTSTART:20260404T160000
END:STANDARD
BEGIN:DAYLIGHT
TZOFFSETFROM:+1000
TZOFFSETTO:+1100
TZNAME:AEDT
DTSTART:20261003T160000
END:DAYLIGHT
END:VTIMEZONE
BEGIN:VEVENT
DTSTART;TZID=Australia/Melbourne:20250502T100000
DTEND;TZID=Australia/Melbourne:20250502T110000
DTSTAMP:20260420T193829
CREATED:20250415T022305Z
LAST-MODIFIED:20250415T022309Z
UID:51052-1746180000-1746183600@www.latrobe.edu.au
SUMMARY:Fulbright Scholarships: study and research opportunities in the US
DESCRIPTION:Online webinar: Register now \n\n\n\nThe Fulbright Program gives Australian citizens a chance to pursue study and research experiences in the United States. \n\n\n\nDiverse Fulbright Scholarship opportunities are available for Australian citizens in 2026-2027. Whether you’re seeking funding for a master’s degree\, PhD research\, postdoctoral fellowship\, or short-term research program\, Fulbright provides support to advance your career at any U.S. institution and in any field. \n\n\n\nTo find out how a Fulbright Scholarship can help shape your future and contribute to global knowledge and exchange\, register now for this online information session/webinar.  \n\n\n\nTo find out more about the Fulbright Program\, visit the Fulbright website.
URL:https://www.latrobe.edu.au/mylatrobe/event/fulbright-scholarships-study-and-research-opportunities-in-the-us/
CATEGORIES:Multi-Campus
END:VEVENT
END:VCALENDAR