BEGIN:VCALENDAR
VERSION:2.0
PRODID:-//MyLaTrobe - ECPv6.15.20//NONSGML v1.0//EN
CALSCALE:GREGORIAN
METHOD:PUBLISH
X-ORIGINAL-URL:https://www.latrobe.edu.au/mylatrobe
X-WR-CALDESC:Events for MyLaTrobe
REFRESH-INTERVAL;VALUE=DURATION:PT1H
X-Robots-Tag:noindex
X-PUBLISHED-TTL:PT1H
BEGIN:VTIMEZONE
TZID:Australia/Melbourne
BEGIN:STANDARD
TZOFFSETFROM:+1100
TZOFFSETTO:+1000
TZNAME:AEST
DTSTART:20230401T160000
END:STANDARD
BEGIN:DAYLIGHT
TZOFFSETFROM:+1000
TZOFFSETTO:+1100
TZNAME:AEDT
DTSTART:20230930T160000
END:DAYLIGHT
BEGIN:STANDARD
TZOFFSETFROM:+1100
TZOFFSETTO:+1000
TZNAME:AEST
DTSTART:20240406T160000
END:STANDARD
BEGIN:DAYLIGHT
TZOFFSETFROM:+1000
TZOFFSETTO:+1100
TZNAME:AEDT
DTSTART:20241005T160000
END:DAYLIGHT
BEGIN:STANDARD
TZOFFSETFROM:+1100
TZOFFSETTO:+1000
TZNAME:AEST
DTSTART:20250405T160000
END:STANDARD
BEGIN:DAYLIGHT
TZOFFSETFROM:+1000
TZOFFSETTO:+1100
TZNAME:AEDT
DTSTART:20251004T160000
END:DAYLIGHT
END:VTIMEZONE
BEGIN:VEVENT
DTSTART;TZID=Australia/Melbourne:20241003T183000
DTEND;TZID=Australia/Melbourne:20241003T200000
DTSTAMP:20260421T044212
CREATED:20240705T000625Z
LAST-MODIFIED:20240829T033617Z
UID:45880-1727980200-1727985600@www.latrobe.edu.au
SUMMARY:Chill Beats: Relax with Music
DESCRIPTION:Wind down with the “Chill Beats: Relax with Music” workshop\, led by music therapist Tanya Setyawan. This session focuses on using music for relaxation and stress relief. You’ll explore different genres and techniques to create a calming playlist that helps you unwind. This workshop aims to enhance your mental wellbeing through the soothing power of music. \nRegister via the Creative Community Care website to guarantee your spot!
URL:https://www.latrobe.edu.au/mylatrobe/event/chill-beats-relax-with-music/
LOCATION:City Campus
CATEGORIES:Bundoora,City
END:VEVENT
BEGIN:VEVENT
DTSTART;TZID=Australia/Melbourne:20241007T150000
DTEND;TZID=Australia/Melbourne:20241007T163000
DTSTAMP:20260421T044212
CREATED:20240705T000624Z
LAST-MODIFIED:20240711T060156Z
UID:45884-1728313200-1728318600@www.latrobe.edu.au
SUMMARY:How To Start A Club - Online Info Session
DESCRIPTION:Looking to start your own student club? Want to find out more about community on campus?  \nJoin the next ‘How To Start A Club’ information session online and find out more! \nRegister to attend one of the upcoming virtual sessions HERE. \nDiscover more about the La Trobe University Clubs & Societies program online. 
URL:https://www.latrobe.edu.au/mylatrobe/event/how-to-start-a-club-info-sesh-6/
LOCATION:VIC
CATEGORIES:Albury-Wodonga,Bendigo,Bundoora,City,Mildura,Online,Shepparton
ORGANIZER;CN="La Trobe Clubs Team":MAILTO:clubs@latrobe.edu.au
END:VEVENT
BEGIN:VEVENT
DTSTART;TZID=Australia/Melbourne:20241008T110000
DTEND;TZID=Australia/Melbourne:20241008T110000
DTSTAMP:20260421T044213
CREATED:20240705T000624Z
LAST-MODIFIED:20240705T003252Z
UID:45890-1728385200-1728385200@www.latrobe.edu.au
SUMMARY:Green Tuesdays
DESCRIPTION:Join us every Tuesday for Green Tuesdays at the City Campus Level 3 Open Area\, starting Week 2 on August 6 through Week 12\, from 11:00 AM to 1:00 PM. Step away from your busy day into a peaceful setting filled with barista-made coffee\, delightful snacks\, and engaging planting activities. Cultivate your green thumb\, take home a potted herb\, and unwind with a variety of fun lawn games. It’s the perfect weekly retreat to relax\, recharge\, and connect right on campus. Don’t miss this chance to enjoy a slice of tranquility each week!
URL:https://www.latrobe.edu.au/mylatrobe/event/green-tuesdays-8/
LOCATION:VIC
CATEGORIES:City
END:VEVENT
BEGIN:VEVENT
DTSTART;TZID=Australia/Melbourne:20241015T110000
DTEND;TZID=Australia/Melbourne:20241015T110000
DTSTAMP:20260421T044213
CREATED:20240705T000622Z
LAST-MODIFIED:20240705T003250Z
UID:45900-1728990000-1728990000@www.latrobe.edu.au
SUMMARY:Green Tuesdays
DESCRIPTION:Join us every Tuesday for Green Tuesdays at the City Campus Level 3 Open Area\, starting Week 2 on August 6 through Week 12\, from 11:00 AM to 1:00 PM. Step away from your busy day into a peaceful setting filled with barista-made coffee\, delightful snacks\, and engaging planting activities. Cultivate your green thumb\, take home a potted herb\, and unwind with a variety of fun lawn games. It’s the perfect weekly retreat to relax\, recharge\, and connect right on campus. Don’t miss this chance to enjoy a slice of tranquility each week!
URL:https://www.latrobe.edu.au/mylatrobe/event/green-tuesdays-7/
LOCATION:VIC
CATEGORIES:City
END:VEVENT
BEGIN:VEVENT
DTSTART;TZID=Australia/Melbourne:20241016T080000
DTEND;TZID=Australia/Melbourne:20241016T100000
DTSTAMP:20260421T044213
CREATED:20240705T000622Z
LAST-MODIFIED:20240711T021159Z
UID:45902-1729065600-1729072800@www.latrobe.edu.au
SUMMARY:Bundoora Bikers Brekkie - Ride to Uni Day
DESCRIPTION:Celebrate Ride to Uni Day! Enjoy FREE BREAKFAST from Caffeine for students and staff who cycle to the campus. Join us in the Agora! 
URL:https://www.latrobe.edu.au/mylatrobe/event/bikers-brekkie-ride-to-uni-day-2/
LOCATION:Agora
CATEGORIES:Bundoora,City,Online
END:VEVENT
BEGIN:VEVENT
DTSTART;TZID=Australia/Melbourne:20241022T110000
DTEND;TZID=Australia/Melbourne:20241022T110000
DTSTAMP:20260421T044213
CREATED:20240705T000621Z
LAST-MODIFIED:20240705T003249Z
UID:45908-1729594800-1729594800@www.latrobe.edu.au
SUMMARY:Green Tuesdays
DESCRIPTION:Join us every Tuesday for Green Tuesdays at the City Campus Level 3 Open Area\, starting Week 2 on August 6 through Week 12\, from 11:00 AM to 1:00 PM. Step away from your busy day into a peaceful setting filled with barista-made coffee\, delightful snacks\, and engaging planting activities. Cultivate your green thumb\, take home a potted herb\, and unwind with a variety of fun lawn games. It’s the perfect weekly retreat to relax\, recharge\, and connect right on campus. Don’t miss this chance to enjoy a slice of tranquility each week!
URL:https://www.latrobe.edu.au/mylatrobe/event/green-tuesdays-6/
LOCATION:VIC
CATEGORIES:City
END:VEVENT
END:VCALENDAR