BEGIN:VCALENDAR
VERSION:2.0
PRODID:-//MyLaTrobe - ECPv6.15.20//NONSGML v1.0//EN
CALSCALE:GREGORIAN
METHOD:PUBLISH
X-ORIGINAL-URL:https://www.latrobe.edu.au/mylatrobe
X-WR-CALDESC:Events for MyLaTrobe
REFRESH-INTERVAL;VALUE=DURATION:PT1H
X-Robots-Tag:noindex
X-PUBLISHED-TTL:PT1H
BEGIN:VTIMEZONE
TZID:Australia/Melbourne
BEGIN:STANDARD
TZOFFSETFROM:+1100
TZOFFSETTO:+1000
TZNAME:AEST
DTSTART:20230401T160000
END:STANDARD
BEGIN:DAYLIGHT
TZOFFSETFROM:+1000
TZOFFSETTO:+1100
TZNAME:AEDT
DTSTART:20230930T160000
END:DAYLIGHT
BEGIN:STANDARD
TZOFFSETFROM:+1100
TZOFFSETTO:+1000
TZNAME:AEST
DTSTART:20240406T160000
END:STANDARD
BEGIN:DAYLIGHT
TZOFFSETFROM:+1000
TZOFFSETTO:+1100
TZNAME:AEDT
DTSTART:20241005T160000
END:DAYLIGHT
BEGIN:STANDARD
TZOFFSETFROM:+1100
TZOFFSETTO:+1000
TZNAME:AEST
DTSTART:20250405T160000
END:STANDARD
BEGIN:DAYLIGHT
TZOFFSETFROM:+1000
TZOFFSETTO:+1100
TZNAME:AEDT
DTSTART:20251004T160000
END:DAYLIGHT
END:VTIMEZONE
BEGIN:VEVENT
DTSTART;TZID=Australia/Melbourne:20240902T120000
DTEND;TZID=Australia/Melbourne:20240902T133000
DTSTAMP:20260421T061358
CREATED:20240704T235649Z
LAST-MODIFIED:20240711T055446Z
UID:45777-1725278400-1725283800@www.latrobe.edu.au
SUMMARY:How To Start A Club - Online Info Session
DESCRIPTION:Looking to start your own student club? Want to find out more about community on campus?  \nJoin the next ‘How To Start A Club’ information session online and find out more! \nRegister to attend one of the upcoming virtual sessions HERE. \nDiscover more about the La Trobe University Clubs & Societies program online. 
URL:https://www.latrobe.edu.au/mylatrobe/event/how-to-start-a-club-info-sesh-4/
LOCATION:VIC
CATEGORIES:Albury-Wodonga,Bendigo,Bundoora,City,Mildura,Online,Shepparton,Sydney
END:VEVENT
BEGIN:VEVENT
DTSTART;TZID=Australia/Melbourne:20240903T110000
DTEND;TZID=Australia/Melbourne:20240903T110000
DTSTAMP:20260421T061358
CREATED:20240704T235650Z
LAST-MODIFIED:20240704T235650Z
UID:45782-1725361200-1725361200@www.latrobe.edu.au
SUMMARY:Green Tuesdays
DESCRIPTION:Join us every Tuesday for Green Tuesdays at the City Campus Level 3 Open Area\, starting Week 2 on August 6 through Week 12\, from 11:00 AM to 1:00 PM. Step away from your busy day into a peaceful setting filled with barista-made coffee\, delightful snacks\, and engaging planting activities. Cultivate your green thumb\, take home a potted herb\, and unwind with a variety of fun lawn games. It’s the perfect weekly retreat to relax\, recharge\, and connect right on campus. Don’t miss this chance to enjoy a slice of tranquility each week!
URL:https://www.latrobe.edu.au/mylatrobe/event/green-tuesdays-4/
LOCATION:VIC
CATEGORIES:City
END:VEVENT
BEGIN:VEVENT
DTSTART;TZID=Australia/Melbourne:20240904T080000
DTEND;TZID=Australia/Melbourne:20240904T100000
DTSTAMP:20260421T061358
CREATED:20240704T235651Z
LAST-MODIFIED:20240711T020429Z
UID:45820-1725436800-1725444000@www.latrobe.edu.au
SUMMARY:Free Bikers Brekkie
DESCRIPTION:Free breakfast from Caffeine for students and staff who ride to Uni! 
URL:https://www.latrobe.edu.au/mylatrobe/event/bikers-brekkie-3/
LOCATION:Agora
CATEGORIES:Bundoora,City,Online
END:VEVENT
BEGIN:VEVENT
DTSTART;TZID=Australia/Melbourne:20240905T183000
DTEND;TZID=Australia/Melbourne:20240905T200000
DTSTAMP:20260421T061358
CREATED:20240704T235651Z
LAST-MODIFIED:20240829T033157Z
UID:45822-1725561000-1725566400@www.latrobe.edu.au
SUMMARY:Art Beats: Design Your Music Cover
DESCRIPTION:Explore your artistic side with the “Art Beats: Design Your Music Cover” workshop. Led by art therapist Stef Kam\, this session will allow you to create unique artwork for your favorite playlist or song. This creative activity combines art and music therapy to help you express your emotions and connect with others. \nRegister via Creative Community Care website to guarantee your spot!
URL:https://www.latrobe.edu.au/mylatrobe/event/art-beats-design-your-music-cover/
LOCATION:City Campus
CATEGORIES:Bundoora,City
END:VEVENT
BEGIN:VEVENT
DTSTART;TZID=Australia/Melbourne:20240912T183000
DTEND;TZID=Australia/Melbourne:20240912T200000
DTSTAMP:20260421T061358
CREATED:20240704T235652Z
LAST-MODIFIED:20240829T033056Z
UID:45831-1726165800-1726171200@www.latrobe.edu.au
SUMMARY:Community Canvas: Paint & Connect
DESCRIPTION:Engage in the “Community Canvas: Paint & Connect” workshop\, where you’ll collaborate with fellow students to create a mural. Guided by art therapist Stef Kam\, this session emphasizes teamwork and community building through art. It’s a perfect opportunity to make new friends\, share your stories\, and contribute to a collective masterpiece. \nRegister via the Creative Community Care website to guarantee your spot!
URL:https://www.latrobe.edu.au/mylatrobe/event/community-canvas-paint-connect/
LOCATION:City Campus
CATEGORIES:Bundoora,City
END:VEVENT
BEGIN:VEVENT
DTSTART;TZID=Australia/Melbourne:20240917T110000
DTEND;TZID=Australia/Melbourne:20240917T110000
DTSTAMP:20260421T061358
CREATED:20240704T235653Z
LAST-MODIFIED:20240704T235653Z
UID:45836-1726570800-1726570800@www.latrobe.edu.au
SUMMARY:Green Tuesdays
DESCRIPTION:Join us every Tuesday for Green Tuesdays at the City Campus Level 3 Open Area\, starting Week 2 on August 6 through Week 12\, from 11:00 AM to 1:00 PM. Step away from your busy day into a peaceful setting filled with barista-made coffee\, delightful snacks\, and engaging planting activities. Cultivate your green thumb\, take home a potted herb\, and unwind with a variety of fun lawn games. It’s the perfect weekly retreat to relax\, recharge\, and connect right on campus. Don’t miss this chance to enjoy a slice of tranquility each week!
URL:https://www.latrobe.edu.au/mylatrobe/event/green-tuesdays-5/
LOCATION:VIC
CATEGORIES:City
END:VEVENT
BEGIN:VEVENT
DTSTART;TZID=Australia/Melbourne:20240919T183000
DTEND;TZID=Australia/Melbourne:20240919T200000
DTSTAMP:20260421T061358
CREATED:20240704T235654Z
LAST-MODIFIED:20240829T033012Z
UID:45841-1726770600-1726776000@www.latrobe.edu.au
SUMMARY:Lyric Magic Workshop: Co-create a Group Song
DESCRIPTION:Unleash your creativity in the “Lyric Magic: Co-create a Group Song” workshop. Music therapist Tanya Setyawan will lead you in writing and composing a song with your peers. This collaborative session will help you express your thoughts and emotions through music\, fostering a sense of community and connection. \nRegister via the Creative Community Care website to guarantee your spot!
URL:https://www.latrobe.edu.au/mylatrobe/event/lyric-magic-co-create-a-group-song/
LOCATION:City Campus
CATEGORIES:Bundoora,City
END:VEVENT
BEGIN:VEVENT
DTSTART;TZID=Australia/Melbourne:20240924T110000
DTEND;TZID=Australia/Melbourne:20240924T130000
DTSTAMP:20260421T061358
CREATED:20240919T063426Z
LAST-MODIFIED:20240919T063428Z
UID:47512-1727175600-1727182800@www.latrobe.edu.au
SUMMARY:Feel Good Fest - City
DESCRIPTION:Join us every Tuesday for Green Tuesdays at the City Campus Level 3 Open Area\, starting Week 2 on August 6 through Week 12\, from 11.00 AM to 1.00 PM. Step away from your busy day into a peaceful setting filled with barista-made coffee\, delightful snacks\, and engaging planting activities. Cultivate your green thumb\, take home a potted herb and unwind with a variety of fun lawn games. It’s the perfect weekly retreat to relax\, recharge and connect right on campus. Don’t miss this chance to enjoy a slice of tranquility each week!
URL:https://www.latrobe.edu.au/mylatrobe/event/feel-good-fest-city/
LOCATION:City Campus Level 3 Open Area\, Level 2/360 Collins Street\, Melbourne\, Victoria\, 3000\, Australia
CATEGORIES:City
END:VEVENT
BEGIN:VEVENT
DTSTART;TZID=Australia/Melbourne:20240926T183000
DTEND;TZID=Australia/Melbourne:20240926T200000
DTSTAMP:20260421T061358
CREATED:20240829T032757Z
LAST-MODIFIED:20240829T032837Z
UID:45855-1727375400-1727380800@www.latrobe.edu.au
SUMMARY:Badge It Up: Creative Badge Making with a Twist
DESCRIPTION:Join the fun in the “Badge It Up: Creative Badge Making with a Twist” workshop. Art therapist Stef Kam will guide you in designing and creating unique badges that reflect your personality and interests. This workshop is a great way to express yourself\, meet new people\, and create something memorable. \nRegister via the Creative Community Care website to guarantee your spot!
URL:https://www.latrobe.edu.au/mylatrobe/event/badge-it-up-creative-badge-making-with-a-twist/
LOCATION:City Campus
CATEGORIES:Bundoora,City
END:VEVENT
END:VCALENDAR