BEGIN:VCALENDAR
VERSION:2.0
PRODID:-//MyLaTrobe - ECPv6.15.20//NONSGML v1.0//EN
CALSCALE:GREGORIAN
METHOD:PUBLISH
X-ORIGINAL-URL:https://www.latrobe.edu.au/mylatrobe
X-WR-CALDESC:Events for MyLaTrobe
REFRESH-INTERVAL;VALUE=DURATION:PT1H
X-Robots-Tag:noindex
X-PUBLISHED-TTL:PT1H
BEGIN:VTIMEZONE
TZID:Australia/Melbourne
BEGIN:STANDARD
TZOFFSETFROM:+1100
TZOFFSETTO:+1000
TZNAME:AEST
DTSTART:20230401T160000
END:STANDARD
BEGIN:DAYLIGHT
TZOFFSETFROM:+1000
TZOFFSETTO:+1100
TZNAME:AEDT
DTSTART:20230930T160000
END:DAYLIGHT
BEGIN:STANDARD
TZOFFSETFROM:+1100
TZOFFSETTO:+1000
TZNAME:AEST
DTSTART:20240406T160000
END:STANDARD
BEGIN:DAYLIGHT
TZOFFSETFROM:+1000
TZOFFSETTO:+1100
TZNAME:AEDT
DTSTART:20241005T160000
END:DAYLIGHT
BEGIN:STANDARD
TZOFFSETFROM:+1100
TZOFFSETTO:+1000
TZNAME:AEST
DTSTART:20250405T160000
END:STANDARD
BEGIN:DAYLIGHT
TZOFFSETFROM:+1000
TZOFFSETTO:+1100
TZNAME:AEDT
DTSTART:20251004T160000
END:DAYLIGHT
END:VTIMEZONE
BEGIN:VEVENT
DTSTART;TZID=Australia/Melbourne:20240319T120000
DTEND;TZID=Australia/Melbourne:20240319T120000
DTSTAMP:20260422T043135
CREATED:20240320T233925Z
LAST-MODIFIED:20240320T235922Z
UID:43584-1710849600-1710849600@www.latrobe.edu.au
SUMMARY:Harmony Festival City Campus
DESCRIPTION:Food Festival\, Cultural Entertainment.
URL:https://www.latrobe.edu.au/mylatrobe/event/harmony-festival-l-ci/
LOCATION:VIC
CATEGORIES:City
END:VEVENT
BEGIN:VEVENT
DTSTART;TZID=Australia/Melbourne:20240321T110000
DTEND;TZID=Australia/Melbourne:20240321T110000
DTSTAMP:20260422T043135
CREATED:20240320T233926Z
LAST-MODIFIED:20240320T233926Z
UID:43598-1711018800-1711018800@www.latrobe.edu.au
SUMMARY:Green Thursdays: Brews & Blooms
DESCRIPTION:Step into a refreshing escape every Thursday with “Green Thursdays: Brews & Blooms\,” a unique blend of nature\, nurture\, and networking at the heart of the Melbourne city campus. As the week unfolds\, take a moment to slow down and savor the simple joys of barista-crafted coffee\, vegan and vegetarian delights\, amidst the tranquil beauty of our community garden. This is not just a coffee break; it’s an invitation to connect with fellow students and staff\, share stories\, and cultivate new friendships over the art of gardening and the taste of exquisite brews. Whether you’re a green thumb enthusiast or simply seeking a serene spot to unwind\, join us from 11:00 AM to 1:00 PM and be part of a growing tradition that celebrates community\, sustainability\, and the vibrant spirit of Melbourne. Don’t let the semester pass you by without experiencing the blossoming camaraderie of Green Thursdays: Brews & Blooms.
URL:https://www.latrobe.edu.au/mylatrobe/event/green-thursdays-brews-blooms-5/
LOCATION:VIC
CATEGORIES:City
END:VEVENT
BEGIN:VEVENT
DTSTART;TZID=Australia/Melbourne:20240321T123000
DTEND;TZID=Australia/Melbourne:20240321T123000
DTSTAMP:20260422T043135
CREATED:20240320T233926Z
LAST-MODIFIED:20240321T001853Z
UID:43595-1711024200-1711024200@www.latrobe.edu.au
SUMMARY:Respect at Uni - Respectful Communities and ReGen Event
DESCRIPTION:Sexual Harm Prevention and Response on University Campuses and Beyond
URL:https://www.latrobe.edu.au/mylatrobe/event/respect-at-uni-respectful-communities-and-regen-event/
LOCATION:VIC
CATEGORIES:Albury-Wodonga,Bendigo,Bundoora,City,Mildura,Online,Shepparton
END:VEVENT
BEGIN:VEVENT
DTSTART;TZID=Australia/Melbourne:20240326T120000
DTEND;TZID=Australia/Melbourne:20240326T120000
DTSTAMP:20260422T043135
CREATED:20240320T233928Z
LAST-MODIFIED:20240320T233928Z
UID:43617-1711454400-1711454400@www.latrobe.edu.au
SUMMARY:ReOrientation Festival l CI
DESCRIPTION:Club stalls\, internal or external stalls and promotions\, music
URL:https://www.latrobe.edu.au/mylatrobe/event/reorientation-festival-l-ci/
LOCATION:VIC
CATEGORIES:City
END:VEVENT
BEGIN:VEVENT
DTSTART;TZID=Australia/Melbourne:20240326T163000
DTEND;TZID=Australia/Melbourne:20240326T173000
DTSTAMP:20260422T043135
CREATED:20240321T020133Z
LAST-MODIFIED:20240321T020133Z
UID:43961-1711470600-1711474200@www.latrobe.edu.au
SUMMARY:Yoga and Meditation
DESCRIPTION:Free Hatha yoga and followed by meditation
URL:https://www.latrobe.edu.au/mylatrobe/event/yoga-and-meditation/
LOCATION:VIC
CATEGORIES:City
END:VEVENT
BEGIN:VEVENT
DTSTART;TZID=Australia/Melbourne:20240327T130000
DTEND;TZID=Australia/Melbourne:20240327T130000
DTSTAMP:20260422T043135
CREATED:20240320T233929Z
LAST-MODIFIED:20240321T002316Z
UID:43610-1711544400-1711544400@www.latrobe.edu.au
SUMMARY:Managing your Financial Wellbeing
DESCRIPTION:Managing your finances can be quite stressful\, especially with the current cost of living crisis\, not to mention trying to balance study with need to work and/or living away from home for the first time. To help relieve some of that stress and worry\, register for the following online session which will cover topics like budgeting\, knowing your Centrelink entitlements\, general money saving tips\, things to watch out for (scams!) and more.
URL:https://www.latrobe.edu.au/mylatrobe/event/manageing-your-financial-wellbeing-2/
LOCATION:VIC
CATEGORIES:Albury-Wodonga,Bendigo,Bundoora,City,Mildura,Online,Shepparton
END:VEVENT
BEGIN:VEVENT
DTSTART;TZID=Australia/Melbourne:20240328T100000
DTEND;TZID=Australia/Melbourne:20240328T120000
DTSTAMP:20260422T043135
CREATED:20240320T005302Z
LAST-MODIFIED:20240320T221356Z
UID:43549-1711620000-1711627200@www.latrobe.edu.au
SUMMARY:Mind the Mind Workshop
DESCRIPTION:In this 2-hour zoom workshop you’ll learn how to offer support as a student leader by: \n\n\n\nRecognizing symptoms of mental illness in others and how to respond with empathy while maintaining boundaries \n\n\n\nRecognizing the drivers of gender-based violence\, understanding your rights and responsibilities in responding to inappropriate or unsafe behaviors \n\n\n\nThis event is open to La Trobe Leaders Program and Excellence Academy members. \n\n\n\nReserve your spot in this workshop here
URL:https://www.latrobe.edu.au/mylatrobe/event/mind-the-mind-workshop/
LOCATION:VIC
CATEGORIES:Bendigo,Bundoora,City
END:VEVENT
BEGIN:VEVENT
DTSTART;TZID=Australia/Melbourne:20240328T110000
DTEND;TZID=Australia/Melbourne:20240328T110000
DTSTAMP:20260422T043135
CREATED:20240320T232529Z
LAST-MODIFIED:20240320T233930Z
UID:43621-1711623600-1711623600@www.latrobe.edu.au
SUMMARY:Green Thursdays: Brews & Blooms
DESCRIPTION:Step into a refreshing escape every Thursday with “Green Thursdays: Brews & Blooms\,” a unique blend of nature\, nurture\, and networking at the heart of the Melbourne city campus. As the week unfolds\, take a moment to slow down and savor the simple joys of barista-crafted coffee\, vegan and vegetarian delights\, amidst the tranquil beauty of our community garden. This is not just a coffee break; it’s an invitation to connect with fellow students and staff\, share stories\, and cultivate new friendships over the art of gardening and the taste of exquisite brews. Whether you’re a green thumb enthusiast or simply seeking a serene spot to unwind\, join us from 11:00 AM to 1:00 PM and be part of a growing tradition that celebrates community\, sustainability\, and the vibrant spirit of Melbourne. Don’t let the semester pass you by without experiencing the blossoming camaraderie of Green Thursdays: Brews & Blooms.
URL:https://www.latrobe.edu.au/mylatrobe/event/green-thursdays-brews-blooms-4/
LOCATION:VIC
CATEGORIES:City
END:VEVENT
END:VCALENDAR