BEGIN:VCALENDAR
VERSION:2.0
PRODID:-//MyLaTrobe - ECPv6.15.20//NONSGML v1.0//EN
CALSCALE:GREGORIAN
METHOD:PUBLISH
X-WR-CALNAME:MyLaTrobe
X-ORIGINAL-URL:https://www.latrobe.edu.au/mylatrobe
X-WR-CALDESC:Events for MyLaTrobe
REFRESH-INTERVAL;VALUE=DURATION:PT1H
X-Robots-Tag:noindex
X-PUBLISHED-TTL:PT1H
BEGIN:VTIMEZONE
TZID:Australia/Melbourne
BEGIN:STANDARD
TZOFFSETFROM:+1100
TZOFFSETTO:+1000
TZNAME:AEST
DTSTART:20230401T160000
END:STANDARD
BEGIN:DAYLIGHT
TZOFFSETFROM:+1000
TZOFFSETTO:+1100
TZNAME:AEDT
DTSTART:20230930T160000
END:DAYLIGHT
BEGIN:STANDARD
TZOFFSETFROM:+1100
TZOFFSETTO:+1000
TZNAME:AEST
DTSTART:20240406T160000
END:STANDARD
BEGIN:DAYLIGHT
TZOFFSETFROM:+1000
TZOFFSETTO:+1100
TZNAME:AEDT
DTSTART:20241005T160000
END:DAYLIGHT
BEGIN:STANDARD
TZOFFSETFROM:+1100
TZOFFSETTO:+1000
TZNAME:AEST
DTSTART:20250405T160000
END:STANDARD
BEGIN:DAYLIGHT
TZOFFSETFROM:+1000
TZOFFSETTO:+1100
TZNAME:AEDT
DTSTART:20251004T160000
END:DAYLIGHT
END:VTIMEZONE
BEGIN:VEVENT
DTSTART;TZID=Australia/Melbourne:20240321T113000
DTEND;TZID=Australia/Melbourne:20240321T113000
DTSTAMP:20260422T083059
CREATED:20240320T233926Z
LAST-MODIFIED:20240320T233926Z
UID:43594-1711020600-1711020600@www.latrobe.edu.au
SUMMARY:Market Day
DESCRIPTION:Club stalls\, internal or external stalls and promotions\, music
URL:https://www.latrobe.edu.au/mylatrobe/event/market-day-6/
CATEGORIES:Bundoora
END:VEVENT
BEGIN:VEVENT
DTSTART;TZID=Australia/Melbourne:20240319T083000
DTEND;TZID=Australia/Melbourne:20240319T083000
DTSTAMP:20260422T083059
CREATED:20240320T233924Z
LAST-MODIFIED:20240320T233924Z
UID:43587-1710837000-1710837000@www.latrobe.edu.au
SUMMARY:Splash Into Safety: Torquay Water Adventure!
DESCRIPTION:an educational and fun-filled excursion to Torquay Beach organized by La Trobe Sport and La Trobe International in collaboration with Life Saving Victoria. Scheduled for March 19th\, this event offers international students the chance to learn vital water safety and lifesaving skills\, connect with peers\, and confidently enjoy one of Australia’s best beaches. With limited spots available\, participants are encouraged to register quickly for a day of sun\, surf\, and safety.
URL:https://www.latrobe.edu.au/mylatrobe/event/splash-into-safety-torquay-water-adventure/
CATEGORIES:Bundoora
END:VEVENT
BEGIN:VEVENT
DTSTART;TZID=Australia/Melbourne:20240318T140000
DTEND;TZID=Australia/Melbourne:20240318T140000
DTSTAMP:20260422T083059
CREATED:20240320T233924Z
LAST-MODIFIED:20240320T233924Z
UID:43581-1710770400-1710770400@www.latrobe.edu.au
SUMMARY:University Basketball League - La Trobe Women (including Seating Launch)
DESCRIPTION:La Trobe Women V Melbourne University Women – Get down to support your La Trobe Eagles Men and Women University Basketball teams as they compete in the home and away fixture – The elite of the elite in Australian Univeristy Basketball. “For updated event information please visit\, @latrobesport on Instagram.’
URL:https://www.latrobe.edu.au/mylatrobe/event/university-basketball-league-la-trobe-women-including-seating-launch/
CATEGORIES:Bundoora
END:VEVENT
BEGIN:VEVENT
DTSTART;TZID=Australia/Melbourne:20240318T120000
DTEND;TZID=Australia/Melbourne:20240318T140000
DTSTAMP:20260422T083059
CREATED:20240320T233924Z
LAST-MODIFIED:20240321T042028Z
UID:43582-1710763200-1710770400@www.latrobe.edu.au
SUMMARY:Weekly Activation - Funday Monday
DESCRIPTION:Chill out with music\, free gelato and lawn games in the Ag. 
URL:https://www.latrobe.edu.au/mylatrobe/event/weekly-activation-funday-monday-7/
LOCATION:Agora
CATEGORIES:Bundoora
END:VEVENT
END:VCALENDAR