BEGIN:VCALENDAR
VERSION:2.0
PRODID:-//MyLaTrobe - ECPv6.15.20//NONSGML v1.0//EN
CALSCALE:GREGORIAN
METHOD:PUBLISH
X-ORIGINAL-URL:https://www.latrobe.edu.au/mylatrobe
X-WR-CALDESC:Events for MyLaTrobe
REFRESH-INTERVAL;VALUE=DURATION:PT1H
X-Robots-Tag:noindex
X-PUBLISHED-TTL:PT1H
BEGIN:VTIMEZONE
TZID:Australia/Melbourne
BEGIN:STANDARD
TZOFFSETFROM:+1100
TZOFFSETTO:+1000
TZNAME:AEST
DTSTART:20230401T160000
END:STANDARD
BEGIN:DAYLIGHT
TZOFFSETFROM:+1000
TZOFFSETTO:+1100
TZNAME:AEDT
DTSTART:20230930T160000
END:DAYLIGHT
BEGIN:STANDARD
TZOFFSETFROM:+1100
TZOFFSETTO:+1000
TZNAME:AEST
DTSTART:20240406T160000
END:STANDARD
BEGIN:DAYLIGHT
TZOFFSETFROM:+1000
TZOFFSETTO:+1100
TZNAME:AEDT
DTSTART:20241005T160000
END:DAYLIGHT
BEGIN:STANDARD
TZOFFSETFROM:+1100
TZOFFSETTO:+1000
TZNAME:AEST
DTSTART:20250405T160000
END:STANDARD
BEGIN:DAYLIGHT
TZOFFSETFROM:+1000
TZOFFSETTO:+1100
TZNAME:AEDT
DTSTART:20251004T160000
END:DAYLIGHT
END:VTIMEZONE
BEGIN:VEVENT
DTSTART;TZID=Australia/Melbourne:20240407T130000
DTEND;TZID=Australia/Melbourne:20240407T180000
DTSTAMP:20260421T185358
CREATED:20240321T020354Z
LAST-MODIFIED:20240321T020354Z
UID:44010-1712494800-1712512800@www.latrobe.edu.au
SUMMARY:LUSoM's Crew Weekend Rehearsal
DESCRIPTION:The Society of Music’s weekend rehearsal\, invite only.
URL:https://www.latrobe.edu.au/mylatrobe/event/lusoms-crew-weekend-rehearsal-3/
CATEGORIES:Bundoora
END:VEVENT
BEGIN:VEVENT
DTSTART;TZID=Australia/Melbourne:20240405T190000
DTEND;TZID=Australia/Melbourne:20240405T230000
DTSTAMP:20260421T185358
CREATED:20240321T020354Z
LAST-MODIFIED:20240321T020354Z
UID:44009-1712343600-1712358000@www.latrobe.edu.au
SUMMARY:Beers and Board Game Night
DESCRIPTION:Gaming Society are heading off to Steam Jacket for a night of beers and board games
URL:https://www.latrobe.edu.au/mylatrobe/event/beers-and-board-game-night/
CATEGORIES:Bundoora
END:VEVENT
BEGIN:VEVENT
DTSTART;TZID=Australia/Melbourne:20240405T110000
DTEND;TZID=Australia/Melbourne:20240405T130000
DTSTAMP:20260421T185358
CREATED:20240321T020354Z
LAST-MODIFIED:20240321T020354Z
UID:44007-1712314800-1712322000@www.latrobe.edu.au
SUMMARY:CU Agora Stall
DESCRIPTION:Come and talk to Christian Union in the Agora
URL:https://www.latrobe.edu.au/mylatrobe/event/cu-agora-stall-11/
CATEGORIES:Bundoora
END:VEVENT
BEGIN:VEVENT
DTSTART;TZID=Australia/Melbourne:20240405T100000
DTEND;TZID=Australia/Melbourne:20240405T140000
DTSTAMP:20260421T185358
CREATED:20240321T020354Z
LAST-MODIFIED:20240321T020354Z
UID:44008-1712311200-1712325600@www.latrobe.edu.au
SUMMARY:Socialist Alternative Agora Stall
DESCRIPTION:Come and talk to Socialist Alternative and find out about our current events and campaigns
URL:https://www.latrobe.edu.au/mylatrobe/event/socialist-alternative-agora-stall-11/
CATEGORIES:Bundoora
END:VEVENT
BEGIN:VEVENT
DTSTART;TZID=Australia/Melbourne:20240404T180000
DTEND;TZID=Australia/Melbourne:20240404T230000
DTSTAMP:20260421T185358
CREATED:20240321T020353Z
LAST-MODIFIED:20240321T020353Z
UID:44005-1712253600-1712271600@www.latrobe.edu.au
SUMMARY:Ramadan Community Iftar
DESCRIPTION:Regular Iftar Event for Saudi Society
URL:https://www.latrobe.edu.au/mylatrobe/event/ramadan-community-iftar-2/
CATEGORIES:Bundoora
END:VEVENT
BEGIN:VEVENT
DTSTART;TZID=Australia/Melbourne:20240404T170000
DTEND;TZID=Australia/Melbourne:20240404T200000
DTSTAMP:20260421T185358
CREATED:20240321T020353Z
LAST-MODIFIED:20240321T020353Z
UID:44003-1712250000-1712260800@www.latrobe.edu.au
SUMMARY:LUSoM Regular Rehearsal
DESCRIPTION:Join the Society of Music for our twice weekly rehearsal
URL:https://www.latrobe.edu.au/mylatrobe/event/lusom-regular-rehearsal-4/
CATEGORIES:Bundoora
END:VEVENT
BEGIN:VEVENT
DTSTART;TZID=Australia/Melbourne:20240404T170000
DTEND;TZID=Australia/Melbourne:20240404T190000
DTSTAMP:20260421T185358
CREATED:20240321T020353Z
LAST-MODIFIED:20240321T020353Z
UID:44006-1712250000-1712257200@www.latrobe.edu.au
SUMMARY:Pipe Band Rehearsal
DESCRIPTION:Join Pipe Band and learn about bagpipes\, wind instruments and more!
URL:https://www.latrobe.edu.au/mylatrobe/event/pipe-band-rehearsal-3/
CATEGORIES:Bundoora
END:VEVENT
BEGIN:VEVENT
DTSTART;TZID=Australia/Melbourne:20240404T133000
DTEND;TZID=Australia/Melbourne:20240404T163000
DTSTAMP:20260421T185358
CREATED:20240321T020353Z
LAST-MODIFIED:20240321T020353Z
UID:44004-1712237400-1712248200@www.latrobe.edu.au
SUMMARY:ComSoc Weekly Gathering
DESCRIPTION:ComSoc’s weekly meet-ups\, including workshops and socials
URL:https://www.latrobe.edu.au/mylatrobe/event/comsoc-weekly-gathering-2/
CATEGORIES:Bundoora
END:VEVENT
BEGIN:VEVENT
DTSTART;TZID=Australia/Melbourne:20240404T110000
DTEND;TZID=Australia/Melbourne:20240404T130000
DTSTAMP:20260421T185358
CREATED:20240321T020353Z
LAST-MODIFIED:20240321T020353Z
UID:44001-1712228400-1712235600@www.latrobe.edu.au
SUMMARY:CU Agora Stall
DESCRIPTION:Come and talk to Christian Union in the Agora
URL:https://www.latrobe.edu.au/mylatrobe/event/cu-agora-stall-10/
CATEGORIES:Bundoora
END:VEVENT
BEGIN:VEVENT
DTSTART;TZID=Australia/Melbourne:20240404T100000
DTEND;TZID=Australia/Melbourne:20240404T140000
DTSTAMP:20260421T185358
CREATED:20240321T020353Z
LAST-MODIFIED:20240321T020353Z
UID:44002-1712224800-1712239200@www.latrobe.edu.au
SUMMARY:Socialist Alternative Agora Stall
DESCRIPTION:Come and talk to Socialist Alternative and find out about our current events and campaigns
URL:https://www.latrobe.edu.au/mylatrobe/event/socialist-alternative-agora-stall-10/
CATEGORIES:Bundoora
END:VEVENT
BEGIN:VEVENT
DTSTART;TZID=Australia/Melbourne:20240403T170000
DTEND;TZID=Australia/Melbourne:20240403T190000
DTSTAMP:20260421T185358
CREATED:20240321T020352Z
LAST-MODIFIED:20240321T020352Z
UID:44000-1712163600-1712170800@www.latrobe.edu.au
SUMMARY:Weekly Chess Club
DESCRIPTION:A weekly session for women and gender-diverse people to come and learn to play chess.
URL:https://www.latrobe.edu.au/mylatrobe/event/weekly-chess-club-2/
CATEGORIES:Bundoora
END:VEVENT
BEGIN:VEVENT
DTSTART;TZID=Australia/Melbourne:20240403T110000
DTEND;TZID=Australia/Melbourne:20240403T130000
DTSTAMP:20260421T185358
CREATED:20240321T020352Z
LAST-MODIFIED:20240321T020352Z
UID:43998-1712142000-1712149200@www.latrobe.edu.au
SUMMARY:CU Agora Stall
DESCRIPTION:Come and talk to Christian Union in the Agora
URL:https://www.latrobe.edu.au/mylatrobe/event/cu-agora-stall-9/
CATEGORIES:Bundoora
END:VEVENT
BEGIN:VEVENT
DTSTART;TZID=Australia/Melbourne:20240403T100000
DTEND;TZID=Australia/Melbourne:20240403T140000
DTSTAMP:20260421T185358
CREATED:20240321T020352Z
LAST-MODIFIED:20240321T020352Z
UID:43999-1712138400-1712152800@www.latrobe.edu.au
SUMMARY:Socialist Alternative Agora Stall
DESCRIPTION:Come and talk to Socialist Alternative and find out about our current events and campaigns
URL:https://www.latrobe.edu.au/mylatrobe/event/socialist-alternative-agora-stall-9/
CATEGORIES:Bundoora
END:VEVENT
BEGIN:VEVENT
DTSTART;TZID=Australia/Melbourne:20240402T170000
DTEND;TZID=Australia/Melbourne:20240402T200000
DTSTAMP:20260421T185358
CREATED:20240321T020352Z
LAST-MODIFIED:20240321T020352Z
UID:43996-1712077200-1712088000@www.latrobe.edu.au
SUMMARY:LUSoM Regular Rehearsal
DESCRIPTION:Join the Society of Music for our twice weekly rehearsal
URL:https://www.latrobe.edu.au/mylatrobe/event/lusom-regular-rehearsal-3/
CATEGORIES:Bundoora
END:VEVENT
BEGIN:VEVENT
DTSTART;TZID=Australia/Melbourne:20240402T110000
DTEND;TZID=Australia/Melbourne:20240402T130000
DTSTAMP:20260421T185358
CREATED:20240321T020351Z
LAST-MODIFIED:20240321T020351Z
UID:43993-1712055600-1712062800@www.latrobe.edu.au
SUMMARY:CU Agora Stall
DESCRIPTION:Come and talk to Christian Union in the Agora
URL:https://www.latrobe.edu.au/mylatrobe/event/cu-agora-stall-8/
CATEGORIES:Bundoora
END:VEVENT
BEGIN:VEVENT
DTSTART;TZID=Australia/Melbourne:20240402T100000
DTEND;TZID=Australia/Melbourne:20240402T140000
DTSTAMP:20260421T185358
CREATED:20240321T020352Z
LAST-MODIFIED:20240321T020352Z
UID:43995-1712052000-1712066400@www.latrobe.edu.au
SUMMARY:Socialist Alternative Agora Stall
DESCRIPTION:Come and talk to Socialist Alternative and find out about our current events and campaigns
URL:https://www.latrobe.edu.au/mylatrobe/event/socialist-alternative-agora-stall-8/
CATEGORIES:Bundoora
END:VEVENT
BEGIN:VEVENT
DTSTART;TZID=Australia/Melbourne:20240401T170000
DTEND;TZID=Australia/Melbourne:20240401T220000
DTSTAMP:20260421T185358
CREATED:20240321T020351Z
LAST-MODIFIED:20240321T020351Z
UID:43992-1711990800-1712008800@www.latrobe.edu.au
SUMMARY:Philosophy Discussion Night
DESCRIPTION:A night of discussing philosophy while enjoying some light refreshments.
URL:https://www.latrobe.edu.au/mylatrobe/event/philosophy-discussion-night-2/
CATEGORIES:Bundoora
END:VEVENT
BEGIN:VEVENT
DTSTART;TZID=Australia/Melbourne:20240401T110000
DTEND;TZID=Australia/Melbourne:20240401T130000
DTSTAMP:20260421T185358
CREATED:20240321T020351Z
LAST-MODIFIED:20240321T020351Z
UID:43990-1711969200-1711976400@www.latrobe.edu.au
SUMMARY:CU Agora Stall
DESCRIPTION:Come and talk to Christian Union in the Agora
URL:https://www.latrobe.edu.au/mylatrobe/event/cu-agora-stall-7/
CATEGORIES:Bundoora
END:VEVENT
BEGIN:VEVENT
DTSTART;TZID=Australia/Melbourne:20240401T100000
DTEND;TZID=Australia/Melbourne:20240401T140000
DTSTAMP:20260421T185358
CREATED:20240321T020351Z
LAST-MODIFIED:20240321T020351Z
UID:43991-1711965600-1711980000@www.latrobe.edu.au
SUMMARY:Socialist Alternative Agora Stall
DESCRIPTION:Come and talk to Socialist Alternative and find out about our current events and campaigns
URL:https://www.latrobe.edu.au/mylatrobe/event/socialist-alternative-agora-stall-7/
CATEGORIES:Bundoora
END:VEVENT
BEGIN:VEVENT
DTSTART;TZID=Australia/Melbourne:20240331T130000
DTEND;TZID=Australia/Melbourne:20240331T180000
DTSTAMP:20260421T185358
CREATED:20240321T020350Z
LAST-MODIFIED:20240321T020350Z
UID:43988-1711890000-1711908000@www.latrobe.edu.au
SUMMARY:LUSoM's Crew Weekend Rehearsal
DESCRIPTION:The Society of Music’s weekend rehearsal\, invite only.
URL:https://www.latrobe.edu.au/mylatrobe/event/lusoms-crew-weekend-rehearsal-2/
CATEGORIES:Bundoora
END:VEVENT
BEGIN:VEVENT
DTSTART;TZID=Australia/Melbourne:20240331T080000
DTEND;TZID=Australia/Melbourne:20240331T170000
DTSTAMP:20260421T185358
CREATED:20240321T020351Z
LAST-MODIFIED:20240321T020351Z
UID:43989-1711872000-1711904400@www.latrobe.edu.au
SUMMARY:Healesville Sanctuary Visit & Hospital Tour
DESCRIPTION:We will be visiting Healesville Sanctuary to see some native wildlife and tour the hospital.
URL:https://www.latrobe.edu.au/mylatrobe/event/healesville-sanctuary-visit-hospital-tour/
CATEGORIES:Bundoora
END:VEVENT
BEGIN:VEVENT
DTSTART;TZID=Australia/Melbourne:20240329T130000
DTEND;TZID=Australia/Melbourne:20240329T150000
DTSTAMP:20260421T185358
CREATED:20240321T020350Z
LAST-MODIFIED:20240321T020350Z
UID:43986-1711717200-1711724400@www.latrobe.edu.au
SUMMARY:Anime Screenings
DESCRIPTION:Join LUNASY for our weekly anime screenings!
URL:https://www.latrobe.edu.au/mylatrobe/event/anime-screenings-3/
CATEGORIES:Bundoora
END:VEVENT
BEGIN:VEVENT
DTSTART;TZID=Australia/Melbourne:20240329T123000
DTEND;TZID=Australia/Melbourne:20240329T133000
DTSTAMP:20260421T185358
CREATED:20240321T020350Z
LAST-MODIFIED:20240321T020350Z
UID:43987-1711715400-1711719000@www.latrobe.edu.au
SUMMARY:FemBots Speakeasy Workshops
DESCRIPTION:Monthly workshops on the last Friday of each month. These are no pressure\, informal sessions\, designed to help students practice and feel more confident about presenting their work in front of other people.
URL:https://www.latrobe.edu.au/mylatrobe/event/fembots-speakeasy-workshops/
CATEGORIES:Bundoora
END:VEVENT
BEGIN:VEVENT
DTSTART;TZID=Australia/Melbourne:20240329T110000
DTEND;TZID=Australia/Melbourne:20240329T130000
DTSTAMP:20260421T185358
CREATED:20240321T020350Z
LAST-MODIFIED:20240321T020350Z
UID:43984-1711710000-1711717200@www.latrobe.edu.au
SUMMARY:CU Agora Stall
DESCRIPTION:Come and talk to Christian Union in the Agora
URL:https://www.latrobe.edu.au/mylatrobe/event/cu-agora-stall-6/
CATEGORIES:Bundoora
END:VEVENT
BEGIN:VEVENT
DTSTART;TZID=Australia/Melbourne:20240329T100000
DTEND;TZID=Australia/Melbourne:20240329T140000
DTSTAMP:20260421T185358
CREATED:20240321T020350Z
LAST-MODIFIED:20240321T020350Z
UID:43985-1711706400-1711720800@www.latrobe.edu.au
SUMMARY:Socialist Alternative Agora Stall
DESCRIPTION:Come and talk to Socialist Alternative and find out about our current events and campaigns
URL:https://www.latrobe.edu.au/mylatrobe/event/socialist-alternative-agora-stall-6/
CATEGORIES:Bundoora
END:VEVENT
BEGIN:VEVENT
DTSTART;TZID=Australia/Melbourne:20240328T194500
DTEND;TZID=Australia/Melbourne:20240328T194500
DTSTAMP:20260421T185358
CREATED:20240320T232529Z
LAST-MODIFIED:20240320T233930Z
UID:43623-1711655100-1711655100@www.latrobe.edu.au
SUMMARY:Twilight Tour
DESCRIPTION:Join us for a tour of the Sanctuary! We’ll hopefully see possums\, bats\, birds\, the odd gecko and other local wildlife. Bookings essential tinyurl.com/NTWSwhatson
URL:https://www.latrobe.edu.au/mylatrobe/event/twilight-tour/
CATEGORIES:Bundoora
END:VEVENT
BEGIN:VEVENT
DTSTART;TZID=Australia/Melbourne:20240328T180000
DTEND;TZID=Australia/Melbourne:20240328T230000
DTSTAMP:20260421T185358
CREATED:20240321T020136Z
LAST-MODIFIED:20240321T020136Z
UID:43980-1711648800-1711666800@www.latrobe.edu.au
SUMMARY:Ramadan Community Iftar
DESCRIPTION:Regular Iftar Event for Saudi Society
URL:https://www.latrobe.edu.au/mylatrobe/event/ramadan-community-iftar/
CATEGORIES:Bundoora
END:VEVENT
BEGIN:VEVENT
DTSTART;TZID=Australia/Melbourne:20240328T180000
DTEND;TZID=Australia/Melbourne:20240328T220000
DTSTAMP:20260421T185358
CREATED:20240321T020136Z
LAST-MODIFIED:20240321T020136Z
UID:43982-1711648800-1711663200@www.latrobe.edu.au
SUMMARY:LUIS Annual Grand Iftar
DESCRIPTION:The Grand Iftar has been an annual event for LUIS for anumber of years now. During the month of Ramadan\,\nwe like to gather the community together\, especially\nthose at a university level to enjoy a lively atmosphere\,\nget to know one another and enjoy our meal to break\nour fast.
URL:https://www.latrobe.edu.au/mylatrobe/event/luis-annual-grand-iftar/
CATEGORIES:Bundoora
END:VEVENT
BEGIN:VEVENT
DTSTART;TZID=Australia/Melbourne:20240328T180000
DTEND;TZID=Australia/Melbourne:20240328T210000
DTSTAMP:20260421T185358
CREATED:20240321T020136Z
LAST-MODIFIED:20240321T020136Z
UID:43978-1711648800-1711659600@www.latrobe.edu.au
SUMMARY:Monthly Book Club
DESCRIPTION:Join Book Club for our monthly meet up!
URL:https://www.latrobe.edu.au/mylatrobe/event/monthly-book-club/
CATEGORIES:Bundoora
END:VEVENT
BEGIN:VEVENT
DTSTART;TZID=Australia/Melbourne:20240328T170000
DTEND;TZID=Australia/Melbourne:20240328T200000
DTSTAMP:20260421T185358
CREATED:20240321T020135Z
LAST-MODIFIED:20240321T020135Z
UID:43977-1711645200-1711656000@www.latrobe.edu.au
SUMMARY:LUSoM Regular Rehearsal
DESCRIPTION:Join the Society of Music for our twice weekly rehearsal
URL:https://www.latrobe.edu.au/mylatrobe/event/lusom-regular-rehearsal-2/
CATEGORIES:Bundoora
END:VEVENT
END:VCALENDAR