BEGIN:VCALENDAR
VERSION:2.0
PRODID:-//MyLaTrobe - ECPv6.15.20//NONSGML v1.0//EN
CALSCALE:GREGORIAN
METHOD:PUBLISH
X-WR-CALNAME:MyLaTrobe
X-ORIGINAL-URL:https://www.latrobe.edu.au/mylatrobe
X-WR-CALDESC:Events for MyLaTrobe
REFRESH-INTERVAL;VALUE=DURATION:PT1H
X-Robots-Tag:noindex
X-PUBLISHED-TTL:PT1H
BEGIN:VTIMEZONE
TZID:Australia/Melbourne
BEGIN:STANDARD
TZOFFSETFROM:+1100
TZOFFSETTO:+1000
TZNAME:AEST
DTSTART:20230401T160000
END:STANDARD
BEGIN:DAYLIGHT
TZOFFSETFROM:+1000
TZOFFSETTO:+1100
TZNAME:AEDT
DTSTART:20230930T160000
END:DAYLIGHT
BEGIN:STANDARD
TZOFFSETFROM:+1100
TZOFFSETTO:+1000
TZNAME:AEST
DTSTART:20240406T160000
END:STANDARD
BEGIN:DAYLIGHT
TZOFFSETFROM:+1000
TZOFFSETTO:+1100
TZNAME:AEDT
DTSTART:20241005T160000
END:DAYLIGHT
BEGIN:STANDARD
TZOFFSETFROM:+1100
TZOFFSETTO:+1000
TZNAME:AEST
DTSTART:20250405T160000
END:STANDARD
BEGIN:DAYLIGHT
TZOFFSETFROM:+1000
TZOFFSETTO:+1100
TZNAME:AEDT
DTSTART:20251004T160000
END:DAYLIGHT
END:VTIMEZONE
BEGIN:VEVENT
DTSTART;TZID=Australia/Melbourne:20240717T090000
DTEND;TZID=Australia/Melbourne:20240717T090000
DTSTAMP:20260421T032507
CREATED:20240704T235202Z
LAST-MODIFIED:20240704T235202Z
UID:45681-1721206800-1721206800@www.latrobe.edu.au
SUMMARY:Free Lunch at Charlie's Kebabs
DESCRIPTION:RESIDENTIAL EVENT: Residents who sign up via the UniLife app get the opportunity to collect a free lunch from an on campus vendor during opening hours.
URL:https://www.latrobe.edu.au/mylatrobe/event/free-lunch-at-charlies-kebabs/
CATEGORIES:Bundoora
END:VEVENT
BEGIN:VEVENT
DTSTART;TZID=Australia/Melbourne:20240716T103000
DTEND;TZID=Australia/Melbourne:20240716T103000
DTSTAMP:20260421T032507
CREATED:20240704T235014Z
LAST-MODIFIED:20240704T235016Z
UID:45680-1721125800-1721125800@www.latrobe.edu.au
SUMMARY:Toasty & Cereal Breakfast
DESCRIPTION:RESIDENTIAL EVENT: Residential students are invited to grab some breakfast in the newly opened Art Centre. Toasties and cereal provided\, as well as gluten free and alternative milk options.
URL:https://www.latrobe.edu.au/mylatrobe/event/toasty-cereal-breakfast/
CATEGORIES:Bundoora
END:VEVENT
BEGIN:VEVENT
DTSTART;TZID=Australia/Melbourne:20240715T170000
DTEND;TZID=Australia/Melbourne:20240715T170000
DTSTAMP:20260421T032507
CREATED:20240704T235201Z
LAST-MODIFIED:20240704T235201Z
UID:45679-1721062800-1721062800@www.latrobe.edu.au
SUMMARY:Paint N Sip Night
DESCRIPTION:RESIDENTIAL EVENT: Residential studenst are invited to a night of chill painting and socialising to get to know one another right before Semester 2 kicks off.
URL:https://www.latrobe.edu.au/mylatrobe/event/paint-n-sip-night/
CATEGORIES:Bundoora
END:VEVENT
BEGIN:VEVENT
DTSTART;TZID=Australia/Melbourne:20240711T094500
DTEND;TZID=Australia/Melbourne:20240711T094500
DTSTAMP:20260421T032507
CREATED:20240705T000332Z
LAST-MODIFIED:20240705T000336Z
UID:45678-1720691100-1720691100@www.latrobe.edu.au
SUMMARY:Melbourne Museum Trip - Bunjilaka Aboriginal Art
DESCRIPTION:RESIDENTIAL EVENT: Residents who sign up via the app attend of off-campus excursion to the Melbourne Museum for a guided tour through the Bunjilaka Aboriginal section of the museum to learn about Indigenous Australian culture. \n9:45am – 3pm July 11 \nMeet at Living at La Trobe Reception
URL:https://www.latrobe.edu.au/mylatrobe/event/melbourne-museum-trip-bunjilaka-aboriginal-art/
CATEGORIES:Bundoora
END:VEVENT
BEGIN:VEVENT
DTSTART;TZID=Australia/Melbourne:20240710T124500
DTEND;TZID=Australia/Melbourne:20240710T124500
DTSTAMP:20260421T032507
CREATED:20240704T235201Z
LAST-MODIFIED:20240704T235201Z
UID:45677-1720615500-1720615500@www.latrobe.edu.au
SUMMARY:Let's Go to Bounce
DESCRIPTION:RESIDENTIAL EVENT: Residents who sign up via the app get to go to an off-campus excursion to Bounce trampoline warehouse.
URL:https://www.latrobe.edu.au/mylatrobe/event/lets-go-to-bounce/
CATEGORIES:Bundoora
END:VEVENT
BEGIN:VEVENT
DTSTART;TZID=Australia/Melbourne:20240710T120000
DTEND;TZID=Australia/Melbourne:20240710T140000
DTSTAMP:20260421T032507
CREATED:20240628T030241Z
LAST-MODIFIED:20240628T030244Z
UID:45564-1720612800-1720620000@www.latrobe.edu.au
SUMMARY:Melbourne (Bundoora) NAIDOC Celebrations
DESCRIPTION:Celebrate NAIDOC Week with us at La Trobe University! This year’s theme\, “Keep the Fire Burning! Blak\, Loud & Proud\,” honors the resilience and spirit of Indigenous communities. \n\n\n\nPlease join us for a viewing of Welcome to Culture\, followed by lunch and a yarn!
URL:https://www.latrobe.edu.au/mylatrobe/event/melbourne-bundoora-naidoc-celebrations/
LOCATION:Ngarn-gi Bagora (Agora East\, Level 2)
CATEGORIES:Bundoora
END:VEVENT
BEGIN:VEVENT
DTSTART;TZID=Australia/Melbourne:20240710T120000
DTEND;TZID=Australia/Melbourne:20240710T120000
DTSTAMP:20260421T032507
CREATED:20240704T235201Z
LAST-MODIFIED:20240704T235201Z
UID:45675-1720612800-1720612800@www.latrobe.edu.au
SUMMARY:Welcome to Culture NAIDOC event
DESCRIPTION:Celebrate NAIDOC Week with a screening of a ‘Welcome To Culture’. This will then followed by a lunch and group discussion
URL:https://www.latrobe.edu.au/mylatrobe/event/welcome-to-culture-naidoc-event/
CATEGORIES:Bundoora
END:VEVENT
BEGIN:VEVENT
DTSTART;TZID=Australia/Melbourne:20240708T173000
DTEND;TZID=Australia/Melbourne:20240708T173000
DTSTAMP:20260421T032507
CREATED:20240704T235201Z
LAST-MODIFIED:20240704T235201Z
UID:45674-1720459800-1720459800@www.latrobe.edu.au
SUMMARY:Residential Induction Dinner
DESCRIPTION:RESDIENTIAL EVENT A induction session compulsory for all new residents on campus to learn the ins and outs of Living at La Trobe\, how they can be connected and the guidlines on how to live well together. Comes with a free pizza dinner.
URL:https://www.latrobe.edu.au/mylatrobe/event/residential-induction-dinner/
CATEGORIES:Bundoora
END:VEVENT
BEGIN:VEVENT
DTSTART;TZID=Australia/Melbourne:20240705T183000
DTEND;TZID=Australia/Melbourne:20240705T183000
DTSTAMP:20260421T032507
CREATED:20240704T235208Z
LAST-MODIFIED:20240704T235208Z
UID:45673-1720204200-1720204200@www.latrobe.edu.au
SUMMARY:Islamic New Year Celebration Dinner
DESCRIPTION:RESIDENITAL EVENT: Residents who RSVP via the app can attend the dining hall for a free dinner celebration for the Islamic calendar. This includes a free 2 course dinner with traditional foods and a host for storytelling and musical performance.
URL:https://www.latrobe.edu.au/mylatrobe/event/islamic-new-year-celebration-dinner/
CATEGORIES:Bundoora
END:VEVENT
BEGIN:VEVENT
DTSTART;TZID=Australia/Melbourne:20240605T173000
DTEND;TZID=Australia/Melbourne:20240605T173000
DTSTAMP:20260421T032507
CREATED:20240321T004820Z
LAST-MODIFIED:20240321T004830Z
UID:43866-1717608600-1717608600@www.latrobe.edu.au
SUMMARY:Twilight Tour
DESCRIPTION:Join us for a tour of the Sanctuary! We’ll hopefully see possums\, bats\, birds\, the odd gecko and other local wildlife. Bookings essential tinyurl.com/NTWSwhatson
URL:https://www.latrobe.edu.au/mylatrobe/event/twilight-tour-2/
CATEGORIES:Bundoora
END:VEVENT
BEGIN:VEVENT
DTSTART;TZID=Australia/Melbourne:20240531T100000
DTEND;TZID=Australia/Melbourne:20240531T100000
DTSTAMP:20260421T032507
CREATED:20240321T004821Z
LAST-MODIFIED:20240321T004830Z
UID:43864-1717149600-1717149600@www.latrobe.edu.au
SUMMARY:Weekly Activation - Friday Free Coffees
DESCRIPTION:Free coffees on campus! Show your student card at Chapter 2 in the library and get a free hot drink.
URL:https://www.latrobe.edu.au/mylatrobe/event/weekly-activation-friday-free-coffees-4/
CATEGORIES:Bundoora
END:VEVENT
BEGIN:VEVENT
DTSTART;TZID=Australia/Melbourne:20240530T120000
DTEND;TZID=Australia/Melbourne:20240530T140000
DTSTAMP:20260421T032507
CREATED:20240423T031546Z
LAST-MODIFIED:20240527T023259Z
UID:44616-1717070400-1717077600@www.latrobe.edu.au
SUMMARY:Reconciliation Week Celebration 
DESCRIPTION:Join us at La Trobe’s Reconciliation Week Celebration! We’ll be hosting a ceremony which will include a Welcome to Country\, Speeches\, Smoking Ceremony and a Bushtucker BBQ in the David Myer’s Building at the Melbourne (Bundoora) campus.
URL:https://www.latrobe.edu.au/mylatrobe/event/reconciliation-week-celebration/
LOCATION:David Myer’s Building – Centre (La Trobe University Centre)\, La Trobe University Melbourne Campus\, Agora Walkway\, Bundoora\, VIC\, 3083\, Australia
CATEGORIES:Bundoora
END:VEVENT
BEGIN:VEVENT
DTSTART;TZID=Australia/Melbourne:20240528T190000
DTEND;TZID=Australia/Melbourne:20240528T233000
DTSTAMP:20260421T032507
CREATED:20240502T012903Z
LAST-MODIFIED:20240502T013241Z
UID:44870-1716922800-1716939000@www.latrobe.edu.au
SUMMARY:Bollywood Night: End of Semester 1 Party
DESCRIPTION:Join us for an unforgettable Bollywood Night at La Trobe University’s Eagle Bar! This vibrant event features DJ’s playing Bollywood beats\, Indian snacks\, and fun activities including a henna artist and lawn games. $10 tickets – online only$5 Drinks l Free Food l DJ ALI l DJ NKNJ Dress your Bollywood best and participate in our Best Dressed Contest for a chance to win fabulous prizes. It’s more than just a party—it’s a night to celebrate culture\, connections\, and the end of the semester in style! 18+ID required. Responsible Service of Alcohol will be enforced.
URL:https://www.latrobe.edu.au/mylatrobe/event/bollywood-night-end-of-semester-1-party/
LOCATION:Eagle Bar\, Union Building\, La Trobe University Bundoora Campus\, Bundoora
CATEGORIES:Bundoora,City,Online
ATTACH;FMTTYPE=image/png:https://www.latrobe.edu.au/mylatrobe/wp-content/uploads/2024/05/Desi-Night-2160-x-1080-px-1.png
END:VEVENT
BEGIN:VEVENT
DTSTART;TZID=Australia/Melbourne:20240527T120000
DTEND;TZID=Australia/Melbourne:20240527T120000
DTSTAMP:20260421T032507
CREATED:20240321T004822Z
LAST-MODIFIED:20240423T030930Z
UID:43855-1716811200-1716811200@www.latrobe.edu.au
SUMMARY:Sorry Day Installation
DESCRIPTION:Come and write your message of condolence for Sorry Day outside of the Library.
URL:https://www.latrobe.edu.au/mylatrobe/event/sorry-day-ceremony-installation/
CATEGORIES:Bundoora
END:VEVENT
BEGIN:VEVENT
DTSTART;TZID=Australia/Melbourne:20240524T100000
DTEND;TZID=Australia/Melbourne:20240524T100000
DTSTAMP:20260421T032507
CREATED:20240321T004823Z
LAST-MODIFIED:20240321T004831Z
UID:43853-1716544800-1716544800@www.latrobe.edu.au
SUMMARY:Weekly Activation - Friday Free Coffees
DESCRIPTION:Free coffees on campus! Show your student card at Chapter 2 in the library and get a free hot drink.
URL:https://www.latrobe.edu.au/mylatrobe/event/weekly-activation-friday-free-coffees-5/
CATEGORIES:Bundoora
END:VEVENT
BEGIN:VEVENT
DTSTART;TZID=Australia/Melbourne:20240523T120000
DTEND;TZID=Australia/Melbourne:20240523T130000
DTSTAMP:20260421T032507
CREATED:20240513T031945Z
LAST-MODIFIED:20240513T032614Z
UID:45001-1716465600-1716469200@www.latrobe.edu.au
SUMMARY:Fulbright Scholarship Info Session
DESCRIPTION:Find out about applying for one of Australia’s most life changing scholarships to undertake PG study in the US in 2025. \n\n\n\nFulbright Australia Scholarships are now open for 2025. This is the chance to take the next step in your educational journey by applying to be a Fulbright Scholar for 2025. \n\n\n\nFulbright Scholars are supported to travel to the US to undertake PG coursework or research in what can best be described as a life changing opportunity. There are a range of Scholarships available with details on the Fulbright website \n\n\n\nDiscover more about Fulbright Scholarship opportunities and how to apply for this outstanding opportunity at our information session where you can meet representatives from Fulbright Australia. \n\n\n\nThursday May 23 at 12 noon via zoom. \n\n\n\nRegister here for the link to the event \n\n\n\nApplications close in early July. Note applications are open to Australian students.
URL:https://www.latrobe.edu.au/mylatrobe/event/fulbright-scholarship-info-session/
CATEGORIES:Albury-Wodonga,Bendigo,Bundoora,City,Mildura,Multi-Campus,Online,Shepparton
END:VEVENT
BEGIN:VEVENT
DTSTART;TZID=Australia/Melbourne:20240522T130000
DTEND;TZID=Australia/Melbourne:20240522T140000
DTSTAMP:20260421T032507
CREATED:20240430T043849Z
LAST-MODIFIED:20240430T044407Z
UID:44802-1716382800-1716386400@www.latrobe.edu.au
SUMMARY:Writers on Campus - How to write poetry
DESCRIPTION:Writers on Campus is a series of conversations\, panels and events celebrating authors and the craft of writing at La Trobe. Join panel host Claire Knowles\, in conversation with poets and poetry experts Thomas Ford\, Simon West and Judith Bishop.
URL:https://www.latrobe.edu.au/mylatrobe/event/writers-on-campus-how-to-write-poetry/
LOCATION:Seminar Room 1.34\, Melbourne (Bundoora) Library
CATEGORIES:Bundoora
END:VEVENT
BEGIN:VEVENT
DTSTART;TZID=Australia/Melbourne:20240520T120000
DTEND;TZID=Australia/Melbourne:20240520T120000
DTSTAMP:20260421T032507
CREATED:20240321T004824Z
LAST-MODIFIED:20240423T025839Z
UID:43846-1716206400-1716206400@www.latrobe.edu.au
SUMMARY:Weekly Activation  - Funday Monday
DESCRIPTION:Chill Relaxation music\, Gelato and Lawn games in the Agora
URL:https://www.latrobe.edu.au/mylatrobe/event/weekly-activation-funday-monday-10/
CATEGORIES:Bundoora
END:VEVENT
BEGIN:VEVENT
DTSTART;TZID=Australia/Melbourne:20240517T100000
DTEND;TZID=Australia/Melbourne:20240517T100000
DTSTAMP:20260421T032507
CREATED:20240321T004824Z
LAST-MODIFIED:20240321T004832Z
UID:43844-1715940000-1715940000@www.latrobe.edu.au
SUMMARY:Weekly Activation - Friday Free Coffees
DESCRIPTION:Free coffees on campus! Show your student card at Chapter 2 in the library and get a free hot drink.
URL:https://www.latrobe.edu.au/mylatrobe/event/weekly-activation-friday-free-coffees-6/
CATEGORIES:Bundoora
END:VEVENT
BEGIN:VEVENT
DTSTART;TZID=Australia/Melbourne:20240516T113000
DTEND;TZID=Australia/Melbourne:20240516T113000
DTSTAMP:20260421T032507
CREATED:20240321T004825Z
LAST-MODIFIED:20240321T004832Z
UID:43840-1715859000-1715859000@www.latrobe.edu.au
SUMMARY:Market Day
DESCRIPTION:IDAHOBIT theme
URL:https://www.latrobe.edu.au/mylatrobe/event/market-day-7/
CATEGORIES:Bundoora
END:VEVENT
BEGIN:VEVENT
DTSTART;TZID=Australia/Melbourne:20240513T120000
DTEND;TZID=Australia/Melbourne:20240513T130000
DTSTAMP:20260421T032507
CREATED:20240320T232336Z
LAST-MODIFIED:20240423T055324Z
UID:43734-1715601600-1715605200@www.latrobe.edu.au
SUMMARY:Weekly Activation  - Funday Monday
DESCRIPTION:Music and Lawn games in the Agora \nWhile you’re enjoying the Monday Fun\, come and find our information stall and grab a free rainbow ribbon badge to mark the Day Against LGBTQIA+ Discrimination (IDAHOBIT).
URL:https://www.latrobe.edu.au/mylatrobe/event/weekly-activation-funday-monday-5/
CATEGORIES:Bundoora
END:VEVENT
BEGIN:VEVENT
DTSTART;TZID=Australia/Melbourne:20240512T174500
DTEND;TZID=Australia/Melbourne:20240512T174500
DTSTAMP:20260421T032507
CREATED:20240320T232336Z
LAST-MODIFIED:20240320T232336Z
UID:43732-1715535900-1715535900@www.latrobe.edu.au
SUMMARY:Mother's Day Twilight Tour
DESCRIPTION:Spend Mother’s Day differently this year and bring Mum along on a tour of Nangak Tamboree Wildlife Sanctuary. Bookings essential tinyurl.com/NTWSwhatson
URL:https://www.latrobe.edu.au/mylatrobe/event/mothers-day-twilight-tour/
CATEGORIES:Bundoora
END:VEVENT
BEGIN:VEVENT
DTSTART;TZID=Australia/Melbourne:20240510T100000
DTEND;TZID=Australia/Melbourne:20240510T100000
DTSTAMP:20260421T032507
CREATED:20240320T232117Z
LAST-MODIFIED:20240320T232117Z
UID:43690-1715335200-1715335200@www.latrobe.edu.au
SUMMARY:Weekly Activation - Friday Free Coffees
DESCRIPTION:Free coffees on campus! Show your student card at Chapter 2 in the library and get a free hot drink.
URL:https://www.latrobe.edu.au/mylatrobe/event/weekly-activation-friday-free-coffees-2/
CATEGORIES:Bundoora
END:VEVENT
BEGIN:VEVENT
DTSTART;TZID=Australia/Melbourne:20240509T110000
DTEND;TZID=Australia/Melbourne:20240509T110000
DTSTAMP:20260421T032507
CREATED:20240320T232117Z
LAST-MODIFIED:20240430T002931Z
UID:43688-1715252400-1715252400@www.latrobe.edu.au
SUMMARY:International Nurses and Midwife Day (Market Takeover)
DESCRIPTION:Club stalls\, internal or external stalls and promotions\, music
URL:https://www.latrobe.edu.au/mylatrobe/event/international-nurses-and-midwife-day-market-takeover/
CATEGORIES:Bundoora
END:VEVENT
BEGIN:VEVENT
DTSTART;TZID=Australia/Melbourne:20240509T000000
DTEND;TZID=Australia/Melbourne:20240511T000000
DTSTAMP:20260421T032507
CREATED:20240320T232117Z
LAST-MODIFIED:20240320T232117Z
UID:43691-1715212800-1715385600@www.latrobe.edu.au
SUMMARY:UniSport Swimming Nationals
DESCRIPTION:Get your goggles on\, Team La Trobe heads to Sydney to compete in UniSport Swimming Nationals! La Trobe University will battle it out against 43 other member universities in an event that cannot be missed.  “For updated event information please visit\, https://www.latrobe.edu.au/sport/play-sport/represent/university-nationals’
URL:https://www.latrobe.edu.au/mylatrobe/event/unisport-swimming-nationals/
CATEGORIES:Bundoora
END:VEVENT
BEGIN:VEVENT
DTSTART;TZID=Australia/Melbourne:20240506T120000
DTEND;TZID=Australia/Melbourne:20240506T120000
DTSTAMP:20260421T032507
CREATED:20240320T232119Z
LAST-MODIFIED:20240320T232119Z
UID:43680-1714996800-1714996800@www.latrobe.edu.au
SUMMARY:Weekly Activation  - Funday Monday
DESCRIPTION:Music\, Gelato and Lawn games in the Agora
URL:https://www.latrobe.edu.au/mylatrobe/event/weekly-activation-funday-monday-4/
CATEGORIES:Bundoora
END:VEVENT
BEGIN:VEVENT
DTSTART;TZID=Australia/Melbourne:20240505T210000
DTEND;TZID=Australia/Melbourne:20240505T210000
DTSTAMP:20260421T032507
CREATED:20240320T232119Z
LAST-MODIFIED:20240320T232119Z
UID:43679-1714942800-1714942800@www.latrobe.edu.au
SUMMARY:Wings For Life World Run
DESCRIPTION:At the Wings for Life World Run\, everyone starts at the same time\, worldwide. Professional athletes\, fun runners and total beginners are all in it together against the Catcher Car. The moving finish line\, the Catcher Car begins its pursuit 30 minutes after the start\, passing runners and wheelchair users one after the other until the race is over. The best bit? 100% of all entry fees and donations goes directly to spinal cord research to find a cure for spinal cord injury.
URL:https://www.latrobe.edu.au/mylatrobe/event/wings-for-life-world-run/
CATEGORIES:Bundoora
END:VEVENT
BEGIN:VEVENT
DTSTART;TZID=Australia/Melbourne:20240503T100000
DTEND;TZID=Australia/Melbourne:20240503T100000
DTSTAMP:20260421T032507
CREATED:20240320T232033Z
LAST-MODIFIED:20240320T232119Z
UID:43677-1714730400-1714730400@www.latrobe.edu.au
SUMMARY:Activation
DESCRIPTION:Free coffees on campus! Show your student card at Chapter 2 in the library and get a free hot drink.
URL:https://www.latrobe.edu.au/mylatrobe/event/activation/
CATEGORIES:Bundoora
END:VEVENT
BEGIN:VEVENT
DTSTART;TZID=Australia/Melbourne:20240502T150000
DTEND;TZID=Australia/Melbourne:20240502T160000
DTSTAMP:20260421T032507
CREATED:20240411T023714Z
LAST-MODIFIED:20240418T002539Z
UID:44496-1714662000-1714665600@www.latrobe.edu.au
SUMMARY:Play For Fun... Basketball!
DESCRIPTION:Forget your studies\, de-stress\, shoot some hoops and have a laugh… No matter your skill level\, come along and join in our play for fun basketball sessions as part of the La Trobe Leaders Program. We’ll make up the rules as we go along… It’s a great way to connect with La Trobe Leaders\, make some friends\, what’s more it’s free! \n\n\n\nIf you’d like to know more…. reach out to us at leaders@latrobe.edu.au \n\n\n\n3pm Thursday May 2 at the new Indoor Sports Stadium on Kingsbury Drive
URL:https://www.latrobe.edu.au/mylatrobe/event/play-for-fun-basketball-3/
CATEGORIES:Bundoora
END:VEVENT
BEGIN:VEVENT
DTSTART;TZID=Australia/Melbourne:20240502T110000
DTEND;TZID=Australia/Melbourne:20240502T140000
DTSTAMP:20260421T032507
CREATED:20240320T232034Z
LAST-MODIFIED:20240423T060630Z
UID:43673-1714647600-1714658400@www.latrobe.edu.au
SUMMARY:Market Day Restival (UMHD Takeover)
DESCRIPTION:Join us at this year’s Restival to mark University Mental Health Day from 11 am – 2 pm in the Agora. The weekly Market Day will be running with some additional relaxing activities including a Sound Bath\, therapy puppies and free self-care gift bags. Grab a free sausage\, sit back and listen to the Harpist play.
URL:https://www.latrobe.edu.au/mylatrobe/event/market-day-restival-umhd-takeover/
LOCATION:David Myer’s Building – Centre (La Trobe University Centre)\, La Trobe University Melbourne Campus\, Agora Walkway\, Bundoora\, VIC\, 3083\, Australia
CATEGORIES:Bundoora
END:VEVENT
END:VCALENDAR