BEGIN:VCALENDAR
VERSION:2.0
PRODID:-//MyLaTrobe - ECPv6.15.20//NONSGML v1.0//EN
CALSCALE:GREGORIAN
METHOD:PUBLISH
X-WR-CALNAME:MyLaTrobe
X-ORIGINAL-URL:https://www.latrobe.edu.au/mylatrobe
X-WR-CALDESC:Events for MyLaTrobe
REFRESH-INTERVAL;VALUE=DURATION:PT1H
X-Robots-Tag:noindex
X-PUBLISHED-TTL:PT1H
BEGIN:VTIMEZONE
TZID:Australia/Melbourne
BEGIN:STANDARD
TZOFFSETFROM:+1100
TZOFFSETTO:+1000
TZNAME:AEST
DTSTART:20240406T160000
END:STANDARD
BEGIN:DAYLIGHT
TZOFFSETFROM:+1000
TZOFFSETTO:+1100
TZNAME:AEDT
DTSTART:20241005T160000
END:DAYLIGHT
BEGIN:STANDARD
TZOFFSETFROM:+1100
TZOFFSETTO:+1000
TZNAME:AEST
DTSTART:20250405T160000
END:STANDARD
BEGIN:DAYLIGHT
TZOFFSETFROM:+1000
TZOFFSETTO:+1100
TZNAME:AEDT
DTSTART:20251004T160000
END:DAYLIGHT
BEGIN:STANDARD
TZOFFSETFROM:+1100
TZOFFSETTO:+1000
TZNAME:AEST
DTSTART:20260404T160000
END:STANDARD
BEGIN:DAYLIGHT
TZOFFSETFROM:+1000
TZOFFSETTO:+1100
TZNAME:AEDT
DTSTART:20261003T160000
END:DAYLIGHT
END:VTIMEZONE
BEGIN:VEVENT
DTSTART;TZID=Australia/Melbourne:20250403T143000
DTEND;TZID=Australia/Melbourne:20250403T160000
DTSTAMP:20260420T112406
CREATED:20250317T220402Z
LAST-MODIFIED:20250317T220406Z
UID:50275-1743690600-1743696000@www.latrobe.edu.au
SUMMARY:Finding Pride – Semester 1 program
DESCRIPTION:Free group program for all LGBTIQA+ La Trobe students\, offering resilience-building skills and peer connection to support wellbeing.  \n\n\n\nMust register prior to Mon 24 Mar to attend full program of 7 x 1.5hr sessions. \n\n\n\nRoom location shared upon registration. This is an in person event.
URL:https://www.latrobe.edu.au/mylatrobe/event/finding-pride-semester-1-program-2/
LOCATION:La Trobe Melbourne (Bundoora) campus\, Plenty Rd\, Bundoora\, VIC\, 3086\, Australia
CATEGORIES:Bundoora
END:VEVENT
BEGIN:VEVENT
DTSTART;TZID=Australia/Melbourne:20250403T113000
DTEND;TZID=Australia/Melbourne:20250403T113000
DTSTAMP:20260420T112406
CREATED:20250312T225558Z
LAST-MODIFIED:20250312T225558Z
UID:49827-1743679800-1743679800@www.latrobe.edu.au
SUMMARY:Market Day
DESCRIPTION:Club stalls/promotions/music/BBQ
URL:https://www.latrobe.edu.au/mylatrobe/event/market-day-20/
LOCATION:Agora
CATEGORIES:Bundoora
END:VEVENT
BEGIN:VEVENT
DTSTART;TZID=Australia/Melbourne:20250403T110000
DTEND;TZID=Australia/Melbourne:20250403T130000
DTSTAMP:20260420T112406
CREATED:20250305T234821Z
LAST-MODIFIED:20250305T235331Z
UID:49084-1743678000-1743685200@www.latrobe.edu.au
SUMMARY:Study Abroad Expo 2025
DESCRIPTION:Interested in studying overseas as part of your La Trobe degree? Come along to the Study Abroad Expo to learn how you can explore the world as part of your La Trobe degree. \n\n\n\nWhat to expect: \n\n\n\n\nExplore Programs: Discover all the exciting study abroad options available\n\n\n\nMeet Experts: Chat with representatives from partner universities around the world\n\n\n\nGet Inspired: Hear from students who have studied abroad\n\n\n\n\nFun perks: \n\n\n\n\nSnack and Stroll: Enjoy complimentary snacks while you explore the Expo\n\n\n\nVisit and Win: Visit the Expo and enter the draw for a chance to win exciting prizes!\n\n\n\n\nStay in the loop! Register now for updates.
URL:https://www.latrobe.edu.au/mylatrobe/event/study-abroad-expo-2025/
LOCATION:Agora\, Melbourne (Bundoora) Campus\, Plenty Rd & Kingsbury Drive Bundoora Victoria 3086
CATEGORIES:Bundoora
ATTACH;FMTTYPE=image/png:https://www.latrobe.edu.au/mylatrobe/wp-content/uploads/2025/03/Event_WordPress-Article-650-x-400.png
END:VEVENT
BEGIN:VEVENT
DTSTART;TZID=Australia/Melbourne:20250403T110000
DTEND;TZID=Australia/Melbourne:20250403T110000
DTSTAMP:20260420T112406
CREATED:20250312T225557Z
LAST-MODIFIED:20250330T230715Z
UID:49820-1743678000-1743678000@www.latrobe.edu.au
SUMMARY:Study Abroad Expo
DESCRIPTION:Explore all the available overseas Programs – Semester and Short Term programs. Meet some of our overseas partners and find out how you can study overseas!
URL:https://www.latrobe.edu.au/mylatrobe/event/study-abroad-expo/
LOCATION:Agora
CATEGORIES:Bundoora
END:VEVENT
BEGIN:VEVENT
DTSTART;TZID=Australia/Melbourne:20250402T120000
DTEND;TZID=Australia/Melbourne:20250402T120000
DTSTAMP:20260420T112406
CREATED:20250312T225557Z
LAST-MODIFIED:20250312T225557Z
UID:49821-1743595200-1743595200@www.latrobe.edu.au
SUMMARY:LinkedIn Photoshoot
DESCRIPTION:Professional photographer taking headshots for use on students’ LinkedIn profiles
URL:https://www.latrobe.edu.au/mylatrobe/event/linkedin-photoshoot/
CATEGORIES:Bundoora
END:VEVENT
BEGIN:VEVENT
DTSTART;TZID=Australia/Melbourne:20250402T090000
DTEND;TZID=Australia/Melbourne:20250402T100000
DTSTAMP:20260420T112406
CREATED:20250331T235315Z
LAST-MODIFIED:20250331T235526Z
UID:50594-1743584400-1743588000@www.latrobe.edu.au
SUMMARY:Mid Week Caffeine Fix
DESCRIPTION:Grab a FREE coffee on campus to keep you going!
URL:https://www.latrobe.edu.au/mylatrobe/event/mid-week-caffeine-fix-6/
LOCATION:Chapter 2 Cafe\, Melbourne (Bundoora) campus library\, Plenty Rd\, Plenty Rd\, Bundoora VIC\, 3086\, Australia
CATEGORIES:Bundoora
ATTACH;FMTTYPE=image/png:https://www.latrobe.edu.au/mylatrobe/wp-content/uploads/2025/03/Free-coffee_WordPress-Article-650-x-400.png
END:VEVENT
BEGIN:VEVENT
DTSTART;TZID=Australia/Melbourne:20250402T080000
DTEND;TZID=Australia/Melbourne:20250402T080000
DTSTAMP:20260420T112406
CREATED:20250312T225557Z
LAST-MODIFIED:20250312T225557Z
UID:49817-1743580800-1743580800@www.latrobe.edu.au
SUMMARY:Monthly Bikers Breakfast - Staff & Students
DESCRIPTION:Ride your bike to Campus and get a free breakfast on us!
URL:https://www.latrobe.edu.au/mylatrobe/event/monthly-bikers-breakfast-staff-students-2/
CATEGORIES:Bundoora
END:VEVENT
BEGIN:VEVENT
DTSTART;TZID=Australia/Melbourne:20250401T183000
DTEND;TZID=Australia/Melbourne:20250401T183000
DTSTAMP:20260420T112406
CREATED:20250312T225557Z
LAST-MODIFIED:20250312T225557Z
UID:49814-1743532200-1743532200@www.latrobe.edu.au
SUMMARY:Part 1 - Playlist Vibes: Tune up your mood
DESCRIPTION:A creative therapy program for international students from Asia (ages 18-25) to relax\, focus\, and express emotions through art and music. Held Tuesdays\, 6:30–8:00 PM at La Trobe University’s City Campus\, sessions are led by Registered Therapists Stef Kam and Tanya Setyawan. Each session supports mental well-being (not a therapy replacement) and welcomes 10-25 attendees. Students can join up to eight sessions.
URL:https://www.latrobe.edu.au/mylatrobe/event/part-1-playlist-vibes-tune-up-your-mood/
CATEGORIES:Bundoora
END:VEVENT
BEGIN:VEVENT
DTSTART;TZID=Australia/Melbourne:20250401T090000
DTEND;TZID=Australia/Melbourne:20250401T090000
DTSTAMP:20260420T112406
CREATED:20250312T225557Z
LAST-MODIFIED:20250312T225557Z
UID:49812-1743498000-1743498000@www.latrobe.edu.au
SUMMARY:Mid Week Caffeine Fix
DESCRIPTION:Grab a FREE coffee on campus to keep you going!
URL:https://www.latrobe.edu.au/mylatrobe/event/mid-week-caffeine-fix/
CATEGORIES:Bundoora
END:VEVENT
BEGIN:VEVENT
DTSTART;TZID=Australia/Melbourne:20250328T180000
DTEND;TZID=Australia/Melbourne:20250328T180000
DTSTAMP:20260420T112406
CREATED:20250312T225556Z
LAST-MODIFIED:20250312T225556Z
UID:49807-1743184800-1743184800@www.latrobe.edu.au
SUMMARY:AFL Nines - Come & Try FREE Event
DESCRIPTION:Join us for a fun and fast-paced evening of AFL Nines at La Trobe University! Whether you’re a seasoned player or trying AFL Nines for the first time\, this Come & Try session is the perfect opportunity to develop your skills and enjoy a social game of footy. A free BBQ will also be on offer – do not miss out on this!
URL:https://www.latrobe.edu.au/mylatrobe/event/afl-nines-come-try-free-event/
CATEGORIES:Bundoora
END:VEVENT
BEGIN:VEVENT
DTSTART;TZID=Australia/Melbourne:20250327T143000
DTEND;TZID=Australia/Melbourne:20250327T160000
DTSTAMP:20260420T112406
CREATED:20250317T215746Z
LAST-MODIFIED:20250317T215753Z
UID:50269-1743085800-1743091200@www.latrobe.edu.au
SUMMARY:Finding Pride - Semester 1 program
DESCRIPTION:Free group program for all LGBTIQA+ La Trobe students\, offering resilience-building skills and peer connection to support wellbeing. Must register prior to Mon 24 Mar to attend full program of 7 x 1.5hr sessions.  \n\n\n\nRoom location shared upon registration. This is an in person event.
URL:https://www.latrobe.edu.au/mylatrobe/event/finding-pride-semester-1-program/
LOCATION:La Trobe Melbourne (Bundoora) campus\, Plenty Rd\, Bundoora\, VIC\, 3086\, Australia
CATEGORIES:Bundoora
END:VEVENT
BEGIN:VEVENT
DTSTART;TZID=Australia/Melbourne:20250327T110000
DTEND;TZID=Australia/Melbourne:20250327T110000
DTSTAMP:20260420T112406
CREATED:20250312T225556Z
LAST-MODIFIED:20250317T040204Z
UID:49804-1743073200-1743073200@www.latrobe.edu.au
SUMMARY:Re-Orientation Festival (Market Day Takeover)
DESCRIPTION:It’s time to re-live all the fun of Orientation! Re-connect with your support services\, join Student Clubs\, take part in a craft activity\, enjoy the photobooth and lots more… Plus\, there’s plenty of free food and entertainment! See you there.
URL:https://www.latrobe.edu.au/mylatrobe/event/re-orientation-festival-market-day-takeover/
LOCATION:Simpson Lawn\, Melbourne (Bundoora) Campus\, Plenty Road\, Melbourne\, Victoria\, 3086\, Australia
CATEGORIES:Bundoora
ATTACH;FMTTYPE=image/png:https://www.latrobe.edu.au/mylatrobe/wp-content/uploads/2025/03/Bundoora.png
END:VEVENT
BEGIN:VEVENT
DTSTART;TZID=Australia/Melbourne:20250325T183000
DTEND;TZID=Australia/Melbourne:20250325T183000
DTSTAMP:20260420T112406
CREATED:20250312T225505Z
LAST-MODIFIED:20250312T225505Z
UID:49790-1742927400-1742927400@www.latrobe.edu.au
SUMMARY:Badge it Up: Badge making with a twist
DESCRIPTION:A creative therapy program for international students from Asia (ages 18-25) to relax\, focus\, and express emotions through art and music. Held Tuesdays\, 6:30–8:00 PM at La Trobe University’s City Campus\, sessions are led by Registered Therapists Stef Kam and Tanya Setyawan. Each session supports mental well-being (not a therapy replacement) and welcomes 10-25 attendees. Students can join up to eight sessions.
URL:https://www.latrobe.edu.au/mylatrobe/event/badge-it-up-badge-making-with-a-twist/
CATEGORIES:Bundoora
END:VEVENT
BEGIN:VEVENT
DTSTART;TZID=Australia/Melbourne:20250325T123000
DTEND;TZID=Australia/Melbourne:20250325T131500
DTSTAMP:20260420T112406
CREATED:20250306T031450Z
LAST-MODIFIED:20250306T031456Z
UID:49222-1742905800-1742908500@www.latrobe.edu.au
SUMMARY:Writers on Campus: Writing beginnings
DESCRIPTION:How do you become a writer? Where do you start? \n\n\n\nThis month\, as part of the Writers on Campus series\, we explore the experiences and possibilities of writers starting out:  \n\n\n\n\nLearning the craft\n\n\n\nDeveloping ideas\n\n\n\nExperimenting with style\n\n\n\nFinding the form and voice that works for you\n\n\n\nRefining your skills\n\n\n\nDrafting and redrafting\n\n\n\nTaking the first steps towards publication\n\n\n\n\nTo help us explore the opportunities and challenges\, author and creative writing lecturer\, Catherine Padmore\, will talk with two La Trobe postgraduate researchers and writers:  \n\n\n\nTara Calaby\, whose debut novel was part of her PhD project and published to acclaim two years ago \n\n\n\nLouise Falconer\, who recently submitted her PhD and passed with flying colours and is on the board of Writers Victoria\, supporting emerging writers.  \n\n\n\nAll three speakers have had great success in publishing short fiction and nonfiction in a range of media and genres and taking different paths to creating a writing life. \n\n\n\nWe invite students\, staff and members of the public to join.
URL:https://www.latrobe.edu.au/mylatrobe/event/writers-on-campus-writing-beginnings/
LOCATION:La Trobe University Library\, Seminar Room 1.34\, Plenty Rd\, Bundoora\, VIC\, 3086\, Australia
CATEGORIES:Bundoora
ATTACH;FMTTYPE=image/png:https://www.latrobe.edu.au/mylatrobe/wp-content/uploads/2025/03/Writers-on-campus_WordPress-Article-650-x-400.png
END:VEVENT
BEGIN:VEVENT
DTSTART;TZID=Australia/Melbourne:20250325T123000
DTEND;TZID=Australia/Melbourne:20250325T123000
DTSTAMP:20260420T112406
CREATED:20250312T225505Z
LAST-MODIFIED:20250312T225505Z
UID:49787-1742905800-1742905800@www.latrobe.edu.au
SUMMARY:Writers on Campus - Writing Beginnings
DESCRIPTION:This month\, we explore the experiences of writers starting out: learning the craft\, developing ideas\, experimenting with style\, finding the form and voice that works for you and taking the first steps towards publication.\nTo help us explore the opportunities and challenges\, author and creative writing lecturer Catherine Padmore talks with two of La Trobe’s postgraduate researchers and writers: Tara Calaby\, whose debut novel was part of her PhD project and published to two years ago; and Louise Falconer\, who recently submitted her PhD and is on the board of Writers Victoria\, supporting emerging writers.
URL:https://www.latrobe.edu.au/mylatrobe/event/writers-on-campus-writing-beginnings-2/
CATEGORIES:Bundoora
END:VEVENT
BEGIN:VEVENT
DTSTART;TZID=Australia/Melbourne:20250324T120000
DTEND;TZID=Australia/Melbourne:20250324T120000
DTSTAMP:20260420T112406
CREATED:20250312T230928Z
LAST-MODIFIED:20250312T230928Z
UID:49782-1742817600-1742817600@www.latrobe.edu.au
SUMMARY:Career Options in Business & Commerce
DESCRIPTION:A panel discussion on career pathways with industry recruiters in the Business & Commerce sector.
URL:https://www.latrobe.edu.au/mylatrobe/event/career-options-in-business-commerce/
CATEGORIES:Bundoora
END:VEVENT
BEGIN:VEVENT
DTSTART;TZID=Australia/Melbourne:20250324T120000
DTEND;TZID=Australia/Melbourne:20250324T120000
DTSTAMP:20260420T112406
CREATED:20250312T225504Z
LAST-MODIFIED:20250312T225504Z
UID:49783-1742817600-1742817600@www.latrobe.edu.au
SUMMARY:Funday Monday
DESCRIPTION:Free gelati\, music and lawn games in the Agora
URL:https://www.latrobe.edu.au/mylatrobe/event/funday-monday/
LOCATION:Agora
CATEGORIES:Bundoora
END:VEVENT
BEGIN:VEVENT
DTSTART;TZID=Australia/Melbourne:20250322T200000
DTEND;TZID=Australia/Melbourne:20250322T200000
DTSTAMP:20260420T112406
CREATED:20250312T225504Z
LAST-MODIFIED:20250312T225504Z
UID:49780-1742673600-1742673600@www.latrobe.edu.au
SUMMARY:Twilight Tour
DESCRIPTION:Join us for a twilight tour of Nangak Tamboree Wildlife Sanctuary. We’ll hopefully see possums\, bats\, birds\, the odd gecko and other local wildlife out here in the bush.Bookings are essential.
URL:https://www.latrobe.edu.au/mylatrobe/event/twilight-tour-8/
LOCATION:Nangak Tamboree Wildlife Sanctuary\, La Trobe Avenue\, Bundoora\, Victoria\, 3086\, Australia
CATEGORIES:Bundoora
END:VEVENT
BEGIN:VEVENT
DTSTART;TZID=Australia/Melbourne:20250321T100000
DTEND;TZID=Australia/Melbourne:20250321T100000
DTSTAMP:20260420T112406
CREATED:20250312T225504Z
LAST-MODIFIED:20250312T225504Z
UID:49778-1742551200-1742551200@www.latrobe.edu.au
SUMMARY:Art for Respect: Creative Workshop & Free Food
DESCRIPTION:Join us for Art for Respect\, a creative workshop during Respect Week! Express yourself through art while exploring respect\, inclusion\, and safety themes. Your artwork might contribute to the Prevention and Inclusion team’s branding\, helping promote a respectful and safe university community. Plus\, enjoy free food and learn about support services available to you. By attending\, you will also go in a raffle to win a voucher worth $250. No art experience needed—just bring an open mind and have a good time getting creative in the beautiful Art Therapy space on Bundoora campus!
URL:https://www.latrobe.edu.au/mylatrobe/event/art-for-respect-creative-workshop-free-food/
CATEGORIES:Bundoora
END:VEVENT
BEGIN:VEVENT
DTSTART;TZID=Australia/Melbourne:20250320T113000
DTEND;TZID=Australia/Melbourne:20250320T113000
DTSTAMP:20260420T112406
CREATED:20250312T225503Z
LAST-MODIFIED:20250312T225503Z
UID:49773-1742470200-1742470200@www.latrobe.edu.au
SUMMARY:Market Day
DESCRIPTION:Club stalls/promotions/music/BBQ
URL:https://www.latrobe.edu.au/mylatrobe/event/market-day-19/
LOCATION:Agora
CATEGORIES:Bundoora
END:VEVENT
BEGIN:VEVENT
DTSTART;TZID=Australia/Melbourne:20250319T110000
DTEND;TZID=Australia/Melbourne:20250319T110000
DTSTAMP:20260420T112406
CREATED:20250312T225502Z
LAST-MODIFIED:20250312T225502Z
UID:49764-1742382000-1742382000@www.latrobe.edu.au
SUMMARY:Neurodiversity Celebration Week Activation
DESCRIPTION:Learn more about neurodiversity and neurotypes\, celebrate the achievements of neurominority staff and students of La Trobe University
URL:https://www.latrobe.edu.au/mylatrobe/event/neurodiversity-celebration-week-activation/
CATEGORIES:Bundoora
END:VEVENT
BEGIN:VEVENT
DTSTART;TZID=Australia/Melbourne:20250319T090000
DTEND;TZID=Australia/Melbourne:20250319T090000
DTSTAMP:20260420T112406
CREATED:20250312T225405Z
LAST-MODIFIED:20250312T225405Z
UID:49762-1742374800-1742374800@www.latrobe.edu.au
SUMMARY:Harmony Week
DESCRIPTION:Grab a FREE coffee on campus and your Harmony coloured cupcake to keep you going and celebrate diversity on campus!
URL:https://www.latrobe.edu.au/mylatrobe/event/harmony-week-4/
CATEGORIES:Bundoora
END:VEVENT
BEGIN:VEVENT
DTSTART;TZID=Australia/Melbourne:20250318T130000
DTEND;TZID=Australia/Melbourne:20250318T130000
DTSTAMP:20260420T112406
CREATED:20250312T225405Z
LAST-MODIFIED:20250312T225405Z
UID:49754-1742302800-1742302800@www.latrobe.edu.au
SUMMARY:Exploring career options with your degree
DESCRIPTION:Broaden your perspective on potential career pathways.
URL:https://www.latrobe.edu.au/mylatrobe/event/exploring-career-options-with-your-degree-3/
CATEGORIES:Bundoora
END:VEVENT
BEGIN:VEVENT
DTSTART;TZID=Australia/Melbourne:20250317T180000
DTEND;TZID=Australia/Melbourne:20250317T180000
DTSTAMP:20260420T112406
CREATED:20250312T225404Z
LAST-MODIFIED:20250312T225404Z
UID:49745-1742234400-1742234400@www.latrobe.edu.au
SUMMARY:La Trobe League Mixed Futsal - Season 1 Commences
DESCRIPTION:Round 1 of the La Trobe League (social) Mixed Futsal season tips off!
URL:https://www.latrobe.edu.au/mylatrobe/event/la-trobe-league-mixed-futsal-season-1-commences/
CATEGORIES:Bundoora
END:VEVENT
BEGIN:VEVENT
DTSTART;TZID=Australia/Melbourne:20250317T120000
DTEND;TZID=Australia/Melbourne:20250317T120000
DTSTAMP:20260420T112406
CREATED:20250312T225404Z
LAST-MODIFIED:20250312T225404Z
UID:49744-1742212800-1742212800@www.latrobe.edu.au
SUMMARY:Breaking down and getting ready for the March / April graduate recruitment season.
DESCRIPTION:As the peak recruitment season for graduate programs begins\, industry experts will share valuable insights & tips on how to successfully navigate this period & breakdown what a graduate program actually is.
URL:https://www.latrobe.edu.au/mylatrobe/event/breaking-down-and-getting-ready-for-the-march-april-graduate-recruitment-season/
CATEGORIES:Bundoora
END:VEVENT
BEGIN:VEVENT
DTSTART;TZID=Australia/Melbourne:20250315T160000
DTEND;TZID=Australia/Melbourne:20250315T160000
DTSTAMP:20260420T112406
CREATED:20250312T225404Z
LAST-MODIFIED:20250312T225404Z
UID:49739-1742054400-1742054400@www.latrobe.edu.au
SUMMARY:La Trobe League Mixed Basketball - Season 1 Commences
DESCRIPTION:Round 1 of the La Trobe League (social) Mixed Basketball season tips off!
URL:https://www.latrobe.edu.au/mylatrobe/event/la-trobe-league-mixed-basketball-season-1-commences/
CATEGORIES:Bundoora
END:VEVENT
BEGIN:VEVENT
DTSTART;TZID=Australia/Melbourne:20250313T113000
DTEND;TZID=Australia/Melbourne:20250313T113000
DTSTAMP:20260420T112406
CREATED:20250312T230927Z
LAST-MODIFIED:20250312T230927Z
UID:49726-1741865400-1741865400@www.latrobe.edu.au
SUMMARY:Market Day
DESCRIPTION:Club stalls/promotions/music/BBQ
URL:https://www.latrobe.edu.au/mylatrobe/event/market-day-27/
LOCATION:Agora
CATEGORIES:Bundoora
END:VEVENT
BEGIN:VEVENT
DTSTART;TZID=Australia/Melbourne:20250313T113000
DTEND;TZID=Australia/Melbourne:20250313T113000
DTSTAMP:20260420T112406
CREATED:20250312T225403Z
LAST-MODIFIED:20250312T225403Z
UID:49727-1741865400-1741865400@www.latrobe.edu.au
SUMMARY:Sands & Safety: Safe Life Saving Beach Safety Training
DESCRIPTION:A fun and educational beach day teaching essential beach safety skills\, led by Surf Life Saving experts\, to help international students enjoy Australian beaches safely.
URL:https://www.latrobe.edu.au/mylatrobe/event/sands-safety-safe-life-saving-beach-safety-training/
CATEGORIES:Bundoora
END:VEVENT
BEGIN:VEVENT
DTSTART;TZID=Australia/Melbourne:20250225T110000
DTEND;TZID=Australia/Melbourne:20250225T140000
DTSTAMP:20260420T112406
CREATED:20250219T222412Z
LAST-MODIFIED:20250219T222414Z
UID:48911-1740481200-1740492000@www.latrobe.edu.au
SUMMARY:Welcome Festival: Melbourne (Bundoora)
DESCRIPTION:Location: Agora \n\n\n\nJoin the Wominjeka Ceremonies and Day 1 Festivals at our Melbourne (Bundoora) campus! \n\n\n\nThis event is designed for all students.
URL:https://www.latrobe.edu.au/mylatrobe/event/welcome-festival-melbourne-bundoora-2/
CATEGORIES:Bundoora
ATTACH;FMTTYPE=image/png:https://www.latrobe.edu.au/mylatrobe/wp-content/uploads/2025/02/Bundoora-O-Week-image_WordPress-Article-650-x-400-1.png
END:VEVENT
BEGIN:VEVENT
DTSTART;TZID=Australia/Melbourne:20250224T110000
DTEND;TZID=Australia/Melbourne:20250224T140000
DTSTAMP:20260420T112406
CREATED:20250219T054813Z
LAST-MODIFIED:20250219T222121Z
UID:48893-1740394800-1740405600@www.latrobe.edu.au
SUMMARY:Welcome Festival: Melbourne (Bundoora)
DESCRIPTION:Location: Agora \n\n\n\nJoin the Wominjeka Ceremonies and Day 1 Festivals at our Melbourne (Bundoora) campus! \n\n\n\nThis event is designed for all students.
URL:https://www.latrobe.edu.au/mylatrobe/event/welcome-festival-melbourne-bundoora/
CATEGORIES:Bundoora
ATTACH;FMTTYPE=image/png:https://www.latrobe.edu.au/mylatrobe/wp-content/uploads/2025/02/Bundoora-Agora_O-Week-image_WordPress-Article-650-x-400.png
END:VEVENT
END:VCALENDAR