BEGIN:VCALENDAR
VERSION:2.0
PRODID:-//MyLaTrobe - ECPv6.15.20//NONSGML v1.0//EN
CALSCALE:GREGORIAN
METHOD:PUBLISH
X-ORIGINAL-URL:https://www.latrobe.edu.au/mylatrobe
X-WR-CALDESC:Events for MyLaTrobe
REFRESH-INTERVAL;VALUE=DURATION:PT1H
X-Robots-Tag:noindex
X-PUBLISHED-TTL:PT1H
BEGIN:VTIMEZONE
TZID:Australia/Melbourne
BEGIN:STANDARD
TZOFFSETFROM:+1100
TZOFFSETTO:+1000
TZNAME:AEST
DTSTART:20240406T160000
END:STANDARD
BEGIN:DAYLIGHT
TZOFFSETFROM:+1000
TZOFFSETTO:+1100
TZNAME:AEDT
DTSTART:20241005T160000
END:DAYLIGHT
BEGIN:STANDARD
TZOFFSETFROM:+1100
TZOFFSETTO:+1000
TZNAME:AEST
DTSTART:20250405T160000
END:STANDARD
BEGIN:DAYLIGHT
TZOFFSETFROM:+1000
TZOFFSETTO:+1100
TZNAME:AEDT
DTSTART:20251004T160000
END:DAYLIGHT
BEGIN:STANDARD
TZOFFSETFROM:+1100
TZOFFSETTO:+1000
TZNAME:AEST
DTSTART:20260404T160000
END:STANDARD
BEGIN:DAYLIGHT
TZOFFSETFROM:+1000
TZOFFSETTO:+1100
TZNAME:AEDT
DTSTART:20261003T160000
END:DAYLIGHT
END:VTIMEZONE
BEGIN:VEVENT
DTSTART;TZID=Australia/Melbourne:20250507T080000
DTEND;TZID=Australia/Melbourne:20250507T080000
DTSTAMP:20260420T081521
CREATED:20250312T230419Z
LAST-MODIFIED:20250312T230419Z
UID:49897-1746604800-1746604800@www.latrobe.edu.au
SUMMARY:Monthly Bikers Breakfast - Staff & Students
DESCRIPTION:Ride your bike to Campus and get a free breakfast on us!
URL:https://www.latrobe.edu.au/mylatrobe/event/monthly-bikers-breakfast-staff-students-3/
CATEGORIES:Bundoora
END:VEVENT
BEGIN:VEVENT
DTSTART;TZID=Australia/Melbourne:20250506T183000
DTEND;TZID=Australia/Melbourne:20250506T183000
DTSTAMP:20260420T081521
CREATED:20250312T230418Z
LAST-MODIFIED:20250312T230418Z
UID:49895-1746556200-1746556200@www.latrobe.edu.au
SUMMARY:Community canvas: Draw and connect
DESCRIPTION:A creative therapy program for international students from Asia (ages 18-25) to relax\, focus\, and express emotions through art and music. Held Tuesdays\, 6:30–8:00 PM at La Trobe University’s City Campus\, sessions are led by Registered Therapists Stef Kam and Tanya Setyawan. Each session supports mental well-being (not a therapy replacement) and welcomes 10-25 attendees. Students can join up to eight sessions.
URL:https://www.latrobe.edu.au/mylatrobe/event/community-canvas-draw-and-connect/
CATEGORIES:Bundoora
END:VEVENT
BEGIN:VEVENT
DTSTART;TZID=Australia/Melbourne:20250506T174500
DTEND;TZID=Australia/Melbourne:20250506T174500
DTSTAMP:20260420T081521
CREATED:20250312T225817Z
LAST-MODIFIED:20250312T225817Z
UID:49894-1746553500-1746553500@www.latrobe.edu.au
SUMMARY:Twilight Tour
DESCRIPTION:Join us for a twilight tour of Nangak Tamboree Wildlife Sanctuary. We’ll hopefully see possums\, bats\, birds\, the odd gecko and other local wildlife out here in the bush.Bookings are essential.
URL:https://www.latrobe.edu.au/mylatrobe/event/twilight-tour-11/
LOCATION:Nangak Tamboree Wildlife Sanctuary\, La Trobe Avenue\, Bundoora\, Victoria\, 3086\, Australia
CATEGORIES:Bundoora
END:VEVENT
BEGIN:VEVENT
DTSTART;TZID=Australia/Melbourne:20250504T210000
DTEND;TZID=Australia/Melbourne:20250504T210000
DTSTAMP:20260420T081521
CREATED:20250312T225817Z
LAST-MODIFIED:20250401T060717Z
UID:49891-1746392400-1746392400@www.latrobe.edu.au
SUMMARY:Wings For Life World Run
DESCRIPTION:At the Wings for Life World Run\, everyone starts at the same time\, worldwide. Professional athletes\, fun runners and total beginners are all in it together against the Catcher Car. The moving finish line\, the Catcher Car begins its pursuit 30 minutes after the start\, passing runners and wheelchair users one after the other until the race is over. The best bit? 100% of all entry fees and donations goes directly to spinal cord research to find a cure for spinal cord injury.
URL:https://www.latrobe.edu.au/mylatrobe/event/wings-for-life-world-run-2/
CATEGORIES:Bundoora
END:VEVENT
BEGIN:VEVENT
DTSTART;TZID=Australia/Melbourne:20250501T113000
DTEND;TZID=Australia/Melbourne:20250501T113000
DTSTAMP:20260420T081521
CREATED:20250312T225816Z
LAST-MODIFIED:20250312T225816Z
UID:49889-1746099000-1746099000@www.latrobe.edu.au
SUMMARY:Market Day
DESCRIPTION:Club stalls/promotions/music/BBQ
URL:https://www.latrobe.edu.au/mylatrobe/event/market-day-23/
LOCATION:Agora
CATEGORIES:Bundoora
END:VEVENT
BEGIN:VEVENT
DTSTART;TZID=Australia/Melbourne:20250430T123000
DTEND;TZID=Australia/Melbourne:20250430T140000
DTSTAMP:20260420T081521
CREATED:20250407T020610Z
LAST-MODIFIED:20250407T232301Z
UID:50808-1746016200-1746021600@www.latrobe.edu.au
SUMMARY:UpWrite Student Showcase
DESCRIPTION:The UpWrite Student Showcase is a celebration of original creative work produced in our undergraduate writing subjects\, including fiction\, creative non-fiction\, script and screenplays\, poetry and protest writing.  \n\n\n\nWe welcome all students and supporters to come and enjoy the works of our talented students. Refreshments will also be provided. Registrations are essential. \n\n\n\n\n\n\n\n\n\nHosted by the Department of Languages and Cultures\, La Trobe Library and the Student Event Services Team.
URL:https://www.latrobe.edu.au/mylatrobe/event/upwrite-student-showcase/
LOCATION:Seminar Room 1.34 in the Library (La Trobe University\, Bundoora)\, Plenty Rd\, Plenty Rd\, Bundoora VIC\, VIC\, 3086
CATEGORIES:Bundoora
END:VEVENT
BEGIN:VEVENT
DTSTART;TZID=Australia/Melbourne:20250429T123000
DTEND;TZID=Australia/Melbourne:20250429T133000
DTSTAMP:20260420T081521
CREATED:20250407T024329Z
LAST-MODIFIED:20250414T020900Z
UID:50823-1745929800-1745933400@www.latrobe.edu.au
SUMMARY:Launches at the Library
DESCRIPTION:Do you love historical crime fiction? Top-shelf literary fiction? Cold-blooded killers\, grief-stricken widows\, famous artists\, independent women with sharp minds and large fortunes and a cap doffed to Jane Austen’s 250th birthday? \n\n\n\nThe first Launches at the Library for 2025 has it all. \n\n\n\nCome hear the authors of Miss Caroline Bingley\, Private Detective\, Kelly Gardiner and Sharmini Kumar\, along with the author of Diving\, Falling\, Kylie Mirmomahadi\, as we celebrate the publication of these outstanding books\, in conversation with Stella Prize winning novelist\, Carrie Tiffany. \n\n\n\nLaunches at the Library are curated and hosted by Professor Clare Wright\, Professor of Public Engagement and supported by the Office of the Vice-Chancellor. \n\n\n\nLight refreshments available. Catch up on previous Launches @ the Library via the Literary La Trobe podcast (wherever you get your podcasts from)
URL:https://www.latrobe.edu.au/mylatrobe/event/launches-at-the-library/
LOCATION:Library Trobe University Library Melbourne (Bundoora)\, Plenty Rd\, Plenty Rd\, Bundoora VIC\, VIC\, 3086
CATEGORIES:Bundoora
ATTACH;FMTTYPE=image/png:https://www.latrobe.edu.au/mylatrobe/wp-content/uploads/2025/04/website-thumbnail.png
END:VEVENT
BEGIN:VEVENT
DTSTART;TZID=Australia/Melbourne:20250429T120000
DTEND;TZID=Australia/Melbourne:20250429T120000
DTSTAMP:20260420T081521
CREATED:20250312T225815Z
LAST-MODIFIED:20250312T225815Z
UID:49878-1745928000-1745928000@www.latrobe.edu.au
SUMMARY:Understanding Australian Workplace Culture for International Students
DESCRIPTION:This is an online session providing information on working at Australia and important insights for international students across different campuses and disciplines
URL:https://www.latrobe.edu.au/mylatrobe/event/understanding-australian-workplace-culture-for-international-students/
CATEGORIES:Bundoora
END:VEVENT
BEGIN:VEVENT
DTSTART;TZID=Australia/Melbourne:20250428T180000
DTEND;TZID=Australia/Melbourne:20250428T180000
DTSTAMP:20260420T081521
CREATED:20250312T225815Z
LAST-MODIFIED:20250312T225815Z
UID:49874-1745863200-1745863200@www.latrobe.edu.au
SUMMARY:Twilight Tour
DESCRIPTION:Join us for a twilight tour of Nangak Tamboree Wildlife Sanctuary. We’ll hopefully see possums\, bats\, birds\, the odd gecko and other local wildlife out here in the bush.Bookings are essential.
URL:https://www.latrobe.edu.au/mylatrobe/event/twilight-tour-10/
LOCATION:Nangak Tamboree Wildlife Sanctuary\, La Trobe Avenue\, Bundoora\, Victoria\, 3086\, Australia
CATEGORIES:Bundoora
END:VEVENT
BEGIN:VEVENT
DTSTART;TZID=Australia/Melbourne:20250428T120000
DTEND;TZID=Australia/Melbourne:20250428T140000
DTSTAMP:20260420T081521
CREATED:20250312T225815Z
LAST-MODIFIED:20250326T224711Z
UID:49873-1745841600-1745848800@www.latrobe.edu.au
SUMMARY:Funday Monday
DESCRIPTION:Music & Free gelati in the Agora
URL:https://www.latrobe.edu.au/mylatrobe/event/funday-monday-3/
LOCATION:Agora
CATEGORIES:Bundoora
ATTACH;FMTTYPE=image/png:https://www.latrobe.edu.au/mylatrobe/wp-content/uploads/2025/03/WordPress-Article-650-x-400-4.png
END:VEVENT
BEGIN:VEVENT
DTSTART;TZID=Australia/Melbourne:20250427T181500
DTEND;TZID=Australia/Melbourne:20250427T181500
DTSTAMP:20260420T081521
CREATED:20250312T225815Z
LAST-MODIFIED:20250312T225815Z
UID:49871-1745777700-1745777700@www.latrobe.edu.au
SUMMARY:Twilight Tour
DESCRIPTION:Join us for a twilight tour of Nangak Tamboree Wildlife Sanctuary. We’ll hopefully see possums\, bats\, birds\, the odd gecko and other local wildlife out here in the bush.Bookings are essential.
URL:https://www.latrobe.edu.au/mylatrobe/event/twilight-tour-9/
LOCATION:Nangak Tamboree Wildlife Sanctuary\, La Trobe Avenue\, Bundoora\, Victoria\, 3086\, Australia
CATEGORIES:Bundoora
END:VEVENT
BEGIN:VEVENT
DTSTART;TZID=Australia/Melbourne:20250427T173000
DTEND;TZID=Australia/Melbourne:20250427T173000
DTSTAMP:20260420T081521
CREATED:20250312T225815Z
LAST-MODIFIED:20250312T225815Z
UID:49870-1745775000-1745775000@www.latrobe.edu.au
SUMMARY:Frog Census
DESCRIPTION:Come and learn all about the frogs that call the Sanctuary home from our very own frog expert\, David De Angelis. Bookings are essential.
URL:https://www.latrobe.edu.au/mylatrobe/event/frog-census/
LOCATION:Nangak Tamboree Wildlife Sanctuary\, La Trobe Avenue\, Bundoora\, Victoria\, 3086\, Australia
CATEGORIES:Bundoora
END:VEVENT
BEGIN:VEVENT
DTSTART;TZID=Australia/Melbourne:20250426T080000
DTEND;TZID=Australia/Melbourne:20250426T080000
DTSTAMP:20260420T081521
CREATED:20250312T225815Z
LAST-MODIFIED:20250312T225815Z
UID:49865-1745654400-1745654400@www.latrobe.edu.au
SUMMARY:Fish Survey
DESCRIPTION:Enjoy a walk through the sanctuary at a time it is usually closed to the public. The day will begin with a survey to search for everything from flashy lorikeets to mysterious ‘little brown things’. This will be followed by a light breakfast in the Yellowbox Hut.Bookings are essential.
URL:https://www.latrobe.edu.au/mylatrobe/event/fish-survey/
LOCATION:Nangak Tamboree Wildlife Sanctuary\, La Trobe Avenue\, Bundoora\, Victoria\, 3086\, Australia
CATEGORIES:Bundoora
END:VEVENT
BEGIN:VEVENT
DTSTART;TZID=Australia/Melbourne:20250417T143000
DTEND;TZID=Australia/Melbourne:20250417T160000
DTSTAMP:20260420T081521
CREATED:20250317T220821Z
LAST-MODIFIED:20250317T220826Z
UID:50279-1744900200-1744905600@www.latrobe.edu.au
SUMMARY:Finding Pride – Semester 1 program
DESCRIPTION:Free group program for all LGBTIQA+ La Trobe students\, offering resilience-building skills and peer connection to support wellbeing.  \n\n\n\nMust register prior to Mon 24 Mar to attend full program of 7 x 1.5hr sessions. \n\n\n\nRoom location shared upon registration. This is an in person event.
URL:https://www.latrobe.edu.au/mylatrobe/event/finding-pride-semester-1-program-4/
LOCATION:La Trobe Melbourne (Bundoora) campus\, Plenty Rd\, Bundoora\, VIC\, 3086\, Australia
CATEGORIES:Bundoora
END:VEVENT
BEGIN:VEVENT
DTSTART;TZID=Australia/Melbourne:20250417T113000
DTEND;TZID=Australia/Melbourne:20250417T113000
DTSTAMP:20260420T081521
CREATED:20250312T225653Z
LAST-MODIFIED:20250312T225653Z
UID:49860-1744889400-1744889400@www.latrobe.edu.au
SUMMARY:Market Day
DESCRIPTION:Club stalls/promotions/music/BBQ
URL:https://www.latrobe.edu.au/mylatrobe/event/market-day-22/
LOCATION:Agora
CATEGORIES:Bundoora
END:VEVENT
BEGIN:VEVENT
DTSTART;TZID=Australia/Melbourne:20250417T070000
DTEND;TZID=Australia/Melbourne:20250417T070000
DTSTAMP:20260420T081521
CREATED:20250312T225653Z
LAST-MODIFIED:20250312T225653Z
UID:49855-1744873200-1744873200@www.latrobe.edu.au
SUMMARY:Breakfast with the Birds
DESCRIPTION:Join Native Fish Australia (Vic) to conduct a fish survey and learn more about our native (and introduced) fish species.Bookings are essential.
URL:https://www.latrobe.edu.au/mylatrobe/event/breakfast-with-the-birds/
LOCATION:Nangak Tamboree Wildlife Sanctuary\, La Trobe Avenue\, Bundoora\, Victoria\, 3086\, Australia
CATEGORIES:Bundoora
END:VEVENT
BEGIN:VEVENT
DTSTART;TZID=Australia/Melbourne:20250416T090000
DTEND;TZID=Australia/Melbourne:20250416T090000
DTSTAMP:20260420T081521
CREATED:20250312T225652Z
LAST-MODIFIED:20250326T234713Z
UID:49854-1744794000-1744794000@www.latrobe.edu.au
SUMMARY:Mid Week Caffeine Fix
DESCRIPTION:Grab a FREE coffee on campus to keep you going!
URL:https://www.latrobe.edu.au/mylatrobe/event/mid-week-caffeine-fix-2/
CATEGORIES:Bundoora
ATTACH;FMTTYPE=image/png:https://www.latrobe.edu.au/mylatrobe/wp-content/uploads/2025/03/Free-coffee_WordPress-Article-650-x-400.png
END:VEVENT
BEGIN:VEVENT
DTSTART;TZID=Australia/Melbourne:20250415T183000
DTEND;TZID=Australia/Melbourne:20250415T183000
DTSTAMP:20260420T081521
CREATED:20250312T225652Z
LAST-MODIFIED:20250312T225652Z
UID:49849-1744741800-1744741800@www.latrobe.edu.au
SUMMARY:Lyric magic: Co-create a group song
DESCRIPTION:A creative therapy program for international students from Asia (ages 18-25) to relax\, focus\, and express emotions through art and music. Held Tuesdays\, 6:30–8:00 PM at La Trobe University’s City Campus\, sessions are led by Registered Therapists Stef Kam and Tanya Setyawan. Each session supports mental well-being (not a therapy replacement) and welcomes 10-25 attendees. Students can join up to eight sessions.
URL:https://www.latrobe.edu.au/mylatrobe/event/lyric-magic-co-create-a-group-song-2/
CATEGORIES:Bundoora
END:VEVENT
BEGIN:VEVENT
DTSTART;TZID=Australia/Melbourne:20250410T143000
DTEND;TZID=Australia/Melbourne:20250410T160000
DTSTAMP:20260420T081521
CREATED:20250317T220634Z
LAST-MODIFIED:20250317T220638Z
UID:50277-1744295400-1744300800@www.latrobe.edu.au
SUMMARY:Finding Pride – Semester 1 program
DESCRIPTION:Free group program for all LGBTIQA+ La Trobe students\, offering resilience-building skills and peer connection to support wellbeing.  \n\n\n\nMust register prior to Mon 24 Mar to attend full program of 7 x 1.5hr sessions. \n\n\n\nRoom location shared upon registration. This is an in person event.
URL:https://www.latrobe.edu.au/mylatrobe/event/finding-pride-semester-1-program-3/
LOCATION:La Trobe Melbourne (Bundoora) campus\, Plenty Rd\, Bundoora\, VIC\, 3086\, Australia
CATEGORIES:Bundoora
END:VEVENT
BEGIN:VEVENT
DTSTART;TZID=Australia/Melbourne:20250410T113000
DTEND;TZID=Australia/Melbourne:20250410T113000
DTSTAMP:20260420T081521
CREATED:20250312T225652Z
LAST-MODIFIED:20250312T225652Z
UID:49846-1744284600-1744284600@www.latrobe.edu.au
SUMMARY:Market Day
DESCRIPTION:Club stalls/promotions/music/BBQ
URL:https://www.latrobe.edu.au/mylatrobe/event/market-day-21/
LOCATION:Agora
CATEGORIES:Bundoora
END:VEVENT
BEGIN:VEVENT
DTSTART;TZID=Australia/Melbourne:20250410T110000
DTEND;TZID=Australia/Melbourne:20250410T110000
DTSTAMP:20260420T081521
CREATED:20250312T225651Z
LAST-MODIFIED:20250312T225651Z
UID:49843-1744282800-1744282800@www.latrobe.edu.au
SUMMARY:Queen Victoria Market Foodie Tour
DESCRIPTION:The Queen Victoria Market Foodie Tour is a fantastic experience designed to welcome new international students to Melbourne\, taking them through the iconic market\, introducing them to local and international cuisines\, fresh produce\, and cultural delicacies.
URL:https://www.latrobe.edu.au/mylatrobe/event/queen-victoria-market-foodie-tour/
CATEGORIES:Bundoora
END:VEVENT
BEGIN:VEVENT
DTSTART;TZID=Australia/Melbourne:20250408T183000
DTEND;TZID=Australia/Melbourne:20250408T183000
DTSTAMP:20260420T081521
CREATED:20250312T225651Z
LAST-MODIFIED:20250312T225651Z
UID:49834-1744137000-1744137000@www.latrobe.edu.au
SUMMARY:Part 2 - Playlist Vibets: Design your personal music cover
DESCRIPTION:A creative therapy program for international students from Asia (ages 18-25) to relax\, focus\, and express emotions through art and music. Held Tuesdays\, 6:30–8:00 PM at La Trobe University’s City Campus\, sessions are led by Registered Therapists Stef Kam and Tanya Setyawan. Each session supports mental well-being (not a therapy replacement) and welcomes 10-25 attendees. Students can join up to eight sessions.
URL:https://www.latrobe.edu.au/mylatrobe/event/part-2-playlist-vibets-design-your-personal-music-cover/
CATEGORIES:Bundoora
END:VEVENT
BEGIN:VEVENT
DTSTART;TZID=Australia/Melbourne:20250407T120000
DTEND;TZID=Australia/Melbourne:20250407T140000
DTSTAMP:20260420T081521
CREATED:20250312T225558Z
LAST-MODIFIED:20250326T224858Z
UID:49830-1744027200-1744034400@www.latrobe.edu.au
SUMMARY:Funday Monday
DESCRIPTION:Music & Free gelati in the Agora
URL:https://www.latrobe.edu.au/mylatrobe/event/funday-monday-2/
LOCATION:Agora
CATEGORIES:Bundoora
ATTACH;FMTTYPE=image/png:https://www.latrobe.edu.au/mylatrobe/wp-content/uploads/2025/03/WordPress-Article-650-x-400-4.png
END:VEVENT
BEGIN:VEVENT
DTSTART;TZID=Australia/Melbourne:20250405T080000
DTEND;TZID=Australia/Melbourne:20250405T080000
DTSTAMP:20260420T081521
CREATED:20250312T225558Z
LAST-MODIFIED:20250401T060539Z
UID:49823-1743840000-1743840000@www.latrobe.edu.au
SUMMARY:Autumn Cycling Classic @ La Trobe including the LTU Social Cycle
DESCRIPTION:One of Australia’s largest cycling events which takes place at the Bundoora Campus. Student can take part in competitive racing or join the LTU Social Cycle to experience the race course on any bike in a relaxed social setting followed by a free coffee. “For updated event information please visit – https://www.revolutionise.com.au/latrobesport/events/276983′
URL:https://www.latrobe.edu.au/mylatrobe/event/autumn-cycling-classic-la-trobe-including-the-ltu-social-cycle-2/
CATEGORIES:Bundoora
END:VEVENT
BEGIN:VEVENT
DTSTART;TZID=Australia/Melbourne:20250403T143000
DTEND;TZID=Australia/Melbourne:20250403T160000
DTSTAMP:20260420T081521
CREATED:20250317T220402Z
LAST-MODIFIED:20250317T220406Z
UID:50275-1743690600-1743696000@www.latrobe.edu.au
SUMMARY:Finding Pride – Semester 1 program
DESCRIPTION:Free group program for all LGBTIQA+ La Trobe students\, offering resilience-building skills and peer connection to support wellbeing.  \n\n\n\nMust register prior to Mon 24 Mar to attend full program of 7 x 1.5hr sessions. \n\n\n\nRoom location shared upon registration. This is an in person event.
URL:https://www.latrobe.edu.au/mylatrobe/event/finding-pride-semester-1-program-2/
LOCATION:La Trobe Melbourne (Bundoora) campus\, Plenty Rd\, Bundoora\, VIC\, 3086\, Australia
CATEGORIES:Bundoora
END:VEVENT
BEGIN:VEVENT
DTSTART;TZID=Australia/Melbourne:20250403T113000
DTEND;TZID=Australia/Melbourne:20250403T113000
DTSTAMP:20260420T081521
CREATED:20250312T225558Z
LAST-MODIFIED:20250312T225558Z
UID:49827-1743679800-1743679800@www.latrobe.edu.au
SUMMARY:Market Day
DESCRIPTION:Club stalls/promotions/music/BBQ
URL:https://www.latrobe.edu.au/mylatrobe/event/market-day-20/
LOCATION:Agora
CATEGORIES:Bundoora
END:VEVENT
BEGIN:VEVENT
DTSTART;TZID=Australia/Melbourne:20250403T110000
DTEND;TZID=Australia/Melbourne:20250403T130000
DTSTAMP:20260420T081521
CREATED:20250305T234821Z
LAST-MODIFIED:20250305T235331Z
UID:49084-1743678000-1743685200@www.latrobe.edu.au
SUMMARY:Study Abroad Expo 2025
DESCRIPTION:Interested in studying overseas as part of your La Trobe degree? Come along to the Study Abroad Expo to learn how you can explore the world as part of your La Trobe degree. \n\n\n\nWhat to expect: \n\n\n\n\nExplore Programs: Discover all the exciting study abroad options available\n\n\n\nMeet Experts: Chat with representatives from partner universities around the world\n\n\n\nGet Inspired: Hear from students who have studied abroad\n\n\n\n\nFun perks: \n\n\n\n\nSnack and Stroll: Enjoy complimentary snacks while you explore the Expo\n\n\n\nVisit and Win: Visit the Expo and enter the draw for a chance to win exciting prizes!\n\n\n\n\nStay in the loop! Register now for updates.
URL:https://www.latrobe.edu.au/mylatrobe/event/study-abroad-expo-2025/
LOCATION:Agora\, Melbourne (Bundoora) Campus\, Plenty Rd & Kingsbury Drive Bundoora Victoria 3086
CATEGORIES:Bundoora
ATTACH;FMTTYPE=image/png:https://www.latrobe.edu.au/mylatrobe/wp-content/uploads/2025/03/Event_WordPress-Article-650-x-400.png
END:VEVENT
BEGIN:VEVENT
DTSTART;TZID=Australia/Melbourne:20250403T110000
DTEND;TZID=Australia/Melbourne:20250403T110000
DTSTAMP:20260420T081521
CREATED:20250312T225557Z
LAST-MODIFIED:20250330T230715Z
UID:49820-1743678000-1743678000@www.latrobe.edu.au
SUMMARY:Study Abroad Expo
DESCRIPTION:Explore all the available overseas Programs – Semester and Short Term programs. Meet some of our overseas partners and find out how you can study overseas!
URL:https://www.latrobe.edu.au/mylatrobe/event/study-abroad-expo/
LOCATION:Agora
CATEGORIES:Bundoora
END:VEVENT
BEGIN:VEVENT
DTSTART;TZID=Australia/Melbourne:20250402T120000
DTEND;TZID=Australia/Melbourne:20250402T120000
DTSTAMP:20260420T081521
CREATED:20250312T225557Z
LAST-MODIFIED:20250312T225557Z
UID:49821-1743595200-1743595200@www.latrobe.edu.au
SUMMARY:LinkedIn Photoshoot
DESCRIPTION:Professional photographer taking headshots for use on students’ LinkedIn profiles
URL:https://www.latrobe.edu.au/mylatrobe/event/linkedin-photoshoot/
CATEGORIES:Bundoora
END:VEVENT
BEGIN:VEVENT
DTSTART;TZID=Australia/Melbourne:20250402T090000
DTEND;TZID=Australia/Melbourne:20250402T100000
DTSTAMP:20260420T081521
CREATED:20250331T235315Z
LAST-MODIFIED:20250331T235526Z
UID:50594-1743584400-1743588000@www.latrobe.edu.au
SUMMARY:Mid Week Caffeine Fix
DESCRIPTION:Grab a FREE coffee on campus to keep you going!
URL:https://www.latrobe.edu.au/mylatrobe/event/mid-week-caffeine-fix-6/
LOCATION:Chapter 2 Cafe\, Melbourne (Bundoora) campus library\, Plenty Rd\, Plenty Rd\, Bundoora VIC\, 3086\, Australia
CATEGORIES:Bundoora
ATTACH;FMTTYPE=image/png:https://www.latrobe.edu.au/mylatrobe/wp-content/uploads/2025/03/Free-coffee_WordPress-Article-650-x-400.png
END:VEVENT
END:VCALENDAR