BEGIN:VCALENDAR
VERSION:2.0
PRODID:-//MyLaTrobe - ECPv6.15.20//NONSGML v1.0//EN
CALSCALE:GREGORIAN
METHOD:PUBLISH
X-ORIGINAL-URL:https://www.latrobe.edu.au/mylatrobe
X-WR-CALDESC:Events for MyLaTrobe
REFRESH-INTERVAL;VALUE=DURATION:PT1H
X-Robots-Tag:noindex
X-PUBLISHED-TTL:PT1H
BEGIN:VTIMEZONE
TZID:Australia/Melbourne
BEGIN:STANDARD
TZOFFSETFROM:+1100
TZOFFSETTO:+1000
TZNAME:AEST
DTSTART:20230401T160000
END:STANDARD
BEGIN:DAYLIGHT
TZOFFSETFROM:+1000
TZOFFSETTO:+1100
TZNAME:AEDT
DTSTART:20230930T160000
END:DAYLIGHT
BEGIN:STANDARD
TZOFFSETFROM:+1100
TZOFFSETTO:+1000
TZNAME:AEST
DTSTART:20240406T160000
END:STANDARD
BEGIN:DAYLIGHT
TZOFFSETFROM:+1000
TZOFFSETTO:+1100
TZNAME:AEDT
DTSTART:20241005T160000
END:DAYLIGHT
BEGIN:STANDARD
TZOFFSETFROM:+1100
TZOFFSETTO:+1000
TZNAME:AEST
DTSTART:20250405T160000
END:STANDARD
BEGIN:DAYLIGHT
TZOFFSETFROM:+1000
TZOFFSETTO:+1100
TZNAME:AEDT
DTSTART:20251004T160000
END:DAYLIGHT
END:VTIMEZONE
BEGIN:VEVENT
DTSTART;TZID=Australia/Melbourne:20240318T120000
DTEND;TZID=Australia/Melbourne:20240318T140000
DTSTAMP:20260420T084200
CREATED:20240320T233924Z
LAST-MODIFIED:20240321T042028Z
UID:43582-1710763200-1710770400@www.latrobe.edu.au
SUMMARY:Weekly Activation - Funday Monday
DESCRIPTION:Chill out with music\, free gelato and lawn games in the Ag. 
URL:https://www.latrobe.edu.au/mylatrobe/event/weekly-activation-funday-monday-7/
LOCATION:Agora
CATEGORIES:Bundoora
END:VEVENT
BEGIN:VEVENT
DTSTART;TZID=Australia/Melbourne:20240318T140000
DTEND;TZID=Australia/Melbourne:20240318T140000
DTSTAMP:20260420T084200
CREATED:20240320T233924Z
LAST-MODIFIED:20240320T233924Z
UID:43581-1710770400-1710770400@www.latrobe.edu.au
SUMMARY:University Basketball League - La Trobe Women (including Seating Launch)
DESCRIPTION:La Trobe Women V Melbourne University Women – Get down to support your La Trobe Eagles Men and Women University Basketball teams as they compete in the home and away fixture – The elite of the elite in Australian Univeristy Basketball. “For updated event information please visit\, @latrobesport on Instagram.’
URL:https://www.latrobe.edu.au/mylatrobe/event/university-basketball-league-la-trobe-women-including-seating-launch/
CATEGORIES:Bundoora
END:VEVENT
BEGIN:VEVENT
DTSTART;TZID=Australia/Melbourne:20240319T083000
DTEND;TZID=Australia/Melbourne:20240319T083000
DTSTAMP:20260420T084200
CREATED:20240320T233924Z
LAST-MODIFIED:20240320T233924Z
UID:43587-1710837000-1710837000@www.latrobe.edu.au
SUMMARY:Splash Into Safety: Torquay Water Adventure!
DESCRIPTION:an educational and fun-filled excursion to Torquay Beach organized by La Trobe Sport and La Trobe International in collaboration with Life Saving Victoria. Scheduled for March 19th\, this event offers international students the chance to learn vital water safety and lifesaving skills\, connect with peers\, and confidently enjoy one of Australia’s best beaches. With limited spots available\, participants are encouraged to register quickly for a day of sun\, surf\, and safety.
URL:https://www.latrobe.edu.au/mylatrobe/event/splash-into-safety-torquay-water-adventure/
CATEGORIES:Bundoora
END:VEVENT
BEGIN:VEVENT
DTSTART;TZID=Australia/Melbourne:20240321T113000
DTEND;TZID=Australia/Melbourne:20240321T113000
DTSTAMP:20260420T084200
CREATED:20240320T233926Z
LAST-MODIFIED:20240320T233926Z
UID:43594-1711020600-1711020600@www.latrobe.edu.au
SUMMARY:Market Day
DESCRIPTION:Club stalls\, internal or external stalls and promotions\, music
URL:https://www.latrobe.edu.au/mylatrobe/event/market-day-6/
CATEGORIES:Bundoora
END:VEVENT
BEGIN:VEVENT
DTSTART;TZID=Australia/Melbourne:20240321T123000
DTEND;TZID=Australia/Melbourne:20240321T123000
DTSTAMP:20260420T084200
CREATED:20240320T233926Z
LAST-MODIFIED:20240321T001853Z
UID:43595-1711024200-1711024200@www.latrobe.edu.au
SUMMARY:Respect at Uni - Respectful Communities and ReGen Event
DESCRIPTION:Sexual Harm Prevention and Response on University Campuses and Beyond
URL:https://www.latrobe.edu.au/mylatrobe/event/respect-at-uni-respectful-communities-and-regen-event/
CATEGORIES:Albury-Wodonga,Bendigo,Bundoora,City,Mildura,Online,Shepparton
END:VEVENT
BEGIN:VEVENT
DTSTART;TZID=Australia/Melbourne:20240321T140000
DTEND;TZID=Australia/Melbourne:20240321T140000
DTSTAMP:20260420T084200
CREATED:20240320T233927Z
LAST-MODIFIED:20240320T233927Z
UID:43597-1711029600-1711029600@www.latrobe.edu.au
SUMMARY:STF x Writer's Club Monologue Workshop
DESCRIPTION:STF & Writers Club are collaborating to bring you a short crash course on how to write an affecting monologue. Suitable for theatre\, film and any dialogue-heavy creative fiction.
URL:https://www.latrobe.edu.au/mylatrobe/event/stf-x-writers-club-monologue-workshop/
CATEGORIES:Bundoora
END:VEVENT
BEGIN:VEVENT
DTSTART;TZID=Australia/Melbourne:20240321T170000
DTEND;TZID=Australia/Melbourne:20240321T170000
DTSTAMP:20260420T084200
CREATED:20240320T233927Z
LAST-MODIFIED:20240321T052151Z
UID:43592-1711040400-1711040400@www.latrobe.edu.au
SUMMARY:Harmony Week - Afrobeats Night
DESCRIPTION:Celebrate Harmony Week at the Oasis Bar with King Kenny – Afrobeats DJ  \nCheap drinks and great vibes celebrating our culturally diverse campuses. 
URL:https://www.latrobe.edu.au/mylatrobe/event/harmony-week-afrobeats-night/
LOCATION:The Oasis Bar\, Ground Level\, Jenny Graves Bld\, Bundoora Campus
CATEGORIES:Bundoora
END:VEVENT
BEGIN:VEVENT
DTSTART;TZID=Australia/Melbourne:20240321T170000
DTEND;TZID=Australia/Melbourne:20240321T190000
DTSTAMP:20260420T084200
CREATED:20240321T020130Z
LAST-MODIFIED:20240321T020130Z
UID:43943-1711040400-1711047600@www.latrobe.edu.au
SUMMARY:Pipe Band Rehearsal
DESCRIPTION:Join Pipe Band and learn about bagpipes\, wind instruments and more!
URL:https://www.latrobe.edu.au/mylatrobe/event/pipe-band-rehearsal/
CATEGORIES:Bundoora
END:VEVENT
BEGIN:VEVENT
DTSTART;TZID=Australia/Melbourne:20240321T200000
DTEND;TZID=Australia/Melbourne:20240321T200000
DTSTAMP:20260420T084200
CREATED:20240320T233927Z
LAST-MODIFIED:20240320T233927Z
UID:43600-1711051200-1711051200@www.latrobe.edu.au
SUMMARY:Sanctuary Twilight Tour
DESCRIPTION:Twilight tour of the Nangak Tamboree Wildlife Sanctuary
URL:https://www.latrobe.edu.au/mylatrobe/event/sanctuary-twilight-tour/
CATEGORIES:Bundoora
END:VEVENT
BEGIN:VEVENT
DTSTART;TZID=Australia/Melbourne:20240322T083000
DTEND;TZID=Australia/Melbourne:20240322T083000
DTSTAMP:20260420T084200
CREATED:20240320T233927Z
LAST-MODIFIED:20240320T233927Z
UID:43602-1711096200-1711096200@www.latrobe.edu.au
SUMMARY:Weekly Activation - Friday Free Coffees
DESCRIPTION:Free coffees on campus! Show your student card at Chapter 2 in the library and get a free hot drink.
URL:https://www.latrobe.edu.au/mylatrobe/event/weekly-activation-friday-free-coffees-3/
CATEGORIES:Bundoora
END:VEVENT
BEGIN:VEVENT
DTSTART;TZID=Australia/Melbourne:20240322T100000
DTEND;TZID=Australia/Melbourne:20240322T140000
DTSTAMP:20260420T084200
CREATED:20240321T020130Z
LAST-MODIFIED:20240321T020130Z
UID:43945-1711101600-1711116000@www.latrobe.edu.au
SUMMARY:Socialist Alternative Agora Stall
DESCRIPTION:Come and talk to Socialist Alternative and find out about our current events and campaigns
URL:https://www.latrobe.edu.au/mylatrobe/event/socialist-alternative-agora-stall/
CATEGORIES:Bundoora
END:VEVENT
BEGIN:VEVENT
DTSTART;TZID=Australia/Melbourne:20240322T110000
DTEND;TZID=Australia/Melbourne:20240322T130000
DTSTAMP:20260420T084200
CREATED:20240321T020130Z
LAST-MODIFIED:20240321T020130Z
UID:43944-1711105200-1711112400@www.latrobe.edu.au
SUMMARY:CU Agora Stall
DESCRIPTION:Come and talk to Christian Union in the Agora
URL:https://www.latrobe.edu.au/mylatrobe/event/cu-agora-stall/
CATEGORIES:Bundoora
END:VEVENT
BEGIN:VEVENT
DTSTART;TZID=Australia/Melbourne:20240322T113000
DTEND;TZID=Australia/Melbourne:20240322T133000
DTSTAMP:20260420T084200
CREATED:20240320T233927Z
LAST-MODIFIED:20240321T004123Z
UID:43603-1711107000-1711114200@www.latrobe.edu.au
SUMMARY:Exchange Fair
DESCRIPTION:Discover your options for studying abroad as a La Trobe University student! Learn about our partners and uncover your options for short and semester long exchange trips.  \nFree event in the Agora. 
URL:https://www.latrobe.edu.au/mylatrobe/event/exchange-fair/
CATEGORIES:Bundoora
ORGANIZER;CN="Study Abroad":MAILTO:studyabroad@latrobe.edu.au
END:VEVENT
BEGIN:VEVENT
DTSTART;TZID=Australia/Melbourne:20240322T130000
DTEND;TZID=Australia/Melbourne:20240322T150000
DTSTAMP:20260420T084200
CREATED:20240321T020131Z
LAST-MODIFIED:20240321T020131Z
UID:43946-1711112400-1711119600@www.latrobe.edu.au
SUMMARY:Anime Screenings
DESCRIPTION:Join LUNASY for our weekly anime screenings!
URL:https://www.latrobe.edu.au/mylatrobe/event/anime-screenings/
CATEGORIES:Bundoora
END:VEVENT
BEGIN:VEVENT
DTSTART;TZID=Australia/Melbourne:20240322T180000
DTEND;TZID=Australia/Melbourne:20240322T210000
DTSTAMP:20260420T084200
CREATED:20240321T020131Z
LAST-MODIFIED:20240321T020131Z
UID:43948-1711130400-1711141200@www.latrobe.edu.au
SUMMARY:Milestone Celebration 1
DESCRIPTION:Every quarter the department plans Milestone Seminars which are compulsory hurdle requirments for HDR students to present their work to the community. We want to celebrate the achievement of our students by organising a catch up after the Milestone Seminar.
URL:https://www.latrobe.edu.au/mylatrobe/event/milestone-celebration-1/
CATEGORIES:Bundoora
END:VEVENT
BEGIN:VEVENT
DTSTART;TZID=Australia/Melbourne:20240322T190000
DTEND;TZID=Australia/Melbourne:20240322T233000
DTSTAMP:20260420T084200
CREATED:20240321T020131Z
LAST-MODIFIED:20240321T020131Z
UID:43949-1711134000-1711150200@www.latrobe.edu.au
SUMMARY:LUGS x SHS Tavern Night 2024
DESCRIPTION:A traditional Greek tavern night (dinner dance) with Greek music\, food and drinks. This event will be cohosted with the Swinburne University Hellenic Society (the Swinburne University Greek Club).
URL:https://www.latrobe.edu.au/mylatrobe/event/lugs-x-shs-tavern-night-2024/
CATEGORIES:Bundoora
END:VEVENT
BEGIN:VEVENT
DTSTART;TZID=Australia/Melbourne:20240323T200000
DTEND;TZID=Australia/Melbourne:20240323T200000
DTSTAMP:20260420T084200
CREATED:20240320T233928Z
LAST-MODIFIED:20240320T233928Z
UID:43605-1711224000-1711224000@www.latrobe.edu.au
SUMMARY:Sanctuary Twilight Tour
DESCRIPTION:Twilight tour of the Nangak Tamboree Wildlife Sanctuary
URL:https://www.latrobe.edu.au/mylatrobe/event/sanctuary-twilight-tour-2/
CATEGORIES:Bundoora
END:VEVENT
BEGIN:VEVENT
DTSTART;TZID=Australia/Melbourne:20240324T130000
DTEND;TZID=Australia/Melbourne:20240324T180000
DTSTAMP:20260420T084200
CREATED:20240321T020131Z
LAST-MODIFIED:20240321T020131Z
UID:43950-1711285200-1711303200@www.latrobe.edu.au
SUMMARY:LUSoM's Crew Weekend Rehearsal
DESCRIPTION:The Society of Music’s weekend rehearsal\, invite only.
URL:https://www.latrobe.edu.au/mylatrobe/event/lusoms-crew-weekend-rehearsal/
CATEGORIES:Bundoora
END:VEVENT
BEGIN:VEVENT
DTSTART;TZID=Australia/Melbourne:20240325T100000
DTEND;TZID=Australia/Melbourne:20240325T140000
DTSTAMP:20260420T084200
CREATED:20240321T020132Z
LAST-MODIFIED:20240321T020132Z
UID:43953-1711360800-1711375200@www.latrobe.edu.au
SUMMARY:Socialist Alternative Agora Stall
DESCRIPTION:Come and talk to Socialist Alternative and find out about our current events and campaigns
URL:https://www.latrobe.edu.au/mylatrobe/event/socialist-alternative-agora-stall-2/
CATEGORIES:Bundoora
END:VEVENT
BEGIN:VEVENT
DTSTART;TZID=Australia/Melbourne:20240325T110000
DTEND;TZID=Australia/Melbourne:20240325T130000
DTSTAMP:20260420T084200
CREATED:20240321T020131Z
LAST-MODIFIED:20240321T020131Z
UID:43952-1711364400-1711371600@www.latrobe.edu.au
SUMMARY:CU Agora Stall
DESCRIPTION:Come and talk to Christian Union in the Agora
URL:https://www.latrobe.edu.au/mylatrobe/event/cu-agora-stall-2/
CATEGORIES:Bundoora
END:VEVENT
BEGIN:VEVENT
DTSTART;TZID=Australia/Melbourne:20240325T120000
DTEND;TZID=Australia/Melbourne:20240325T120000
DTSTAMP:20260420T084200
CREATED:20240320T233928Z
LAST-MODIFIED:20240423T030201Z
UID:43606-1711368000-1711368000@www.latrobe.edu.au
SUMMARY:Weekly Activation  - Funday Monday
DESCRIPTION:Music and Lawn games in the Agora
URL:https://www.latrobe.edu.au/mylatrobe/event/weekly-activation-funday-monday-8/
CATEGORIES:Bundoora
END:VEVENT
BEGIN:VEVENT
DTSTART;TZID=Australia/Melbourne:20240325T150000
DTEND;TZID=Australia/Melbourne:20240325T190000
DTSTAMP:20260420T084200
CREATED:20240321T020132Z
LAST-MODIFIED:20240321T020132Z
UID:43958-1711378800-1711393200@www.latrobe.edu.au
SUMMARY:Holi Colour Fest
DESCRIPTION:We are once again coming together to celebrate the festival of colours known as Holi. We will be celebrating this triumph of good over evil with a fun celebration of throwing Holi colours and enjoying our vibrant music!
URL:https://www.latrobe.edu.au/mylatrobe/event/holi-colour-fest/
CATEGORIES:Bundoora
END:VEVENT
BEGIN:VEVENT
DTSTART;TZID=Australia/Melbourne:20240325T163000
DTEND;TZID=Australia/Melbourne:20240325T170000
DTSTAMP:20260420T084200
CREATED:20240321T020132Z
LAST-MODIFIED:20240321T020132Z
UID:43956-1711384200-1711386000@www.latrobe.edu.au
SUMMARY:PSOLT General Meeting
DESCRIPTION:The Philosophy Society needs a new Vice-President and a new Secretary! If you’d like a say in how this club is run\, please attend! And if you think you’d like to be part of the executive team\, please put your name down for the election! New members are welcome!
URL:https://www.latrobe.edu.au/mylatrobe/event/psolt-general-meeting/
CATEGORIES:Bundoora
END:VEVENT
BEGIN:VEVENT
DTSTART;TZID=Australia/Melbourne:20240325T170000
DTEND;TZID=Australia/Melbourne:20240325T200000
DTSTAMP:20260420T084200
CREATED:20240321T020132Z
LAST-MODIFIED:20240321T020132Z
UID:43951-1711386000-1711396800@www.latrobe.edu.au
SUMMARY:Monday Night Fuel
DESCRIPTION:Christian Union’s weekly dinner\, followed by talks and group discussions
URL:https://www.latrobe.edu.au/mylatrobe/event/monday-night-fuel/
CATEGORIES:Bundoora
END:VEVENT
BEGIN:VEVENT
DTSTART;TZID=Australia/Melbourne:20240325T170000
DTEND;TZID=Australia/Melbourne:20240325T220000
DTSTAMP:20260420T084200
CREATED:20240321T020132Z
LAST-MODIFIED:20240321T020132Z
UID:43955-1711386000-1711404000@www.latrobe.edu.au
SUMMARY:Philosophy Discussion Night
DESCRIPTION:A night of discussing philosophy while enjoying some light refreshments.
URL:https://www.latrobe.edu.au/mylatrobe/event/philosophy-discussion-night/
CATEGORIES:Bundoora
END:VEVENT
BEGIN:VEVENT
DTSTART;TZID=Australia/Melbourne:20240326T100000
DTEND;TZID=Australia/Melbourne:20240326T140000
DTSTAMP:20260420T084200
CREATED:20240321T020133Z
LAST-MODIFIED:20240321T020133Z
UID:43962-1711447200-1711461600@www.latrobe.edu.au
SUMMARY:Socialist Alternative Agora Stall
DESCRIPTION:Come and talk to Socialist Alternative and find out about our current events and campaigns
URL:https://www.latrobe.edu.au/mylatrobe/event/socialist-alternative-agora-stall-3/
CATEGORIES:Bundoora
END:VEVENT
BEGIN:VEVENT
DTSTART;TZID=Australia/Melbourne:20240326T110000
DTEND;TZID=Australia/Melbourne:20240326T130000
DTSTAMP:20260420T084200
CREATED:20240321T020133Z
LAST-MODIFIED:20240321T020133Z
UID:43960-1711450800-1711458000@www.latrobe.edu.au
SUMMARY:CU Agora Stall
DESCRIPTION:Come and talk to Christian Union in the Agora
URL:https://www.latrobe.edu.au/mylatrobe/event/cu-agora-stall-3/
CATEGORIES:Bundoora
END:VEVENT
BEGIN:VEVENT
DTSTART;TZID=Australia/Melbourne:20240326T120000
DTEND;TZID=Australia/Melbourne:20240326T123000
DTSTAMP:20260420T084200
CREATED:20240321T020133Z
LAST-MODIFIED:20240321T020133Z
UID:43966-1711454400-1711456200@www.latrobe.edu.au
SUMMARY:Flag Ceremony
DESCRIPTION:just a 30 min flag hoisting ceremony \, where our national anthem will be played \, few lines regarding our country and that’s it. no cultural performances\, just providing some pre packed foods such as chips or chocolates.
URL:https://www.latrobe.edu.au/mylatrobe/event/flag-ceremony/
CATEGORIES:Bundoora
END:VEVENT
BEGIN:VEVENT
DTSTART;TZID=Australia/Melbourne:20240326T120000
DTEND;TZID=Australia/Melbourne:20240326T133000
DTSTAMP:20260420T084200
CREATED:20240321T020134Z
LAST-MODIFIED:20240321T020134Z
UID:43968-1711454400-1711459800@www.latrobe.edu.au
SUMMARY:Archaeological Society's AGM
DESCRIPTION:Join us for Arch Soc’s AGM and vote in our new Exec!
URL:https://www.latrobe.edu.au/mylatrobe/event/archaeological-societys-agm/
CATEGORIES:Bundoora
END:VEVENT
BEGIN:VEVENT
DTSTART;TZID=Australia/Melbourne:20240326T130000
DTEND;TZID=Australia/Melbourne:20240326T150000
DTSTAMP:20260420T084200
CREATED:20240321T020133Z
LAST-MODIFIED:20240321T020133Z
UID:43965-1711458000-1711465200@www.latrobe.edu.au
SUMMARY:Anime Screenings
DESCRIPTION:Join LUNASY for our weekly anime screenings!
URL:https://www.latrobe.edu.au/mylatrobe/event/anime-screenings-2/
CATEGORIES:Bundoora
END:VEVENT
END:VCALENDAR