BEGIN:VCALENDAR
VERSION:2.0
PRODID:-//MyLaTrobe - ECPv6.15.20//NONSGML v1.0//EN
CALSCALE:GREGORIAN
METHOD:PUBLISH
X-ORIGINAL-URL:https://www.latrobe.edu.au/mylatrobe
X-WR-CALDESC:Events for MyLaTrobe
REFRESH-INTERVAL;VALUE=DURATION:PT1H
X-Robots-Tag:noindex
X-PUBLISHED-TTL:PT1H
BEGIN:VTIMEZONE
TZID:Australia/Melbourne
BEGIN:STANDARD
TZOFFSETFROM:+1100
TZOFFSETTO:+1000
TZNAME:AEST
DTSTART:20240406T160000
END:STANDARD
BEGIN:DAYLIGHT
TZOFFSETFROM:+1000
TZOFFSETTO:+1100
TZNAME:AEDT
DTSTART:20241005T160000
END:DAYLIGHT
BEGIN:STANDARD
TZOFFSETFROM:+1100
TZOFFSETTO:+1000
TZNAME:AEST
DTSTART:20250405T160000
END:STANDARD
BEGIN:DAYLIGHT
TZOFFSETFROM:+1000
TZOFFSETTO:+1100
TZNAME:AEDT
DTSTART:20251004T160000
END:DAYLIGHT
BEGIN:STANDARD
TZOFFSETFROM:+1100
TZOFFSETTO:+1000
TZNAME:AEST
DTSTART:20260404T160000
END:STANDARD
BEGIN:DAYLIGHT
TZOFFSETFROM:+1000
TZOFFSETTO:+1100
TZNAME:AEDT
DTSTART:20261003T160000
END:DAYLIGHT
END:VTIMEZONE
BEGIN:VEVENT
DTSTART;TZID=Australia/Melbourne:20251113T103000
DTEND;TZID=Australia/Melbourne:20251113T120000
DTSTAMP:20260420T065943
CREATED:20251029T015001Z
LAST-MODIFIED:20251029T015001Z
UID:55812-1763029800-1763035200@www.latrobe.edu.au
SUMMARY:Advanced Database Search Skills for Health
DESCRIPTION:In this advanced database searching session\, you will learn how to systematically search Medline as well as translate your search across other databases.  \n\n\n\nRegister here.
URL:https://www.latrobe.edu.au/mylatrobe/event/advanced-database-search-skills-for-health-3/
LOCATION:Online
CATEGORIES:Albury-Wodonga,Bendigo,Bundoora,City,Mildura,Multi-Campus,Online,Shepparton,Sydney
END:VEVENT
BEGIN:VEVENT
DTSTART;TZID=Australia/Melbourne:20251112T140000
DTEND;TZID=Australia/Melbourne:20251112T150000
DTSTAMP:20260420T065943
CREATED:20251029T015001Z
LAST-MODIFIED:20251029T015001Z
UID:55810-1762956000-1762959600@www.latrobe.edu.au
SUMMARY:Using Library Databases and Google Scholar
DESCRIPTION:Boost your study success by exploring strategies to find the right resources for your assessments and developing your search skills in Library databases and Google Scholar.  \n\n\n\nRegister here.
URL:https://www.latrobe.edu.au/mylatrobe/event/using-library-databases-and-google-scholar-3/
LOCATION:Online
CATEGORIES:Albury-Wodonga,Bendigo,Bundoora,City,Mildura,Multi-Campus,Online,Shepparton,Sydney
END:VEVENT
BEGIN:VEVENT
DTSTART;TZID=Australia/Melbourne:20251111T110000
DTEND;TZID=Australia/Melbourne:20251111T120000
DTSTAMP:20260420T065943
CREATED:20251029T015001Z
LAST-MODIFIED:20251029T015001Z
UID:55808-1762858800-1762862400@www.latrobe.edu.au
SUMMARY:Assessment Writing Skills
DESCRIPTION:Understand what is expected in academic writing at university\, including: academic language\, tone\, structure\, paragraphs\, using sources and referencing. And know where to get support for these areas.  \n\n\n\nRegister here.
URL:https://www.latrobe.edu.au/mylatrobe/event/assessment-writing-skills-5/
LOCATION:Online
CATEGORIES:Albury-Wodonga,Bendigo,Bundoora,City,Mildura,Multi-Campus,Online,Shepparton,Sydney
END:VEVENT
BEGIN:VEVENT
DTSTART;TZID=Australia/Melbourne:20251110T110000
DTEND;TZID=Australia/Melbourne:20251110T120000
DTSTAMP:20260420T065943
CREATED:20251029T011752Z
LAST-MODIFIED:20251029T011752Z
UID:55805-1762772400-1762776000@www.latrobe.edu.au
SUMMARY:Improve your Library Search Skills
DESCRIPTION:Boost your study success by exploring strategies to find the right resources for your assessments and developing your search skills in Library Search \n\n\n\nRegister here.
URL:https://www.latrobe.edu.au/mylatrobe/event/improve-your-library-search-skills-4/
LOCATION:Online
CATEGORIES:Albury-Wodonga,Bendigo,Bundoora,City,Mildura,Multi-Campus,Online,Shepparton,Sydney
END:VEVENT
BEGIN:VEVENT
DTSTART;TZID=Australia/Melbourne:20251106T170000
DTEND;TZID=Australia/Melbourne:20251106T170000
DTSTAMP:20260420T065943
CREATED:20250724T062132Z
LAST-MODIFIED:20250724T062132Z
UID:53170-1762448400-1762448400@www.latrobe.edu.au
SUMMARY:Billabongs Not Silos\, Keynote Speaker
DESCRIPTION:Dr Jill Gallagher AO-  A proud Gunditjmara woman and CEO of VACCHODr Gallagher will continue the conversation with insights drawn from her leadership in Aboriginal health. As CEO of the Victorian Aboriginal Community Controlled Health Organisation (VACCHO)\, she will share her experiences advocating for culturally safe and community-led approaches to Indigenous wellbeing.
URL:https://www.latrobe.edu.au/mylatrobe/event/billabongs-not-silos-keynote-speaker/
CATEGORIES:Bendigo
END:VEVENT
BEGIN:VEVENT
DTSTART;TZID=Australia/Melbourne:20251023T173000
DTEND;TZID=Australia/Melbourne:20251023T193000
DTSTAMP:20260420T065943
CREATED:20251016T231419Z
LAST-MODIFIED:20251016T231855Z
UID:55625-1761240600-1761247800@www.latrobe.edu.au
SUMMARY:Money Moves: A young professional's guide to investing (Bendigo based)
DESCRIPTION:Take control of your financial future with an insightful session designed to help young professionals confidently navigate the world of investing. \n\n\n\nJoin us as we break down the fundamentals of the share market — how it works\, how to get started\, and the key strategies to build and grow your investment portfolio. \n\n\n\nEvent details  \n\n\n\nDate: Thursday 23 October 2025 \n\n\n\nLocation: Red Energy Arena – Sky Lounge\, Bendigo Victoria \n\n\n\nTime : 5:30pm for a 6pm start – 7:30pm finish
URL:https://www.latrobe.edu.au/mylatrobe/event/money-moves-a-young-professionals-guide-to-investing-bendigo-based/
LOCATION:Red Energy Arena – Sky Lounge\, West Bendigo\, VIC\, Australia
CATEGORIES:Bendigo
ATTACH;FMTTYPE=image/jpeg:https://www.latrobe.edu.au/mylatrobe/wp-content/uploads/2025/10/Investing-workshop.jpg
END:VEVENT
BEGIN:VEVENT
DTSTART;TZID=Australia/Melbourne:20251023T103000
DTEND;TZID=Australia/Melbourne:20251023T103000
DTSTAMP:20260420T065943
CREATED:20250724T062059Z
LAST-MODIFIED:20250924T103756Z
UID:53169-1761215400-1761215400@www.latrobe.edu.au
SUMMARY:ThursYAY - Free Coffee Day
DESCRIPTION:Need a pick-me-up? Get a FREE hot drink on us! Whether you prefer a latte\, cappuccino\, flat white or hot chocolate – it’s your choice! Just show your ID to a member of the Campus Engagement team in the LSU to collect your voucher\, then redeem it at JD Café. Recharge and enjoy – on us!
URL:https://www.latrobe.edu.au/mylatrobe/event/thursyay-free-coffee-day-6/
LOCATION:LSU
CATEGORIES:Bendigo
ATTACH;FMTTYPE=image/png:https://www.latrobe.edu.au/mylatrobe/wp-content/uploads/2025/07/Weekly-Activation-Free-Coffee-23-October-2025-4.png
END:VEVENT
BEGIN:VEVENT
DTSTART;TZID=Australia/Melbourne:20251016T170000
DTEND;TZID=Australia/Melbourne:20251016T200000
DTSTAMP:20260420T065943
CREATED:20251009T045655Z
LAST-MODIFIED:20251009T045739Z
UID:55480-1760634000-1760644800@www.latrobe.edu.au
SUMMARY:LTSA End of Year Twilight Party - Bendigo
DESCRIPTION:Come and celebrate the end of the uni year with LTSA. \n\n\n\nWe have an awesome night planned. Tickets are just $10 and include: \n\n\n\n\nA meal from either The Yumpling Truck\, The Taco Station or Spud Co  \n\n\n\nChurros from Little Sangria \n\n\n\nDrinks from Kombie Keg  \n\n\n\nLive music with Darcy Ramage\, and \n\n\n\nThe epic ‘Meltdown’ from The Zone Fun Park\n\n\n\n\nJoin us on Thursday\, 16 October from 5pm-8pm down in the Plaza at Bendigo Campus. \n\n\n\n*Strictly 18+ \n\n\n\nGet your tickets now!
URL:https://www.latrobe.edu.au/mylatrobe/event/ltsa-end-of-year-twilight-party-bendigo/
CATEGORIES:Bendigo
ATTACH;FMTTYPE=image/png:https://www.latrobe.edu.au/mylatrobe/wp-content/uploads/2025/10/Twilight-Sem-2-BENDIGO-POSTER_resized-3.png
END:VEVENT
BEGIN:VEVENT
DTSTART;TZID=Australia/Melbourne:20251016T103000
DTEND;TZID=Australia/Melbourne:20251016T103000
DTSTAMP:20260420T065943
CREATED:20250724T062058Z
LAST-MODIFIED:20250924T103543Z
UID:53168-1760610600-1760610600@www.latrobe.edu.au
SUMMARY:ThursYAY - Free Coffee Day
DESCRIPTION:Need a pick-me-up? Get a FREE hot drink on us! Whether you prefer a latte\, cappuccino\, flat white or hot chocolate – it’s your choice! Just show your ID to a member of the Campus Engagement team in the LSU to collect your voucher\, then redeem it at JD Café. Recharge and enjoy – on us!
URL:https://www.latrobe.edu.au/mylatrobe/event/thursyay-free-coffee-day-5/
LOCATION:LSU
CATEGORIES:Bendigo
ATTACH;FMTTYPE=image/png:https://www.latrobe.edu.au/mylatrobe/wp-content/uploads/2025/07/Weekly-Activation-Free-Coffee-16-October-20251-1.png
END:VEVENT
BEGIN:VEVENT
DTSTART;TZID=Australia/Melbourne:20251009T103000
DTEND;TZID=Australia/Melbourne:20251009T103000
DTSTAMP:20260420T065943
CREATED:20250724T062058Z
LAST-MODIFIED:20250924T103236Z
UID:53167-1760005800-1760005800@www.latrobe.edu.au
SUMMARY:ThursYAY - Free Coffee Day
DESCRIPTION:Need a pick-me-up? Get a FREE hot drink on us! Whether you prefer a latte\, cappuccino\, flat white or hot chocolate – it’s your choice! Just show your ID to a member of the Campus Engagement team in the LSU to collect your voucher\, then redeem it at JD Café. Recharge and enjoy – on us!
URL:https://www.latrobe.edu.au/mylatrobe/event/thursyay-free-coffee-day-4/
LOCATION:LSU
CATEGORIES:Bendigo
ATTACH;FMTTYPE=image/png:https://www.latrobe.edu.au/mylatrobe/wp-content/uploads/2025/07/Weekly-Activation-Free-Coffee-9-October-2025.png
END:VEVENT
BEGIN:VEVENT
DTSTART;TZID=Australia/Melbourne:20251003T133000
DTEND;TZID=Australia/Melbourne:20251003T163000
DTSTAMP:20260420T065943
CREATED:20250808T032712Z
LAST-MODIFIED:20250808T032724Z
UID:54207-1759498200-1759509000@www.latrobe.edu.au
SUMMARY:Tour of the iconic Great Stupa
DESCRIPTION:Join our LTSA Committee Member for a tour of the iconic Great Stupa. \n\n\n\nWhen: Friday 3 October 2025Where: Mini Bus will depart from the LTU Flag Poles at 1:30pm sharp and return at 4:30pm \n\n\n\nLTSA will provide transport to and from The Great Stupa tour. \n\n\n\nOn arrival at The Great Stupa\, you will be given a guided tour of the Stupa and grounds. \n\n\n\nYou will have free time to wander around the beautiful gardens that surround the Stupa and the Peace Park showcasing symbols from many faiths including Catholic\, Sikh\, Islam\, Hindu and Buddhist. \n\n\n\nPrice includes bus and guided tour. **Numbers Limited**
URL:https://www.latrobe.edu.au/mylatrobe/event/tour-of-the-iconic-great-stupa/
CATEGORIES:Bendigo
ATTACH;FMTTYPE=image/jpeg:https://www.latrobe.edu.au/mylatrobe/wp-content/uploads/2025/08/Screenshot-2025-08-08-132636.jpg
END:VEVENT
BEGIN:VEVENT
DTSTART;TZID=Australia/Melbourne:20251003T133000
DTEND;TZID=Australia/Melbourne:20251003T133000
DTSTAMP:20260420T065943
CREATED:20250724T061917Z
LAST-MODIFIED:20250724T061917Z
UID:53166-1759498200-1759498200@www.latrobe.edu.au
SUMMARY:LTSA The Great Stupa Tour
DESCRIPTION:Join our LTSA Committee Member for a guided tour of the iconic Great Stupa. You will have time to wander around the gardens that surround the Stupa and the Peace Park showcasing symbols from many faiths. Mini bus provided for pick and drop off at Uni.
URL:https://www.latrobe.edu.au/mylatrobe/event/ltsa-the-great-stupa-tour/
CATEGORIES:Bendigo
END:VEVENT
BEGIN:VEVENT
DTSTART;TZID=Australia/Melbourne:20251002T103000
DTEND;TZID=Australia/Melbourne:20251002T103000
DTSTAMP:20260420T065943
CREATED:20250724T062058Z
LAST-MODIFIED:20250924T103022Z
UID:53165-1759401000-1759401000@www.latrobe.edu.au
SUMMARY:ThursYAY - Free Coffee Day
DESCRIPTION:Need a pick-me-up? Get a FREE hot drink on us! Whether you prefer a latte\, cappuccino\, flat white or hot chocolate – it’s your choice! Just show your ID to a member of the Campus Engagement team in the LSU to collect your voucher\, then redeem it at JD Café. Recharge and enjoy – on us!
URL:https://www.latrobe.edu.au/mylatrobe/event/thursyay-free-coffee-day-3/
LOCATION:LSU
CATEGORIES:Bendigo
ATTACH;FMTTYPE=image/png:https://www.latrobe.edu.au/mylatrobe/wp-content/uploads/2025/07/Weekly-Activation-Free-Coffee-2-October-2025.png
END:VEVENT
BEGIN:VEVENT
DTSTART;TZID=Australia/Melbourne:20250925T103000
DTEND;TZID=Australia/Melbourne:20250925T103000
DTSTAMP:20260420T065943
CREATED:20250724T062058Z
LAST-MODIFIED:20250924T102135Z
UID:53164-1758796200-1758796200@www.latrobe.edu.au
SUMMARY:ThursYAY - Free Coffee Day
DESCRIPTION:Need a pick-me-up? Get a FREE hot drink on us! Whether you prefer a latte\, cappuccino\, flat white or hot chocolate – it’s your choice! Just show your ID to a member of the Campus Engagement team in the LSU to collect your voucher\, then redeem it at JD Café. Recharge and enjoy – on us!
URL:https://www.latrobe.edu.au/mylatrobe/event/thursyay-free-coffee-day-2/
LOCATION:LSU
CATEGORIES:Bendigo
ATTACH;FMTTYPE=image/png:https://www.latrobe.edu.au/mylatrobe/wp-content/uploads/2025/07/Weekly-Activation-Free-Coffee-25-September-20251.png
END:VEVENT
BEGIN:VEVENT
DTSTART;TZID=Australia/Melbourne:20250923T090000
DTEND;TZID=Australia/Melbourne:20250923T090000
DTSTAMP:20260420T065943
CREATED:20250728T010816Z
LAST-MODIFIED:20250731T042447Z
UID:53445-1758618000-1758618000@www.latrobe.edu.au
SUMMARY:UniSport Nationals - Division 1 & 2 Commences
DESCRIPTION:Welcome to the premier sporting event for University students – UniSport Nationals. Team La Trobe will participate in 15+ sports\, and battle it out against 43 member universities to see who reigns supreme! “For updated event information please visit\, https://www.latrobe.edu.au/sport/play-sport/represent/university-nationals”
URL:https://www.latrobe.edu.au/mylatrobe/event/unisport-nationals-division-1-2-commences-2/
CATEGORIES:Albury-Wodonga,Bendigo,Bundoora,City,Mildura,Multi-Campus,Online,Shepparton,Sydney
END:VEVENT
BEGIN:VEVENT
DTSTART;TZID=Australia/Melbourne:20250918T100000
DTEND;TZID=Australia/Melbourne:20250918T100000
DTSTAMP:20260420T065943
CREATED:20250724T062058Z
LAST-MODIFIED:20250821T034918Z
UID:53163-1758189600-1758189600@www.latrobe.edu.au
SUMMARY:ThursYAY - Free Coffee Day
DESCRIPTION:Need a pick-me-up? Get a FREE hot drink on us! Whether you prefer a latte\, cappuccino\, flat white or hot chocolate – it’s your choice! Just show your ID to a member of the Campus Engagement team in the LSU to collect your voucher\, then redeem it at JD Café. Recharge and enjoy – on us!
URL:https://www.latrobe.edu.au/mylatrobe/event/thursyay-free-coffee-day/
LOCATION:LSU
CATEGORIES:Bendigo
ATTACH;FMTTYPE=image/png:https://www.latrobe.edu.au/mylatrobe/wp-content/uploads/2025/07/Weekly-Activation-Free-Coffee-18-September-2025.png
END:VEVENT
BEGIN:VEVENT
DTSTART;TZID=Australia/Melbourne:20250916T123000
DTEND;TZID=Australia/Melbourne:20250916T123000
DTSTAMP:20260420T065943
CREATED:20250724T062011Z
LAST-MODIFIED:20250731T050116Z
UID:53162-1758025800-1758025800@www.latrobe.edu.au
SUMMARY:Spring Festival
DESCRIPTION:Spring has sprung in Bendigo!!Celebrate with us in style at the 2025 Spring Festival. This year’s event will showcase  the 2025 La Trobe Walk / Run\, free lunch\, music\, drinks\, photo booth and much more. \nWe can’t wait to see you there!
URL:https://www.latrobe.edu.au/mylatrobe/event/spring-festival/
CATEGORIES:Bendigo
END:VEVENT
BEGIN:VEVENT
DTSTART;TZID=Australia/Melbourne:20250916T120000
DTEND;TZID=Australia/Melbourne:20250916T120000
DTSTAMP:20260420T065943
CREATED:20250724T061948Z
LAST-MODIFIED:20250724T061948Z
UID:53161-1758024000-1758024000@www.latrobe.edu.au
SUMMARY:Bendigo Team La Trobe Community Walk & Run (Spring Fest)
DESCRIPTION:Lace up and move for a good cause! The Bendigo Community Walk/Run is a feel-good\, community-led event where walkers and runners come together to connect\, move\, and support our student community.\n👟 Join the run group led by Team La Trobe Run Ambassadors\, paced at 6:00–6:30min/km (no one gets left behind!).\n🚶 Prefer to walk? Follow our walk leaders and meet someone new along the way – it’s all about connection. \n💛 This year’s event supports Food Share\, helping students in need. Donations collected on the day will go directly to this important campus initiative. \nAll fitness levels welcome. Move your body\, meet new people\, and make a difference.
URL:https://www.latrobe.edu.au/mylatrobe/event/bendigo-team-la-trobe-community-walk-run-spring-fest/
CATEGORIES:Bendigo
END:VEVENT
BEGIN:VEVENT
DTSTART;TZID=Australia/Melbourne:20250915T100000
DTEND;TZID=Australia/Melbourne:20250915T110000
DTSTAMP:20260420T065943
CREATED:20250902T050013Z
LAST-MODIFIED:20250902T050121Z
UID:54828-1757930400-1757934000@www.latrobe.edu.au
SUMMARY:Introduction to Neurodiversity session
DESCRIPTION:Neurodiversity means recognising and valuing the different ways we learn\, communicate\, and experience the world. In this session you’ll learn more about neurodiversity language\, La Trobe’s neurodiversity services and supports and practical tips for neuroinclusive practice. \n\n\n\nThis session is specifically designed for beginners and those new to neurodiversity. The session will be in-person at Bendigo Campus and is open to all students\, staff and placement hosts – neurodiverse\, neuro-questioning or just curious! Optional attendee networking to follow.
URL:https://www.latrobe.edu.au/mylatrobe/event/introduction-to-neurodiversity-session/
LOCATION:La Trobe University Campus Bendigo\, Edwards Road\, Flora Hill\, Victoria\, 3552\, Australia
CATEGORIES:Bendigo
ATTACH;FMTTYPE=image/png:https://www.latrobe.edu.au/mylatrobe/wp-content/uploads/2025/09/EHI1459407-2cb5ccf9e1754ad58322aadb28af731a.png
END:VEVENT
BEGIN:VEVENT
DTSTART;TZID=Australia/Melbourne:20250908T100000
DTEND;TZID=Australia/Melbourne:20250908T110000
DTSTAMP:20260420T065943
CREATED:20250829T065614Z
LAST-MODIFIED:20250829T065700Z
UID:54764-1757325600-1757329200@www.latrobe.edu.au
SUMMARY:Developing disability confidence
DESCRIPTION:Disability means different things to different people – and those views shape how we include others\, and who we include. In this in-person this session\, you’ll learn why we think of disability in different ways\, discover some of La Trobe’s disability support services\, and discover some practical ways to build your disability confidence. \n\n\n\nThis session is specifically designed for beginners and those new to disability. The session will be in-person at Bendigo Campus and is open to all students\, staff and placement hosts\, with or without disability. Optional attendee networking to follow. \n\n\n\nFor information on session accessibility\, see this digital flyer.
URL:https://www.latrobe.edu.au/mylatrobe/event/developing-disability-confidence/
LOCATION:Bendigo Campus – Building BUS\, Room 129 (BE-BUS-129)
CATEGORIES:Bendigo
ATTACH;FMTTYPE=image/png:https://www.latrobe.edu.au/mylatrobe/wp-content/uploads/2025/08/EHI1459396-fa215dfe96394b3d84ad5122ff055fd6.png
END:VEVENT
BEGIN:VEVENT
DTSTART;TZID=Australia/Melbourne:20250904T110000
DTEND;TZID=Australia/Melbourne:20250904T110000
DTSTAMP:20260420T065943
CREATED:20250724T061757Z
LAST-MODIFIED:20250821T034814Z
UID:53160-1756983600-1756983600@www.latrobe.edu.au
SUMMARY:ThursYAY - Free Soup Day
DESCRIPTION:Warm up this winter with a free soup and roll! Show your ID to pick up your Winter Warmer voucher from a member of the Campus Engagement Team in the LSU and redeem it at JD Café. A perfect way to beat the chill – delicious\, comforting\, and completely free! Don’t miss out – grab yours while they last!
URL:https://www.latrobe.edu.au/mylatrobe/event/thursyay-free-soup-day-4/
LOCATION:LSU
CATEGORIES:Bendigo
ATTACH;FMTTYPE=image/png:https://www.latrobe.edu.au/mylatrobe/wp-content/uploads/2025/07/Weekly-Activation-Free-Lunch-4-September-2025.png
END:VEVENT
BEGIN:VEVENT
DTSTART;TZID=Australia/Melbourne:20250902T100000
DTEND;TZID=Australia/Melbourne:20250902T130000
DTSTAMP:20260420T065943
CREATED:20250828T011644Z
LAST-MODIFIED:20250828T011657Z
UID:54627-1756807200-1756818000@www.latrobe.edu.au
SUMMARY:LTSA Bendigo-Mental Health Basics Course
DESCRIPTION:Join your facililitator Kelly Alexander for a 2.5 hour Mental Heal Basics Course\, included is a light lunch. Limited places\, so be quick!
URL:https://www.latrobe.edu.au/mylatrobe/event/ltsa-bendigo-mental-health-basics-course/
LOCATION:La Trobe University Campus Bendigo\, Edwards Road\, Flora Hill\, Victoria\, 3552\, Australia
CATEGORIES:Bendigo
END:VEVENT
BEGIN:VEVENT
DTSTART;TZID=Australia/Melbourne:20250828T110000
DTEND;TZID=Australia/Melbourne:20250828T140000
DTSTAMP:20260420T065943
CREATED:20250820T072238Z
LAST-MODIFIED:20250820T072249Z
UID:54417-1756378800-1756389600@www.latrobe.edu.au
SUMMARY:Cultural Painting Workshop & lunch
DESCRIPTION:All students\, staff\, Aboriginal community members and Elders. \n\n\n\nAs part of Indigenous Week\, participants are invited to choose and paint their own pendant\, keyring or clapsticks using Aboriginal symbols and shared storytelling practices. The workshops are designed to support La Trobe’s ongoing commitment to Indigenous inclusion\, cultural capability and the sharing of Indigenous Knowledge. The event is grounded in Aboriginal ways of knowing\, being and doing through hands-on learning\, shared meals and yarning as cultural connectors. \n\n\n\nAbout Indigenous Week at La Trobe (25 – 29 August 2025) \n\n\n\nIndigenous Week at La Trobe University is a time to celebrate\, recognise and engage with the diverse cultures\, knowledges and contributions of Aboriginal and Torres Strait Islander peoples across all campuses. \n\n\n\nHeld each August\, this week reflects La Trobe’s ongoing commitment to truth-telling\, reconciliation and embedding Indigenous perspectives throughout the university community. \n\n\n\nThis week is not just a series of events\, it’s about\, sharing\, connection to community\, Country and culture. All members of the La Trobe community\, including students\, are invited to listen deeply\, walk alongside\, participate in activities\, share a meal and contribute to a culturally respectful and inclusive university environment.
URL:https://www.latrobe.edu.au/mylatrobe/event/cultural-painting-workshop-lunch/
LOCATION:Ironbark Centre\, La Trobe University Bendigo Campus\, Flora Hill\, VIC\, 3550\, Australia
CATEGORIES:Bendigo
ATTACH;FMTTYPE=image/png:https://www.latrobe.edu.au/mylatrobe/wp-content/uploads/2025/08/WordPress-Article-650-x-400_indigenous-week.png
END:VEVENT
BEGIN:VEVENT
DTSTART;TZID=Australia/Melbourne:20250828T110000
DTEND;TZID=Australia/Melbourne:20250828T110000
DTSTAMP:20260420T065943
CREATED:20250724T061757Z
LAST-MODIFIED:20250821T034715Z
UID:53159-1756378800-1756378800@www.latrobe.edu.au
SUMMARY:ThursYAY - Free Soup Day
DESCRIPTION:Warm up this winter with a free soup and roll! Show your ID to pick up your Winter Warmer voucher from a member of the Campus Engagement Team in the LSU and redeem it at JD Café. A perfect way to beat the chill – delicious\, comforting\, and completely free! Don’t miss out – grab yours while they last!
URL:https://www.latrobe.edu.au/mylatrobe/event/thursyay-free-soup-day-3/
LOCATION:LSU
CATEGORIES:Bendigo
ATTACH;FMTTYPE=image/png:https://www.latrobe.edu.au/mylatrobe/wp-content/uploads/2025/07/Weekly-Activation-Free-Lunch-28-August-2025.png
END:VEVENT
BEGIN:VEVENT
DTSTART;TZID=Australia/Melbourne:20250827T110000
DTEND;TZID=Australia/Melbourne:20250827T140000
DTSTAMP:20260420T065943
CREATED:20250820T071652Z
LAST-MODIFIED:20250820T072105Z
UID:54408-1756292400-1756303200@www.latrobe.edu.au
SUMMARY:Emu Caller Wood Burning Workshop & lunch
DESCRIPTION:All students\, staff\, Aboriginal community members and Elders. \n\n\n\nAs part of Indigenous Week\, join this guided session exploring the traditional technique of emu calling and wood burning\, highlighting its cultural significance and connection to Country. This immersive cultural workshop will be led by respected Aboriginal Elder\, Uncle Colin Clark. The session provides an opportunity to experience traditional art practices\, engage in meaningful yarns and cultural understandings. \n\n\n\nAbout Indigenous Week at La Trobe (25 – 29 August 2025) \n\n\n\nIndigenous Week at La Trobe University is a time to celebrate\, recognise and engage with the diverse cultures\, knowledges and contributions of Aboriginal and Torres Strait Islander peoples across all campuses. \n\n\n\nHeld each August\, this week reflects La Trobe’s ongoing commitment to truth-telling\, reconciliation and embedding Indigenous perspectives throughout the university community. \n\n\n\nThis week is not just a series of events\, it’s about\, sharing\, connection to community\, Country and culture. All members of the La Trobe community\, including students\, are invited to listen deeply\, walk alongside\, participate in activities\, share a meal and contribute to a culturally respectful and inclusive university environment.
URL:https://www.latrobe.edu.au/mylatrobe/event/emu-caller-wood-burning-workshop-lunch/
LOCATION:Ironbark Centre\, La Trobe University Bendigo Campus\, Flora Hill\, VIC\, 3550\, Australia
CATEGORIES:Bendigo
ATTACH;FMTTYPE=image/png:https://www.latrobe.edu.au/mylatrobe/wp-content/uploads/2025/08/WordPress-Article-650-x-400_indigenous-week.png
END:VEVENT
BEGIN:VEVENT
DTSTART;TZID=Australia/Melbourne:20250826T120000
DTEND;TZID=Australia/Melbourne:20250826T120000
DTSTAMP:20260420T065943
CREATED:20250723T064031Z
LAST-MODIFIED:20250723T064036Z
UID:52810-1756209600-1756209600@www.latrobe.edu.au
SUMMARY:LTSA - Welcome to campus lunch
DESCRIPTION:Welcome to Semester 2! Join the LTSA for FREE pizza in the La Trobe Student Union. \n\n\n\nWhen: Tuesday 26 August\, from 12pm until it’s gone! \n\n\n\nWhere: LSU\, Bendigo Campus \n\n\n\nGluten free and vegetarian options will be available. \n\n\n\nBe quick\, or you might miss out! \n\n\n\nFind out more
URL:https://www.latrobe.edu.au/mylatrobe/event/ltsa-welcome-to-campus-lunch/
CATEGORIES:Bendigo
ATTACH;FMTTYPE=image/jpeg:https://www.latrobe.edu.au/mylatrobe/wp-content/uploads/2025/07/LTSA-free-pizza.jpg
END:VEVENT
BEGIN:VEVENT
DTSTART;TZID=Australia/Melbourne:20250821T150000
DTEND;TZID=Australia/Melbourne:20250821T150000
DTSTAMP:20260420T065943
CREATED:20250724T040920Z
LAST-MODIFIED:20250731T040819Z
UID:52966-1755788400-1755788400@www.latrobe.edu.au
SUMMARY:Manage your References with Endnote
DESCRIPTION:Learn how to use EndNote for reference management. Create a library\, add and modify references and use EndNote within Microsoft Word. Attendees are advised to have prior knowledge of referencing.
URL:https://www.latrobe.edu.au/mylatrobe/event/manage-your-references-with-endnote-4/
CATEGORIES:Albury-Wodonga,Bendigo,Bundoora,City,Mildura,Multi-Campus,Online,Shepparton,Sydney
END:VEVENT
BEGIN:VEVENT
DTSTART;TZID=Australia/Melbourne:20250821T140000
DTEND;TZID=Australia/Melbourne:20250821T140000
DTSTAMP:20260420T065943
CREATED:20250724T040920Z
LAST-MODIFIED:20250731T040511Z
UID:52965-1755784800-1755784800@www.latrobe.edu.au
SUMMARY:Write that Assignment: Reports for the Sciences
DESCRIPTION:This workshop focuses on how to write scientific reports\, with tips on structure\, style and use of evidence. It will detail what should be included in each section\, and also cover common errors.
URL:https://www.latrobe.edu.au/mylatrobe/event/write-that-assignment-reports-for-the-sciences/
CATEGORIES:Albury-Wodonga,Bendigo,Bundoora,City,Mildura,Multi-Campus,Online,Shepparton,Sydney
END:VEVENT
BEGIN:VEVENT
DTSTART;TZID=Australia/Melbourne:20250821T110000
DTEND;TZID=Australia/Melbourne:20250821T110000
DTSTAMP:20260420T065943
CREATED:20250724T061757Z
LAST-MODIFIED:20250731T045429Z
UID:53157-1755774000-1755774000@www.latrobe.edu.au
SUMMARY:ThursYAY - Free Soup Day
DESCRIPTION:Warm up this winter with a free soup and roll! Show your ID to pick up your Winter Warmer voucher from a member of the Campus Engagement Team in the LSU and redeem it at JD Café. A perfect way to beat the chill – delicious\, comforting\, and completely free! Don’t miss out – grab yours while they last!
URL:https://www.latrobe.edu.au/mylatrobe/event/thursyay-free-soup-day-2/
LOCATION:LSU
CATEGORIES:Bendigo
END:VEVENT
BEGIN:VEVENT
DTSTART;TZID=Australia/Melbourne:20250820T183000
DTEND;TZID=Australia/Melbourne:20250820T210000
DTSTAMP:20260420T065943
CREATED:20250723T064802Z
LAST-MODIFIED:20250723T064905Z
UID:52801-1755714600-1755723600@www.latrobe.edu.au
SUMMARY:LTSA Bendigo: Trivia Night
DESCRIPTION:Join our LTSA Student Council for a fun night of trivia in the La Trobe Student Union. \n\n\n\nThis is a FREE event with pizza and soft drinks provided. \n\n\n\nYou’ll have the chance to win prizes throughout the night – including vouchers from the Queens Arms Hotel and Walkers Donuts. There’s also LTSA merch and other goodies up for grabs!  \n\n\n\nTeams will consist of a minimum of 2 and a maximum of 8 people. \n\n\n\nRegister as a team\, or come alone. If you register as an individual\, we’ll create a team for you! \n\n\n\n*Strictly no BYO \n\n\n\nWhen: Wednesday August 20\, 6.30 pm-9 pm \n\n\n\nWhere: LSU\, Bendigo Campus \n\n\n\nRegister and find out more!
URL:https://www.latrobe.edu.au/mylatrobe/event/ltsa-bendigo-trivia-night-3/
CATEGORIES:Bendigo
END:VEVENT
END:VCALENDAR