BEGIN:VCALENDAR
VERSION:2.0
PRODID:-//MyLaTrobe - ECPv6.15.20//NONSGML v1.0//EN
CALSCALE:GREGORIAN
METHOD:PUBLISH
X-WR-CALNAME:MyLaTrobe
X-ORIGINAL-URL:https://www.latrobe.edu.au/mylatrobe
X-WR-CALDESC:Events for MyLaTrobe
REFRESH-INTERVAL;VALUE=DURATION:PT1H
X-Robots-Tag:noindex
X-PUBLISHED-TTL:PT1H
BEGIN:VTIMEZONE
TZID:Australia/Melbourne
BEGIN:STANDARD
TZOFFSETFROM:+1100
TZOFFSETTO:+1000
TZNAME:AEST
DTSTART:20230401T160000
END:STANDARD
BEGIN:DAYLIGHT
TZOFFSETFROM:+1000
TZOFFSETTO:+1100
TZNAME:AEDT
DTSTART:20230930T160000
END:DAYLIGHT
BEGIN:STANDARD
TZOFFSETFROM:+1100
TZOFFSETTO:+1000
TZNAME:AEST
DTSTART:20240406T160000
END:STANDARD
BEGIN:DAYLIGHT
TZOFFSETFROM:+1000
TZOFFSETTO:+1100
TZNAME:AEDT
DTSTART:20241005T160000
END:DAYLIGHT
BEGIN:STANDARD
TZOFFSETFROM:+1100
TZOFFSETTO:+1000
TZNAME:AEST
DTSTART:20250405T160000
END:STANDARD
BEGIN:DAYLIGHT
TZOFFSETFROM:+1000
TZOFFSETTO:+1100
TZNAME:AEDT
DTSTART:20251004T160000
END:DAYLIGHT
END:VTIMEZONE
BEGIN:VEVENT
DTSTART;TZID=Australia/Melbourne:20240509T100000
DTEND;TZID=Australia/Melbourne:20240509T100000
DTSTAMP:20260420T230927
CREATED:20240320T232117Z
LAST-MODIFIED:20240430T002422Z
UID:43687-1715248800-1715248800@www.latrobe.edu.au
SUMMARY:Weekly Activation - Free Coffee Thursday
DESCRIPTION:Enjoy a complimentary coffee on us at the LSU! Just show your student ID to claim your free hot drink.
URL:https://www.latrobe.edu.au/mylatrobe/event/weekly-activation-free-coffees-3/
CATEGORIES:Bendigo
ATTACH;FMTTYPE=image/png:https://www.latrobe.edu.au/mylatrobe/wp-content/uploads/2024/03/image-free-coffee.png
END:VEVENT
BEGIN:VEVENT
DTSTART;TZID=Australia/Melbourne:20240509T000000
DTEND;TZID=Australia/Melbourne:20240511T000000
DTSTAMP:20260420T230927
CREATED:20240320T232118Z
LAST-MODIFIED:20240320T232118Z
UID:43692-1715212800-1715385600@www.latrobe.edu.au
SUMMARY:UniSport Swimming Nationals
DESCRIPTION:Get your goggles on\, Team La Trobe heads to Sydney to compete in UniSport Swimming Nationals! La Trobe University will battle it out against 43 other member universities in an event that cannot be missed. “For updated event information please visit\, https://www.latrobe.edu.au/sport/play-sport/represent/university-nationals’
URL:https://www.latrobe.edu.au/mylatrobe/event/unisport-swimming-nationals-2/
CATEGORIES:Bendigo
END:VEVENT
BEGIN:VEVENT
DTSTART;TZID=Australia/Melbourne:20240508T120000
DTEND;TZID=Australia/Melbourne:20240508T120000
DTSTAMP:20260420T230927
CREATED:20240320T232118Z
LAST-MODIFIED:20240320T232118Z
UID:43684-1715169600-1715169600@www.latrobe.edu.au
SUMMARY:Weekly Activation - Wednesday Fun
DESCRIPTION:Ice Cream and Music
URL:https://www.latrobe.edu.au/mylatrobe/event/weekly-activation-wednesday-fun-2/
CATEGORIES:Bendigo
END:VEVENT
BEGIN:VEVENT
DTSTART;TZID=Australia/Melbourne:20240507T120000
DTEND;TZID=Australia/Melbourne:20240507T140000
DTSTAMP:20260420T230927
CREATED:20240501T234748Z
LAST-MODIFIED:20240501T235119Z
UID:44843-1715083200-1715090400@www.latrobe.edu.au
SUMMARY:LTSA Bendigo Winter Warmers\, free soup lunch
DESCRIPTION:Join LTSA in the LSU from 12pm-2pm for FREE delicious soup and a vairety of knitted goods\, donated by Needles & Threads\, Bendigo. \n\n\n\n*Vegan\, Vegetarian\, Halal and dairy free options provided.
URL:https://www.latrobe.edu.au/mylatrobe/event/ltsa-bendigo-winter-warmers-free-soup-lunch/
CATEGORIES:Bendigo
END:VEVENT
BEGIN:VEVENT
DTSTART;TZID=Australia/Melbourne:20240503T150000
DTEND;TZID=Australia/Melbourne:20240503T164500
DTSTAMP:20260420T230927
CREATED:20240423T052103Z
LAST-MODIFIED:20240430T055815Z
UID:44636-1714748400-1714754700@www.latrobe.edu.au
SUMMARY:Central Deborah Gold Mine tour
DESCRIPTION:This event has been postponed until Semester 2. Dates TBC.\n\n\n\nExplore the hidden underground tunnels of a real gold mine that operated during the gold rush boom of the 1900s \n\n\n\nStudents to meet our LTSA Committee member David at the Victoria Street Central Deborah mine at 3:45pm and descend 61 metres underground with a friendly and knowledgeable guide to experience the conditions as a miner. The tour will run for 75 minutes.  \n\n\n\nComfortable clothing and closed toe shoes are required\, along with warm clothing. Hard hats will be provided on the day. This tour is a small group and is for all fitness levels.  \n\n\n\n*** limited tickets available
URL:https://www.latrobe.edu.au/mylatrobe/event/central-deborah-gold-mine-tour/
LOCATION:Central Deborah Tourist Mine H.a.\, 76 Violet Street Bendigo\, Bendigo\, VIC\, 3550\, Australia
CATEGORIES:Bendigo
END:VEVENT
BEGIN:VEVENT
DTSTART;TZID=Australia/Melbourne:20240502T100000
DTEND;TZID=Australia/Melbourne:20240502T100000
DTSTAMP:20260420T230927
CREATED:20240320T232034Z
LAST-MODIFIED:20240320T232120Z
UID:43675-1714644000-1714644000@www.latrobe.edu.au
SUMMARY:Weekly Activation - Free Coffees
DESCRIPTION:Free Coffees on the LSU
URL:https://www.latrobe.edu.au/mylatrobe/event/weekly-activation-free-coffees/
CATEGORIES:Bendigo
END:VEVENT
BEGIN:VEVENT
DTSTART;TZID=Australia/Melbourne:20240430T170000
DTEND;TZID=Australia/Melbourne:20240430T190000
DTSTAMP:20260420T230927
CREATED:20240321T035211Z
LAST-MODIFIED:20240321T035211Z
UID:44154-1714496400-1714503600@www.latrobe.edu.au
SUMMARY:Christian Union Bible Talks
DESCRIPTION:Christian Union’s weekly meet up\, where we discuss the Bible and what that means for us\, we have dinner and fun together.
URL:https://www.latrobe.edu.au/mylatrobe/event/christian-union-bible-talks-4/
CATEGORIES:Bendigo
END:VEVENT
BEGIN:VEVENT
DTSTART;TZID=Australia/Melbourne:20240430T113000
DTEND;TZID=Australia/Melbourne:20240430T113000
DTSTAMP:20260420T230927
CREATED:20240320T232035Z
LAST-MODIFIED:20240424T011905Z
UID:43666-1714476600-1714476600@www.latrobe.edu.au
SUMMARY:Market Day Restival UMHD Takeover
DESCRIPTION:University Mental Health Day (UMHD) Market Day Takeover – featuring wellbeing activities\, various stallholders\, free food and conclude with an afternoon stretch session led by La Trobe Sport. Location: LSU.
URL:https://www.latrobe.edu.au/mylatrobe/event/market-day-restival/
CATEGORIES:Bendigo
END:VEVENT
BEGIN:VEVENT
DTSTART;TZID=Australia/Melbourne:20240430T090000
DTEND;TZID=Australia/Melbourne:20240430T103000
DTSTAMP:20260420T230927
CREATED:20240321T035207Z
LAST-MODIFIED:20240321T035207Z
UID:44131-1714467600-1714473000@www.latrobe.edu.au
SUMMARY:Weekly Morning Runs
DESCRIPTION:It’s a time to enjoy the fresh air and socialise. Join Bendigo Run Association for our weekly runs!
URL:https://www.latrobe.edu.au/mylatrobe/event/weekly-morning-runs-4/
CATEGORIES:Bendigo
END:VEVENT
BEGIN:VEVENT
DTSTART;TZID=Australia/Melbourne:20240424T120000
DTEND;TZID=Australia/Melbourne:20240424T120000
DTSTAMP:20260420T230927
CREATED:20240320T232036Z
LAST-MODIFIED:20240320T232121Z
UID:43655-1713960000-1713960000@www.latrobe.edu.au
SUMMARY:Weekly Activation - Wednesday Fun
DESCRIPTION:Ice Cream and Music
URL:https://www.latrobe.edu.au/mylatrobe/event/weekly-activation-wednesday-fun/
CATEGORIES:Bendigo
END:VEVENT
BEGIN:VEVENT
DTSTART;TZID=Australia/Melbourne:20240423T170000
DTEND;TZID=Australia/Melbourne:20240423T190000
DTSTAMP:20260420T230927
CREATED:20240321T035207Z
LAST-MODIFIED:20240321T035207Z
UID:44129-1713891600-1713898800@www.latrobe.edu.au
SUMMARY:Christian Union Bible Talks
DESCRIPTION:Christian Union’s weekly meet up\, where we discuss the Bible and what that means for us\, we have dinner and fun together.
URL:https://www.latrobe.edu.au/mylatrobe/event/christian-union-bible-talks-3/
CATEGORIES:Bendigo
END:VEVENT
BEGIN:VEVENT
DTSTART;TZID=Australia/Melbourne:20240422T163000
DTEND;TZID=Australia/Melbourne:20240422T173000
DTSTAMP:20260420T230927
CREATED:20240321T035206Z
LAST-MODIFIED:20240321T035206Z
UID:44123-1713803400-1713807000@www.latrobe.edu.au
SUMMARY:Christian Union Training Hour
DESCRIPTION:Meeting as a club for Christians to be trained in applying the Bible to being a uni student.
URL:https://www.latrobe.edu.au/mylatrobe/event/christian-union-training-hour-3/
CATEGORIES:Bendigo
END:VEVENT
BEGIN:VEVENT
DTSTART;TZID=Australia/Melbourne:20240422T120000
DTEND;TZID=Australia/Melbourne:20240422T130000
DTSTAMP:20260420T230927
CREATED:20240411T022758Z
LAST-MODIFIED:20240418T002419Z
UID:44489-1713787200-1713790800@www.latrobe.edu.au
SUMMARY:Play For Fun Basketball
DESCRIPTION:Forget your studies\, de-stress\, shoot some hoops and have a laugh… No matter your skill level\, come along and join in our play for fun basketball sessions as part of the La Trobe Leaders Program. We’ll make up the rules as we go along… It’s a great way to connect with La Trobe Leaders\, make some friends\, what’s more it’s free! \n\n\n\nIf you’d like to know more…. reach out to us at leaders@latrobe.edu.au \n\n\n\nMonday April 22 at the Bendigo Sports Precinct Indoor Court!
URL:https://www.latrobe.edu.au/mylatrobe/event/play-for-fun-basketball/
CATEGORIES:Bendigo
END:VEVENT
BEGIN:VEVENT
DTSTART;TZID=Australia/Melbourne:20240418T100000
DTEND;TZID=Australia/Melbourne:20240418T100000
DTSTAMP:20260420T230927
CREATED:20240320T232038Z
LAST-MODIFIED:20240320T232038Z
UID:43645-1713434400-1713434400@www.latrobe.edu.au
SUMMARY:Weekly Activation - Free Coffees
DESCRIPTION:Free Coffees on the LSU
URL:https://www.latrobe.edu.au/mylatrobe/event/weekly-activation-free-coffees-2/
CATEGORIES:Bendigo
END:VEVENT
BEGIN:VEVENT
DTSTART;TZID=Australia/Melbourne:20240416T113000
DTEND;TZID=Australia/Melbourne:20240416T113000
DTSTAMP:20260420T230927
CREATED:20240320T232038Z
LAST-MODIFIED:20240320T232038Z
UID:43641-1713267000-1713267000@www.latrobe.edu.au
SUMMARY:Market Day
DESCRIPTION:Club stalls\, info stalls\, free bbq
URL:https://www.latrobe.edu.au/mylatrobe/event/market-day-3/
CATEGORIES:Bendigo
END:VEVENT
BEGIN:VEVENT
DTSTART;TZID=Australia/Melbourne:20240416T090000
DTEND;TZID=Australia/Melbourne:20240416T103000
DTSTAMP:20260420T230927
CREATED:20240321T020509Z
LAST-MODIFIED:20240321T020509Z
UID:44023-1713258000-1713263400@www.latrobe.edu.au
SUMMARY:Weekly Morning Runs
DESCRIPTION:It’s a time to enjoy the fresh air and socialise. Join Bendigo Run Association for our weekly runs!
URL:https://www.latrobe.edu.au/mylatrobe/event/weekly-morning-runs-3/
CATEGORIES:Bendigo
END:VEVENT
BEGIN:VEVENT
DTSTART;TZID=Australia/Melbourne:20240411T100000
DTEND;TZID=Australia/Melbourne:20240411T100000
DTSTAMP:20260420T230927
CREATED:20240320T232528Z
LAST-MODIFIED:20240320T232528Z
UID:43630-1712829600-1712829600@www.latrobe.edu.au
SUMMARY:Weekly Activation - Free Coffees
DESCRIPTION:Free Coffees on the LSU
URL:https://www.latrobe.edu.au/mylatrobe/event/weekly-activation-free-coffees-4/
CATEGORIES:Bendigo
END:VEVENT
BEGIN:VEVENT
DTSTART;TZID=Australia/Melbourne:20240410T180000
DTEND;TZID=Australia/Melbourne:20240410T180000
DTSTAMP:20260420T230927
CREATED:20240320T232528Z
LAST-MODIFIED:20240320T232528Z
UID:43629-1712772000-1712772000@www.latrobe.edu.au
SUMMARY:La Trobe League - Mixed Netball
DESCRIPTION:Socialise with like-minded students in our Mixed Netball competition\, played weekly on a Wednesday on campus!
URL:https://www.latrobe.edu.au/mylatrobe/event/la-trobe-league-mixed-netball/
CATEGORIES:Bendigo
END:VEVENT
BEGIN:VEVENT
DTSTART;TZID=Australia/Melbourne:20240410T120000
DTEND;TZID=Australia/Melbourne:20240410T120000
DTSTAMP:20260420T230927
CREATED:20240320T232528Z
LAST-MODIFIED:20240320T232528Z
UID:43627-1712750400-1712750400@www.latrobe.edu.au
SUMMARY:Weekly Activation -  Wednesday Fun
DESCRIPTION:Ice-cream Cart & Music
URL:https://www.latrobe.edu.au/mylatrobe/event/weekly-activation-wednesday-fun-3/
CATEGORIES:Bendigo
END:VEVENT
BEGIN:VEVENT
DTSTART;TZID=Australia/Melbourne:20240409T170000
DTEND;TZID=Australia/Melbourne:20240409T190000
DTSTAMP:20260420T230927
CREATED:20240321T020356Z
LAST-MODIFIED:20240321T020356Z
UID:44020-1712682000-1712689200@www.latrobe.edu.au
SUMMARY:Christian Union Bible Talks
DESCRIPTION:Christian Union’s weekly meet up\, where we discuss the Bible and what that means for us\, we have dinner and fun together.
URL:https://www.latrobe.edu.au/mylatrobe/event/christian-union-bible-talks-2/
CATEGORIES:Bendigo
END:VEVENT
BEGIN:VEVENT
DTSTART;TZID=Australia/Melbourne:20240409T170000
DTEND;TZID=Australia/Melbourne:20240409T190000
DTSTAMP:20260420T230927
CREATED:20240321T020356Z
LAST-MODIFIED:20240321T020356Z
UID:44022-1712682000-1712689200@www.latrobe.edu.au
SUMMARY:Loupes Fest
DESCRIPTION:An event in which various companies with their respective representatives will advertise their loupes to dentistry and oral health students
URL:https://www.latrobe.edu.au/mylatrobe/event/loupes-fest/
CATEGORIES:Bendigo
END:VEVENT
BEGIN:VEVENT
DTSTART;TZID=Australia/Melbourne:20240409T090000
DTEND;TZID=Australia/Melbourne:20240409T103000
DTSTAMP:20260420T230927
CREATED:20240321T020352Z
LAST-MODIFIED:20240321T020352Z
UID:43997-1712653200-1712658600@www.latrobe.edu.au
SUMMARY:Weekly Morning Runs
DESCRIPTION:It’s a time to enjoy the fresh air and socialise. Join Bendigo Run Association for our weekly runs!
URL:https://www.latrobe.edu.au/mylatrobe/event/weekly-morning-runs-2/
CATEGORIES:Bendigo
END:VEVENT
BEGIN:VEVENT
DTSTART;TZID=Australia/Melbourne:20240408T163000
DTEND;TZID=Australia/Melbourne:20240408T173000
DTSTAMP:20260420T230927
CREATED:20240321T020355Z
LAST-MODIFIED:20240321T020355Z
UID:44014-1712593800-1712597400@www.latrobe.edu.au
SUMMARY:Christian Union Training Hour
DESCRIPTION:Meeting as a club for Christians to be trained in applying the Bible to being a uni student.
URL:https://www.latrobe.edu.au/mylatrobe/event/christian-union-training-hour-2/
CATEGORIES:Bendigo
END:VEVENT
BEGIN:VEVENT
DTSTART;TZID=Australia/Melbourne:20240402T090000
DTEND;TZID=Australia/Melbourne:20240402T103000
DTSTAMP:20260420T230927
CREATED:20240321T020134Z
LAST-MODIFIED:20240321T020134Z
UID:43969-1712048400-1712053800@www.latrobe.edu.au
SUMMARY:Weekly Morning Runs
DESCRIPTION:It’s a time to enjoy the fresh air and socialise. Join Bendigo Run Association for our weekly runs!
URL:https://www.latrobe.edu.au/mylatrobe/event/weekly-morning-runs/
CATEGORIES:Bendigo
END:VEVENT
BEGIN:VEVENT
DTSTART;TZID=Australia/Melbourne:20240328T170000
DTEND;TZID=Australia/Melbourne:20240328T193000
DTSTAMP:20260420T230927
CREATED:20240321T020136Z
LAST-MODIFIED:20240321T020136Z
UID:43981-1711645200-1711654200@www.latrobe.edu.au
SUMMARY:Colgate Tooth Whitening Seminar
DESCRIPTION:Seminar held by Cathryn Carboon from Colgate regarding tooth whitening for a duration of 2 hours
URL:https://www.latrobe.edu.au/mylatrobe/event/colgate-tooth-whitening-seminar/
CATEGORIES:Bendigo
END:VEVENT
BEGIN:VEVENT
DTSTART;TZID=Australia/Melbourne:20240328T100000
DTEND;TZID=Australia/Melbourne:20240328T120000
DTSTAMP:20260420T230927
CREATED:20240320T005302Z
LAST-MODIFIED:20240320T221356Z
UID:43549-1711620000-1711627200@www.latrobe.edu.au
SUMMARY:Mind the Mind Workshop
DESCRIPTION:In this 2-hour zoom workshop you’ll learn how to offer support as a student leader by: \n\n\n\nRecognizing symptoms of mental illness in others and how to respond with empathy while maintaining boundaries \n\n\n\nRecognizing the drivers of gender-based violence\, understanding your rights and responsibilities in responding to inappropriate or unsafe behaviors \n\n\n\nThis event is open to La Trobe Leaders Program and Excellence Academy members. \n\n\n\nReserve your spot in this workshop here
URL:https://www.latrobe.edu.au/mylatrobe/event/mind-the-mind-workshop/
CATEGORIES:Bendigo,Bundoora,City
END:VEVENT
BEGIN:VEVENT
DTSTART;TZID=Australia/Melbourne:20240328T100000
DTEND;TZID=Australia/Melbourne:20240328T100000
DTSTAMP:20260420T230927
CREATED:20240320T232529Z
LAST-MODIFIED:20240430T002729Z
UID:43619-1711620000-1711620000@www.latrobe.edu.au
SUMMARY:Weekly Activation - Free Coffees
DESCRIPTION:EG: Cohort Coffees\, Tuesday Morning Muffins\, Breakfast with Buddies\, Wellness Walk around Campus\, Acoustic Wednesdays\, Chill Out Zone with music and colouring\,
URL:https://www.latrobe.edu.au/mylatrobe/event/weekly-activation-free-coffees-5/
CATEGORIES:Bendigo
END:VEVENT
BEGIN:VEVENT
DTSTART;TZID=Australia/Melbourne:20240327T180000
DTEND;TZID=Australia/Melbourne:20240327T220000
DTSTAMP:20260420T230927
CREATED:20240321T020135Z
LAST-MODIFIED:20240321T020135Z
UID:43974-1711562400-1711576800@www.latrobe.edu.au
SUMMARY:BLISS Grand Iftar
DESCRIPTION:The Grand Iftar will be a large evening event where the Bendigo Latrobe Islamic student society (BLISS) committee will be catering food and drinks (from restaurants in Bendigo) to the large Muslim community of Bendigo. The Grand Iftar event will feature Islamic vocal singers\, an opening speech and designated times for prayer.
URL:https://www.latrobe.edu.au/mylatrobe/event/bliss-grand-iftar/
CATEGORIES:Bendigo
END:VEVENT
BEGIN:VEVENT
DTSTART;TZID=Australia/Melbourne:20240327T180000
DTEND;TZID=Australia/Melbourne:20240327T180000
DTSTAMP:20260420T230927
CREATED:20240320T232530Z
LAST-MODIFIED:20240320T233929Z
UID:43613-1711562400-1711562400@www.latrobe.edu.au
SUMMARY:ReOrientation Drag Trivia Night
DESCRIPTION:Drag Queen Trivia @ Piano Bar
URL:https://www.latrobe.edu.au/mylatrobe/event/reorientation-drag-trivia-night/
CATEGORIES:Bendigo
END:VEVENT
BEGIN:VEVENT
DTSTART;TZID=Australia/Melbourne:20240327T130000
DTEND;TZID=Australia/Melbourne:20240327T130000
DTSTAMP:20260420T230927
CREATED:20240320T233929Z
LAST-MODIFIED:20240321T002316Z
UID:43610-1711544400-1711544400@www.latrobe.edu.au
SUMMARY:Managing your Financial Wellbeing
DESCRIPTION:Managing your finances can be quite stressful\, especially with the current cost of living crisis\, not to mention trying to balance study with need to work and/or living away from home for the first time. To help relieve some of that stress and worry\, register for the following online session which will cover topics like budgeting\, knowing your Centrelink entitlements\, general money saving tips\, things to watch out for (scams!) and more.
URL:https://www.latrobe.edu.au/mylatrobe/event/manageing-your-financial-wellbeing-2/
CATEGORIES:Albury-Wodonga,Bendigo,Bundoora,City,Mildura,Online,Shepparton
END:VEVENT
END:VCALENDAR