BEGIN:VCALENDAR
VERSION:2.0
PRODID:-//MyLaTrobe - ECPv6.15.20//NONSGML v1.0//EN
CALSCALE:GREGORIAN
METHOD:PUBLISH
X-ORIGINAL-URL:https://www.latrobe.edu.au/mylatrobe
X-WR-CALDESC:Events for MyLaTrobe
REFRESH-INTERVAL;VALUE=DURATION:PT1H
X-Robots-Tag:noindex
X-PUBLISHED-TTL:PT1H
BEGIN:VTIMEZONE
TZID:Australia/Melbourne
BEGIN:STANDARD
TZOFFSETFROM:+1100
TZOFFSETTO:+1000
TZNAME:AEST
DTSTART:20230401T160000
END:STANDARD
BEGIN:DAYLIGHT
TZOFFSETFROM:+1000
TZOFFSETTO:+1100
TZNAME:AEDT
DTSTART:20230930T160000
END:DAYLIGHT
BEGIN:STANDARD
TZOFFSETFROM:+1100
TZOFFSETTO:+1000
TZNAME:AEST
DTSTART:20240406T160000
END:STANDARD
BEGIN:DAYLIGHT
TZOFFSETFROM:+1000
TZOFFSETTO:+1100
TZNAME:AEDT
DTSTART:20241005T160000
END:DAYLIGHT
BEGIN:STANDARD
TZOFFSETFROM:+1100
TZOFFSETTO:+1000
TZNAME:AEST
DTSTART:20250405T160000
END:STANDARD
BEGIN:DAYLIGHT
TZOFFSETFROM:+1000
TZOFFSETTO:+1100
TZNAME:AEDT
DTSTART:20251004T160000
END:DAYLIGHT
END:VTIMEZONE
BEGIN:VEVENT
DTSTART;TZID=Australia/Melbourne:20241017T180000
DTEND;TZID=Australia/Melbourne:20241017T193000
DTSTAMP:20260420T170621
CREATED:20240926T064908Z
LAST-MODIFIED:20241010T014353Z
UID:47654-1729188000-1729193400@www.latrobe.edu.au
SUMMARY:The 2024 Sir John Quick Lecture -  A Living Democracy: How Well Has Australian Democracy Responded to a Changing Society?
DESCRIPTION:Presented by Professor Frank Bongiorno AM \n\n\n\n\n\n\n\nThe lecture will run from 6 – 7.15 pm\, followed by networking and refreshments.  \n\n\n\nSince 1893\, Sir John Quick has an honoured place in the history of Australian democracy\, arising from his key role in the design\, of a democratic pathway to the achievement of Federation.  \n\n\n\nHe was also co-author with Robert Garran\, of the foundational study of the federal movement and constitution.  \n\n\n\nYet Quick’s career also reminds us of the racially restrictive features of Australia’s emerging democracy in the nineteenth century.  \n\n\n\nAs a young politician in 1880\, he had initiated a bill to restrict the voting rights of Chinese migrants in Victorian elections – ‘a vindictive proceeding’\, said the Bendigo Advertiser.  \n\n\n\nThis lecture will explore some aspects of the past and present of Australian democracy\, by examining its double-sidedness as a system designed by and for white British men; that nonetheless provided openings for wider participation and influence by marginalised groups.  \n\n\n\nWhile much has changed since Quick’s time\, similar tensions and possibilities remain at the heart of our democracy – a system that ostensibly welcomes wide participation while still imposing formal and informal restrictions that undermine its quality. \n\n\n\n\nGET TICKETS
URL:https://www.latrobe.edu.au/mylatrobe/event/the-2024-sir-john-quick-lecture-a-living-democracy-how-well-has-australian-democracy-responded-to-a-changing-society/
LOCATION:The Capital\, 50 View Street\, Bendigo\, Victoria\, 3550\, Australia
CATEGORIES:Bendigo
END:VEVENT
BEGIN:VEVENT
DTSTART;TZID=Australia/Melbourne:20241017T100000
DTEND;TZID=Australia/Melbourne:20241017T100000
DTSTAMP:20260420T170621
CREATED:20240705T000622Z
LAST-MODIFIED:20240705T003249Z
UID:45903-1729159200-1729159200@www.latrobe.edu.au
SUMMARY:Weekly Activation - Free Coffee Thursdays
DESCRIPTION:Enjoy a complimentary coffee on us at the LSU! Just show your student ID to claim your free hot drink.
URL:https://www.latrobe.edu.au/mylatrobe/event/weekly-activation-free-coffee-thursdays-7/
LOCATION:LSU
CATEGORIES:Bendigo
END:VEVENT
BEGIN:VEVENT
DTSTART;TZID=Australia/Melbourne:20241016T080000
DTEND;TZID=Australia/Melbourne:20241016T100000
DTSTAMP:20260420T170621
CREATED:20240705T000622Z
LAST-MODIFIED:20240711T020933Z
UID:45901-1729065600-1729072800@www.latrobe.edu.au
SUMMARY:Bendigo Bikers Brekkie - Ride to Uni Day
DESCRIPTION:Free breakfast on the LSU for students and staff who ride to campus today! 
URL:https://www.latrobe.edu.au/mylatrobe/event/bikers-brekkie-ride-to-uni-day/
CATEGORIES:Bendigo,Online
END:VEVENT
BEGIN:VEVENT
DTSTART;TZID=Australia/Melbourne:20241010T100000
DTEND;TZID=Australia/Melbourne:20241010T100000
DTSTAMP:20260420T170621
CREATED:20240705T000623Z
LAST-MODIFIED:20240705T003251Z
UID:45895-1728554400-1728554400@www.latrobe.edu.au
SUMMARY:Weekly Activation - Free Coffee Thursdays
DESCRIPTION:Enjoy a complimentary coffee on us at the LSU! Just show your student ID to claim your free hot drink.
URL:https://www.latrobe.edu.au/mylatrobe/event/weekly-activation-free-coffee-thursdays-8/
LOCATION:LSU
CATEGORIES:Bendigo
END:VEVENT
BEGIN:VEVENT
DTSTART;TZID=Australia/Melbourne:20241009T163000
DTEND;TZID=Australia/Melbourne:20241009T183000
DTSTAMP:20260420T170621
CREATED:20241004T030528Z
LAST-MODIFIED:20241004T030531Z
UID:47752-1728491400-1728498600@www.latrobe.edu.au
SUMMARY:PINK-TOBER: interactive information session
DESCRIPTION:Join us for a free\, interactive information session about cervical and breast cancer screening options. \n\n\n\nDelivered in collaboration with the Multicultural Youth Advocacy Network (MYAN) Youth Advisory Group\, the Bendigo Campus team\, as well as local health and screening professionals\, PINK-TOBER is open to all individuals eligible for breast and cervical cancer screening whether you have questions or are just looking to stay informed. Supper and goodies will also be provided for all attendees! \n\n\n\n\nRegister now
URL:https://www.latrobe.edu.au/mylatrobe/event/pink-tober-interactive-information-session/
LOCATION:Engineering Building ET 103\, Bendigo Campus\, Edwards Road\, Flora Hill\, VIC\, 3550\, Australia
CATEGORIES:Bendigo
END:VEVENT
BEGIN:VEVENT
DTSTART;TZID=Australia/Melbourne:20241008T163000
DTEND;TZID=Australia/Melbourne:20241008T163000
DTSTAMP:20260420T170621
CREATED:20240705T000624Z
LAST-MODIFIED:20240925T051905Z
UID:45888-1728405000-1728405000@www.latrobe.edu.au
SUMMARY:Night Market (End of Year Party Celebration)
DESCRIPTION:Join us for the highly anticipated return of the Night Market at La Trobe Bendigo—an exciting End of Year Party! Explore club stalls\, information booths\, food trucks\, enjoy live music\, be mesmerized by a hypnotist’s show\, and celebrate the year in style. Don’t miss out on this fun-filled evening!
URL:https://www.latrobe.edu.au/mylatrobe/event/night-market-end-of-year-party-celebration/
LOCATION:Plaza\, Australia
CATEGORIES:Bendigo
END:VEVENT
BEGIN:VEVENT
DTSTART;TZID=Australia/Melbourne:20241007T150000
DTEND;TZID=Australia/Melbourne:20241007T163000
DTSTAMP:20260420T170621
CREATED:20240705T000624Z
LAST-MODIFIED:20240711T060156Z
UID:45884-1728313200-1728318600@www.latrobe.edu.au
SUMMARY:How To Start A Club - Online Info Session
DESCRIPTION:Looking to start your own student club? Want to find out more about community on campus?  \nJoin the next ‘How To Start A Club’ information session online and find out more! \nRegister to attend one of the upcoming virtual sessions HERE. \nDiscover more about the La Trobe University Clubs & Societies program online. 
URL:https://www.latrobe.edu.au/mylatrobe/event/how-to-start-a-club-info-sesh-6/
CATEGORIES:Albury-Wodonga,Bendigo,Bundoora,City,Mildura,Online,Shepparton
ORGANIZER;CN="La Trobe Clubs Team":MAILTO:clubs@latrobe.edu.au
END:VEVENT
BEGIN:VEVENT
DTSTART;TZID=Australia/Melbourne:20241003T100000
DTEND;TZID=Australia/Melbourne:20241003T100000
DTSTAMP:20260420T170621
CREATED:20240705T000625Z
LAST-MODIFIED:20240719T003715Z
UID:45881-1727949600-1727949600@www.latrobe.edu.au
SUMMARY:Weekly Activation - Free Coffee Thursdays
DESCRIPTION:Enjoy a complimentary coffee on us at the LSU! Just show your student ID to claim your free hot drink.
URL:https://www.latrobe.edu.au/mylatrobe/event/weekly-activation-free-coffee-thursdays-9/
LOCATION:LSU
CATEGORIES:Bendigo
END:VEVENT
BEGIN:VEVENT
DTSTART;TZID=Australia/Melbourne:20241002T080000
DTEND;TZID=Australia/Melbourne:20241002T100000
DTSTAMP:20260420T170621
CREATED:20240705T000626Z
LAST-MODIFIED:20240711T015839Z
UID:45869-1727856000-1727863200@www.latrobe.edu.au
SUMMARY:Free Bikers Brekkie
DESCRIPTION:Free breakfast on the LSU for students and staff who ride to Uni
URL:https://www.latrobe.edu.au/mylatrobe/event/bikers-brekkie-4/
CATEGORIES:Bendigo,Online
END:VEVENT
BEGIN:VEVENT
DTSTART;TZID=Australia/Melbourne:20240925T110000
DTEND;TZID=Australia/Melbourne:20240925T140000
DTSTAMP:20260420T170621
CREATED:20240912T044605Z
LAST-MODIFIED:20240912T044608Z
UID:47364-1727262000-1727272800@www.latrobe.edu.au
SUMMARY:Feel Good Day LTSA - Bendigo
DESCRIPTION:To celebrate Feel Good Week\, LTSA will be holding a FREE stress ball making stall. Come along and have a conversation with our LTSA Committee and members of the LTU Wellbeing/Counselling team. Receive a FREE small hot drink from JD’s Cafe!
URL:https://www.latrobe.edu.au/mylatrobe/event/feel-good-day-ltsa-bendigo/
LOCATION:La Trobe University Campus Bendigo\, Edwards Road\, Flora Hill\, Victoria\, 3552\, Australia
CATEGORIES:Bendigo
END:VEVENT
BEGIN:VEVENT
DTSTART;TZID=Australia/Melbourne:20240924T113000
DTEND;TZID=Australia/Melbourne:20240924T133000
DTSTAMP:20260420T170621
CREATED:20240704T234905Z
LAST-MODIFIED:20240919T024125Z
UID:45849-1727177400-1727184600@www.latrobe.edu.au
SUMMARY:Feel Good Festival - Market Day Takeover - Bendigo
DESCRIPTION:Take a break from your busy day to focus on feeling good! Re-centre yourself with a free massage or lift your mood with some great free food. There’ll be opportunities to talk to wellbeing services\, connect with other students and have a peaceful pause away from the stresses of studying. \nFrom 11.30 am – 1.30 pm in the LSU Plaza
URL:https://www.latrobe.edu.au/mylatrobe/event/feel-good-festival-market-day-takeover/
LOCATION:Plaza\, Australia
CATEGORIES:Bendigo,Online
ATTACH;FMTTYPE=image/png:https://www.latrobe.edu.au/mylatrobe/wp-content/uploads/2024/07/BE-Feel-Good-Fest-KK-2160-x-1080-px.png
END:VEVENT
BEGIN:VEVENT
DTSTART;TZID=Australia/Melbourne:20240919T100000
DTEND;TZID=Australia/Melbourne:20240919T100000
DTSTAMP:20260420T170621
CREATED:20240704T235653Z
LAST-MODIFIED:20240704T235653Z
UID:45840-1726740000-1726740000@www.latrobe.edu.au
SUMMARY:Weekly Activation - Free Coffee Thursdays
DESCRIPTION:Enjoy a complimentary coffee on us at the LSU! Just show your student ID to claim your free hot drink.
URL:https://www.latrobe.edu.au/mylatrobe/event/weekly-activation-free-coffee-thursdays-6/
LOCATION:LSU
CATEGORIES:Bendigo
END:VEVENT
BEGIN:VEVENT
DTSTART;TZID=Australia/Melbourne:20240916T120000
DTEND;TZID=Australia/Melbourne:20240916T140000
DTSTAMP:20260420T170621
CREATED:20240704T235653Z
LAST-MODIFIED:20240710T050236Z
UID:45834-1726488000-1726495200@www.latrobe.edu.au
SUMMARY:Mondays on campus: Toasties and Tunes
DESCRIPTION:Free toasted sandwiches\, music and chill vibes on the LSU floor. 
URL:https://www.latrobe.edu.au/mylatrobe/event/weekly-activation-funday-monday-12/
LOCATION:LSU
CATEGORIES:Bendigo
END:VEVENT
BEGIN:VEVENT
DTSTART;TZID=Australia/Melbourne:20240910T173000
DTEND;TZID=Australia/Melbourne:20240910T183000
DTSTAMP:20260420T170621
CREATED:20240820T070816Z
LAST-MODIFIED:20240820T070819Z
UID:46969-1725989400-1725993000@www.latrobe.edu.au
SUMMARY:GS Watson Lecture 2024 - A Mathemagical Mystery Tour: Large Numbers and Great Mathematicians
DESCRIPTION:Join us on an entertaining and interactive journey through the history and culture of mathematics! \n\n\n\nThe GS Watson Lecture – A Mathemagical Mystery Tour: Large Numbers and Great Mathematicians\, delves into some of the most famous solved and unsolved problems in mathematics. \n\n\n\nHear about people who have shaped mathematics throughout the centuries and some interesting and important numbers\, during this free presentation by Professor Karl Dilcher of Dalhousie University\, Canada. \n\n\n\nVenue: Circular Lecture Theatre La Trobe Bendigo Campus. \n\n\n\nFind out more!
URL:https://www.latrobe.edu.au/mylatrobe/event/gs-watson-lecture-2024-a-mathemagical-mystery-tour-large-numbers-and-great-mathematicians/
CATEGORIES:Bendigo
END:VEVENT
BEGIN:VEVENT
DTSTART;TZID=Australia/Melbourne:20240907T000000
DTEND;TZID=Australia/Melbourne:20240913T000000
DTSTAMP:20260420T170621
CREATED:20240704T235652Z
LAST-MODIFIED:20240704T235652Z
UID:45829-1725667200-1726185600@www.latrobe.edu.au
SUMMARY:UniSport Nationals (Division 1 & 2)
DESCRIPTION:Welcome to the premier sporting event for University students – UniSport Nationals! Team La Trobe will participate in 15+ sports\, and battle it out against 43 member universities to see who reigns supreme!
URL:https://www.latrobe.edu.au/mylatrobe/event/unisport-nationals-division-1-2-2/
CATEGORIES:Bendigo
END:VEVENT
BEGIN:VEVENT
DTSTART;TZID=Australia/Melbourne:20240905T100000
DTEND;TZID=Australia/Melbourne:20240905T100000
DTSTAMP:20260420T170621
CREATED:20240704T235651Z
LAST-MODIFIED:20240704T235651Z
UID:45823-1725530400-1725530400@www.latrobe.edu.au
SUMMARY:Weekly Activation - Free Coffee Thursdays
DESCRIPTION:Enjoy a complimentary coffee on us at the LSU! Just show your student ID to claim your free hot drink.
URL:https://www.latrobe.edu.au/mylatrobe/event/weekly-activation-free-coffee-thursdays-5/
LOCATION:LSU
CATEGORIES:Bendigo
END:VEVENT
BEGIN:VEVENT
DTSTART;TZID=Australia/Melbourne:20240903T113000
DTEND;TZID=Australia/Melbourne:20240903T113000
DTSTAMP:20260420T170621
CREATED:20240704T235650Z
LAST-MODIFIED:20240704T235650Z
UID:45780-1725363000-1725363000@www.latrobe.edu.au
SUMMARY:Team La Trobe Walk & FUN Run Bendigo
DESCRIPTION:La Trobe’s own fun walk and run. Take part in either a walk or fun run around La Trobe’s picturesque campus surrounds. Enjoy free merch\, food and entertainment at the event hub.
URL:https://www.latrobe.edu.au/mylatrobe/event/team-la-trobe-walk-fun-run-bendigo/
LOCATION:Plaza\, Australia
CATEGORIES:Bendigo
END:VEVENT
BEGIN:VEVENT
DTSTART;TZID=Australia/Melbourne:20240903T113000
DTEND;TZID=Australia/Melbourne:20240903T113000
DTSTAMP:20260420T170621
CREATED:20240704T234904Z
LAST-MODIFIED:20240704T234904Z
UID:45783-1725363000-1725363000@www.latrobe.edu.au
SUMMARY:Market Day
DESCRIPTION:Club stalls\, info stalls\, free bbq
URL:https://www.latrobe.edu.au/mylatrobe/event/market-day-14/
LOCATION:Plaza\, Australia
CATEGORIES:Bendigo
END:VEVENT
BEGIN:VEVENT
DTSTART;TZID=Australia/Melbourne:20240902T120000
DTEND;TZID=Australia/Melbourne:20240902T133000
DTSTAMP:20260420T170621
CREATED:20240704T235649Z
LAST-MODIFIED:20240711T055446Z
UID:45777-1725278400-1725283800@www.latrobe.edu.au
SUMMARY:How To Start A Club - Online Info Session
DESCRIPTION:Looking to start your own student club? Want to find out more about community on campus?  \nJoin the next ‘How To Start A Club’ information session online and find out more! \nRegister to attend one of the upcoming virtual sessions HERE. \nDiscover more about the La Trobe University Clubs & Societies program online. 
URL:https://www.latrobe.edu.au/mylatrobe/event/how-to-start-a-club-info-sesh-4/
CATEGORIES:Albury-Wodonga,Bendigo,Bundoora,City,Mildura,Online,Shepparton,Sydney
END:VEVENT
BEGIN:VEVENT
DTSTART;TZID=Australia/Melbourne:20240902T000000
DTEND;TZID=Australia/Melbourne:20240902T000000
DTSTAMP:20260420T170621
CREATED:20240704T235649Z
LAST-MODIFIED:20240704T235649Z
UID:45776-1725235200-1725235200@www.latrobe.edu.au
SUMMARY:UniSport Snow Nationals
DESCRIPTION:Grab your warm gloves\, Team La Trobe heads to Mt Buller to attempt to reign supremem against other Australian Universities!
URL:https://www.latrobe.edu.au/mylatrobe/event/unisport-snow-nationals/
CATEGORIES:Bendigo
END:VEVENT
BEGIN:VEVENT
DTSTART;TZID=Australia/Melbourne:20240829T100000
DTEND;TZID=Australia/Melbourne:20240829T100000
DTSTAMP:20260420T170621
CREATED:20240704T235648Z
LAST-MODIFIED:20240704T235648Z
UID:45771-1724925600-1724925600@www.latrobe.edu.au
SUMMARY:Weekly Activation - Free Coffee Thursdays
DESCRIPTION:Enjoy a complimentary coffee on us at the LSU! Just show your student ID to claim your free hot drink.
URL:https://www.latrobe.edu.au/mylatrobe/event/weekly-activation-free-coffee-thursdays-4/
LOCATION:LSU
CATEGORIES:Bendigo
END:VEVENT
BEGIN:VEVENT
DTSTART;TZID=Australia/Melbourne:20240828T180000
DTEND;TZID=Australia/Melbourne:20240828T220000
DTSTAMP:20260420T170621
CREATED:20240704T235205Z
LAST-MODIFIED:20240731T040034Z
UID:45697-1724868000-1724882400@www.latrobe.edu.au
SUMMARY:Drag Queen Bingo
DESCRIPTION:?️‍??️‍?Happy La Trobe Pride Week!!?️‍??️‍? \nGet ready for FREE Drag Queen Bingo! Join us for laughter\, dazzling performances\, prizes\, and complimentary food and drink on arrival at Bendigo’s local Piano Bar. It’s bingo like never before—prepare for a fierce and fabulous evening! \nEveryone welcome! Register for your free ticket HERE.
URL:https://www.latrobe.edu.au/mylatrobe/event/drag-queen-bingo/
LOCATION:Piano Bar\, 264 Hargreaves St\, Bendigo\, Victoria\, 3550\, Australia
CATEGORIES:Bendigo,Online
ATTACH;FMTTYPE=image/png:https://www.latrobe.edu.au/mylatrobe/wp-content/uploads/2024/07/Latrobe-Drag-Bingo-July-2024-2160-x-1080-px-1-1.png
END:VEVENT
BEGIN:VEVENT
DTSTART;TZID=Australia/Melbourne:20240827T113000
DTEND;TZID=Australia/Melbourne:20240827T113000
DTSTAMP:20260420T170621
CREATED:20240704T235408Z
LAST-MODIFIED:20240704T235408Z
UID:45765-1724758200-1724758200@www.latrobe.edu.au
SUMMARY:Pride Festival
DESCRIPTION:Let’s paint La Trobe Bendigo in all the colors of the rainbow for Pride! Join us for a day of festivities\, including a flag-raising ceremony\, complimentary food\, entertainment\, and exciting activities. Let’s come together to celebrate diversity and inclusion as a community!
URL:https://www.latrobe.edu.au/mylatrobe/event/pride-festival/
CATEGORIES:Bendigo
END:VEVENT
BEGIN:VEVENT
DTSTART;TZID=Australia/Melbourne:20240822T100000
DTEND;TZID=Australia/Melbourne:20240822T100000
DTSTAMP:20260420T170621
CREATED:20240704T235408Z
LAST-MODIFIED:20240704T235408Z
UID:45760-1724320800-1724320800@www.latrobe.edu.au
SUMMARY:Weekly Activation - Free Coffee Thursdays
DESCRIPTION:Enjoy a complimentary coffee on us at the LSU! Just show your student ID to claim your free hot drink.
URL:https://www.latrobe.edu.au/mylatrobe/event/weekly-activation-free-coffee-thursdays-3/
LOCATION:LSU
CATEGORIES:Bendigo
END:VEVENT
BEGIN:VEVENT
DTSTART;TZID=Australia/Melbourne:20240820T113000
DTEND;TZID=Australia/Melbourne:20240820T113000
DTSTAMP:20260420T170621
CREATED:20240704T234904Z
LAST-MODIFIED:20240704T234904Z
UID:45749-1724153400-1724153400@www.latrobe.edu.au
SUMMARY:Market Day
DESCRIPTION:Club stalls\, info stalls\, free bbq
URL:https://www.latrobe.edu.au/mylatrobe/event/market-day-12/
LOCATION:Plaza\, Australia
CATEGORIES:Bendigo
END:VEVENT
BEGIN:VEVENT
DTSTART;TZID=Australia/Melbourne:20240816T150000
DTEND;TZID=Australia/Melbourne:20240816T150000
DTSTAMP:20260420T170621
CREATED:20240704T235407Z
LAST-MODIFIED:20240704T235407Z
UID:45748-1723820400-1723820400@www.latrobe.edu.au
SUMMARY:Central Deborah Mine Tour
DESCRIPTION:Ever wanted to explore the mines of Bendigo? We’ll be descending 61 metres underground at the Central Deborah Gold Mine to experience life as a miner in the Gold Rush era. Join our tour\, for only $10! It’s an experience not to be missed.
URL:https://www.latrobe.edu.au/mylatrobe/event/central-deborah-mine-tour/
CATEGORIES:Bendigo
END:VEVENT
BEGIN:VEVENT
DTSTART;TZID=Australia/Melbourne:20240815T100000
DTEND;TZID=Australia/Melbourne:20240815T100000
DTSTAMP:20260420T170621
CREATED:20240704T235406Z
LAST-MODIFIED:20240704T235406Z
UID:45743-1723716000-1723716000@www.latrobe.edu.au
SUMMARY:Weekly Activation - Free Coffees
DESCRIPTION:Enjoy a complimentary coffee on us at the LSU! Just show your student ID to claim your free hot drink.
URL:https://www.latrobe.edu.au/mylatrobe/event/weekly-activation-free-coffees-9/
LOCATION:LSU
CATEGORIES:Bendigo
END:VEVENT
BEGIN:VEVENT
DTSTART;TZID=Australia/Melbourne:20240813T150000
DTEND;TZID=Australia/Melbourne:20240813T163000
DTSTAMP:20260420T170621
CREATED:20240718T025554Z
LAST-MODIFIED:20240718T025556Z
UID:46381-1723561200-1723566600@www.latrobe.edu.au
SUMMARY:Develop Your EQ in Semester 2
DESCRIPTION:Motivation and leadership expert Josh Farr is returning to the La Trobe Leaders Program in semester 2 and you’re invited to join us!  \n\n\n\nOver 4 weeks you’ll develop your understanding of  4 different but related topics to help you get on top and stay on top  of your goals this semester! \n\n\n\nMost likely before your first assignment is even due…   you will have:  \n\n\n\n\nFound and connected with your sense of purpose \n\n\n\nLearned about managing you time and energy well \n\n\n\nUncovered  the art of getting and staying motivated \n\n\n\nBoosted your confidence in communications!\n\n\n\n\nStarting in week 1 of semester and running for 4 weeks  each  Tuesday 3 – 4:30 pm join Josh online and take the time to work on yourself and develop your potential. \n\n\n\nIn this week (week 3) it’s all about motivation… understanding what drives or motivates you and how to harness motivation into action and achieve your goals! 
URL:https://www.latrobe.edu.au/mylatrobe/event/develop-your-eq-in-semester-2-3/
CATEGORIES:Albury-Wodonga,Bendigo,Bundoora,City,Mildura,Multi-Campus,Online,Shepparton
END:VEVENT
BEGIN:VEVENT
DTSTART;TZID=Australia/Melbourne:20240812T120000
DTEND;TZID=Australia/Melbourne:20240812T140000
DTSTAMP:20260420T170621
CREATED:20240704T235405Z
LAST-MODIFIED:20240710T045706Z
UID:45734-1723464000-1723471200@www.latrobe.edu.au
SUMMARY:Mondays on campus: Toasties and Tunes
DESCRIPTION:Free Toasties\, Music and good vibes on the LSU Floor. 
URL:https://www.latrobe.edu.au/mylatrobe/event/weekly-activation-funday-monday-11/
LOCATION:LSU
CATEGORIES:Bendigo
END:VEVENT
BEGIN:VEVENT
DTSTART;TZID=Australia/Melbourne:20240808T100000
DTEND;TZID=Australia/Melbourne:20240808T100000
DTSTAMP:20260420T170621
CREATED:20240704T235404Z
LAST-MODIFIED:20240704T235404Z
UID:45723-1723111200-1723111200@www.latrobe.edu.au
SUMMARY:Weekly Activation - Free Coffee Thursdays
DESCRIPTION:Enjoy a complimentary coffee on us at the LSU! Just show your student ID to claim your free hot drink.
URL:https://www.latrobe.edu.au/mylatrobe/event/weekly-activation-free-coffee-thursdays-2/
LOCATION:LSU
CATEGORIES:Bendigo
END:VEVENT
END:VCALENDAR