BEGIN:VCALENDAR
VERSION:2.0
PRODID:-//MyLaTrobe - ECPv6.15.20//NONSGML v1.0//EN
CALSCALE:GREGORIAN
METHOD:PUBLISH
X-ORIGINAL-URL:https://www.latrobe.edu.au/mylatrobe
X-WR-CALDESC:Events for MyLaTrobe
REFRESH-INTERVAL;VALUE=DURATION:PT1H
X-Robots-Tag:noindex
X-PUBLISHED-TTL:PT1H
BEGIN:VTIMEZONE
TZID:Australia/Melbourne
BEGIN:STANDARD
TZOFFSETFROM:+1100
TZOFFSETTO:+1000
TZNAME:AEST
DTSTART:20230401T160000
END:STANDARD
BEGIN:DAYLIGHT
TZOFFSETFROM:+1000
TZOFFSETTO:+1100
TZNAME:AEDT
DTSTART:20230930T160000
END:DAYLIGHT
BEGIN:STANDARD
TZOFFSETFROM:+1100
TZOFFSETTO:+1000
TZNAME:AEST
DTSTART:20240406T160000
END:STANDARD
BEGIN:DAYLIGHT
TZOFFSETFROM:+1000
TZOFFSETTO:+1100
TZNAME:AEDT
DTSTART:20241005T160000
END:DAYLIGHT
BEGIN:STANDARD
TZOFFSETFROM:+1100
TZOFFSETTO:+1000
TZNAME:AEST
DTSTART:20250405T160000
END:STANDARD
BEGIN:DAYLIGHT
TZOFFSETFROM:+1000
TZOFFSETTO:+1100
TZNAME:AEDT
DTSTART:20251004T160000
END:DAYLIGHT
BEGIN:STANDARD
TZOFFSETFROM:+1100
TZOFFSETTO:+1000
TZNAME:AEST
DTSTART:20260404T160000
END:STANDARD
BEGIN:DAYLIGHT
TZOFFSETFROM:+1000
TZOFFSETTO:+1100
TZNAME:AEDT
DTSTART:20261003T160000
END:DAYLIGHT
END:VTIMEZONE
BEGIN:VEVENT
DTSTART;TZID=Australia/Melbourne:20250320T120000
DTEND;TZID=Australia/Melbourne:20250320T130000
DTSTAMP:20260420T122714
CREATED:20250305T043117Z
LAST-MODIFIED:20250305T050400Z
UID:49119-1742472000-1742475600@www.latrobe.edu.au
SUMMARY:World Social Work Day celebration - Bendigo
DESCRIPTION:Celebrate World Social Work Day with fellow students and social workers in the field.  \n\n\n\nEnjoy lunch plus an interactive getting-to-know-you activity with prompted questions and topics of discussion.  Have the opportunity to share what you love about social work and help us to promote social work as a profession.  \n\n\n\nLocation: Business building\, Room 2.09 \n\n\n\nRegister now (registrations close on March 14)
URL:https://www.latrobe.edu.au/mylatrobe/event/world-social-work-day-celebration/
LOCATION:VICTORIA
CATEGORIES:Bendigo
END:VEVENT
BEGIN:VEVENT
DTSTART;TZID=Australia/Melbourne:20250320T120000
DTEND;TZID=Australia/Melbourne:20250320T120000
DTSTAMP:20260420T122714
CREATED:20250312T230613Z
LAST-MODIFIED:20250312T230613Z
UID:49774-1742472000-1742472000@www.latrobe.edu.au
SUMMARY:Cohort Catch Up - World Social Work Day
DESCRIPTION:Join us for World Social Work Day! If you’re a Social Work student\, come along for a bite to eat and connect with your peers and academics. It’s the perfect opportunity to take a break from your studies and engage with your Social Work community!
URL:https://www.latrobe.edu.au/mylatrobe/event/cohort-catch-up-world-social-work-day-2/
LOCATION:VICTORIA
CATEGORIES:Bendigo
END:VEVENT
BEGIN:VEVENT
DTSTART;TZID=Australia/Melbourne:20250320T110000
DTEND;TZID=Australia/Melbourne:20250320T110000
DTSTAMP:20260420T122714
CREATED:20250312T230613Z
LAST-MODIFIED:20250312T230613Z
UID:49770-1742468400-1742468400@www.latrobe.edu.au
SUMMARY:Developing targeted job applications.
DESCRIPTION:The focus of this webinar is on how you can stand out from your competitors by tailoring resumes and cover letters while strategically using AI to market your skills effectively.
URL:https://www.latrobe.edu.au/mylatrobe/event/developing-targeted-job-applications-2/
LOCATION:VICTORIA
CATEGORIES:Bendigo
END:VEVENT
BEGIN:VEVENT
DTSTART;TZID=Australia/Melbourne:20250320T000000
DTEND;TZID=Australia/Melbourne:20250320T000000
DTSTAMP:20260420T122714
CREATED:20250312T230613Z
LAST-MODIFIED:20250312T230613Z
UID:49767-1742428800-1742428800@www.latrobe.edu.au
SUMMARY:Harmony Week
DESCRIPTION:Enjoy free doughnuts and coffee with an African drumming workshop for Bendigo students on Harmony Day!
URL:https://www.latrobe.edu.au/mylatrobe/event/harmony-week-6/
LOCATION:LSU
CATEGORIES:Bendigo
END:VEVENT
BEGIN:VEVENT
DTSTART;TZID=Australia/Melbourne:20250319T110000
DTEND;TZID=Australia/Melbourne:20250319T110000
DTSTAMP:20260420T122714
CREATED:20250312T230613Z
LAST-MODIFIED:20250312T230613Z
UID:49763-1742382000-1742382000@www.latrobe.edu.au
SUMMARY:LTSA Student Services Expo
DESCRIPTION:Come and meet all of the LTU Student Services who can support and assist you throughout your studies. Students will receive a free small coffee & donut upon completing a passport.
URL:https://www.latrobe.edu.au/mylatrobe/event/ltsa-student-services-expo/
LOCATION:LSU
CATEGORIES:Bendigo
END:VEVENT
BEGIN:VEVENT
DTSTART;TZID=Australia/Melbourne:20250318T180000
DTEND;TZID=Australia/Melbourne:20250318T180000
DTSTAMP:20260420T122714
CREATED:20250312T230613Z
LAST-MODIFIED:20250312T230613Z
UID:49758-1742320800-1742320800@www.latrobe.edu.au
SUMMARY:La Trobe League Mixed Netball Bendigo - Season 1 Commences
DESCRIPTION:Round 1 of the La Trobe League (social) Mixed Netball Bendigo season commences!
URL:https://www.latrobe.edu.au/mylatrobe/event/la-trobe-league-mixed-netball-bendigo-season-1-commences/
LOCATION:VICTORIA
CATEGORIES:Bendigo
END:VEVENT
BEGIN:VEVENT
DTSTART;TZID=Australia/Melbourne:20250318T130000
DTEND;TZID=Australia/Melbourne:20250318T130000
DTSTAMP:20260420T122714
CREATED:20250312T225405Z
LAST-MODIFIED:20250312T225405Z
UID:49753-1742302800-1742302800@www.latrobe.edu.au
SUMMARY:Exploring career options with your degree
DESCRIPTION:Broaden your perspective on potential career pathways.
URL:https://www.latrobe.edu.au/mylatrobe/event/exploring-career-options-with-your-degree-2/
LOCATION:VICTORIA
CATEGORIES:Bendigo
END:VEVENT
BEGIN:VEVENT
DTSTART;TZID=Australia/Melbourne:20250318T120000
DTEND;TZID=Australia/Melbourne:20250318T120000
DTSTAMP:20260420T122714
CREATED:20250312T230613Z
LAST-MODIFIED:20250312T230613Z
UID:49751-1742299200-1742299200@www.latrobe.edu.au
SUMMARY:Chill Tuesday
DESCRIPTION:Free Gelato and Music to make your Tuesday special!
URL:https://www.latrobe.edu.au/mylatrobe/event/chill-tuesday/
LOCATION:LSU
CATEGORIES:Bendigo
END:VEVENT
BEGIN:VEVENT
DTSTART;TZID=Australia/Melbourne:20250317T110000
DTEND;TZID=Australia/Melbourne:20250317T110000
DTSTAMP:20260420T122714
CREATED:20250312T230612Z
LAST-MODIFIED:20250312T230612Z
UID:49742-1742209200-1742209200@www.latrobe.edu.au
SUMMARY:LTSA  Come & Try-Snooker and Billiards
DESCRIPTION:Join Ryan from the Bendigo Snooker & Billiards Association in learning some tips and tricks required to play and have fun.
URL:https://www.latrobe.edu.au/mylatrobe/event/ltsa-come-try-snooker-and-billiards/
LOCATION:VICTORIA
CATEGORIES:Bendigo
END:VEVENT
BEGIN:VEVENT
DTSTART;TZID=Australia/Melbourne:20250315T113000
DTEND;TZID=Australia/Melbourne:20250315T113000
DTSTAMP:20260420T122714
CREATED:20250312T230612Z
LAST-MODIFIED:20250312T230612Z
UID:49738-1742038200-1742038200@www.latrobe.edu.au
SUMMARY:Holi Festival
DESCRIPTION:La Trobe students in Bendigo are invited to join the Bendigo Holi Festival at Golden Square Pool. Each student will receive a free ticket and a La Trobe-branded T-shirt to celebrate the festival!
URL:https://www.latrobe.edu.au/mylatrobe/event/holi-festival/
LOCATION:VICTORIA
CATEGORIES:Bendigo
END:VEVENT
BEGIN:VEVENT
DTSTART;TZID=Australia/Melbourne:20250313T120000
DTEND;TZID=Australia/Melbourne:20250313T120000
DTSTAMP:20260420T122714
CREATED:20250312T230612Z
LAST-MODIFIED:20250312T230612Z
UID:49729-1741867200-1741867200@www.latrobe.edu.au
SUMMARY:Importance of getting local experience for International students through Placements. WIL & Volunteering
DESCRIPTION:One of the most popluar events in 2024 for International students.  Representattive from the WIL Team  talks about their different opportunities into the program that the international students can explore to get local experience to enter the job market .
URL:https://www.latrobe.edu.au/mylatrobe/event/importance-of-getting-local-experience-for-international-students-through-placements-wil-volunteering-4/
LOCATION:VICTORIA
CATEGORIES:Bendigo
END:VEVENT
BEGIN:VEVENT
DTSTART;TZID=Australia/Melbourne:20250313T120000
DTEND;TZID=Australia/Melbourne:20250313T120000
DTSTAMP:20260420T122714
CREATED:20250312T230612Z
LAST-MODIFIED:20250312T230612Z
UID:49730-1741867200-1741867200@www.latrobe.edu.au
SUMMARY:LTSA Welcome Lunch
DESCRIPTION:LTSA are providing a free Pizza lunch to welcome all students to campus.
URL:https://www.latrobe.edu.au/mylatrobe/event/ltsa-welcome-lunch/
LOCATION:LSU
CATEGORIES:Bendigo
END:VEVENT
BEGIN:VEVENT
DTSTART;TZID=Australia/Melbourne:20250313T110000
DTEND;TZID=Australia/Melbourne:20250313T110000
DTSTAMP:20260420T122714
CREATED:20250312T230612Z
LAST-MODIFIED:20250312T230612Z
UID:49724-1741863600-1741863600@www.latrobe.edu.au
SUMMARY:LTSA Preserved Blooms-Dried Flower Arranging
DESCRIPTION:Join fellow students in learning a step by step Dried Flower Arranging workshop. All materials supplied and you take home your creation.
URL:https://www.latrobe.edu.au/mylatrobe/event/ltsa-preserved-blooms-dried-flower-arranging/
LOCATION:LSU
CATEGORIES:Bendigo
END:VEVENT
BEGIN:VEVENT
DTSTART;TZID=Australia/Melbourne:20250313T100000
DTEND;TZID=Australia/Melbourne:20250313T100000
DTSTAMP:20260420T122714
CREATED:20250312T230612Z
LAST-MODIFIED:20250312T230612Z
UID:49723-1741860000-1741860000@www.latrobe.edu.au
SUMMARY:Free Coffee Thursdays
DESCRIPTION:Enjoy a complimentary coffee on us at the LSU! Just show your student ID to claim your free hot drink.
URL:https://www.latrobe.edu.au/mylatrobe/event/free-coffee-thursdays/
LOCATION:LSU
CATEGORIES:Bendigo
END:VEVENT
BEGIN:VEVENT
DTSTART;TZID=Australia/Melbourne:20250313T000000
DTEND;TZID=Australia/Melbourne:20250313T140000
DTSTAMP:20260420T122714
CREATED:20250205T031510Z
LAST-MODIFIED:20250210T045806Z
UID:48662-1741824000-1741874400@www.latrobe.edu.au
SUMMARY:LTSA Welcome to Campus - free lunch!
DESCRIPTION:Lunch is on us!  \n\n\n\nJoin the LTSA in the LSU for pizza\, garlic bread and soft drinks. Gluten free and vegetarian options available. \n\n\n\nTime: 12pm until it’s gone. Be quick or you might miss out! \n\n\n\nWhere: LSU \n\n\n\nCost: FREE! \n\n\n\nFind out more
URL:https://www.latrobe.edu.au/mylatrobe/event/ltsa-welcome-to-campus-free-lunch/
LOCATION:VICTORIA
CATEGORIES:Bendigo
END:VEVENT
BEGIN:VEVENT
DTSTART;TZID=Australia/Melbourne:20250312T110000
DTEND;TZID=Australia/Melbourne:20250312T140000
DTSTAMP:20260420T122714
CREATED:20250205T035035Z
LAST-MODIFIED:20250205T035038Z
UID:48667-1741777200-1741788000@www.latrobe.edu.au
SUMMARY:LTSA - Preserved Blooms Workshop
DESCRIPTION:Here’s your chance to try your hand at dry flower arranging! \n\n\n\nCome join the LTSA and a fun group of fellow students in a preserved blooms/dried flower arrangement workshop. \n\n\n\nYou’ll receive step-by-step instructions on how to create your very own dried flower arrangement – and you will get to take your arrangement home with you! \n\n\n\nThis workshop is suitable for beginners and no previous knowledge is needed. \n\n\n\nAll materials supplied. \n\n\n\nWhere: LSU deck on the Bendigo Campus. \n\n\n\nCost: $10 \n\n\n\nBook your spot now!
URL:https://www.latrobe.edu.au/mylatrobe/event/ltsa-preserved-blooms-workshop/
LOCATION:VICTORIA
CATEGORIES:Bendigo
END:VEVENT
BEGIN:VEVENT
DTSTART;TZID=Australia/Melbourne:20250305T170000
DTEND;TZID=Australia/Melbourne:20250305T200000
DTSTAMP:20260420T122714
CREATED:20250211T002913Z
LAST-MODIFIED:20250211T003125Z
UID:48763-1741194000-1741204800@www.latrobe.edu.au
SUMMARY:LTSA Bendigo - Twilight Welcome to 2025
DESCRIPTION:LTSA Bendigo – Twilight Welcome to 2025; featuring drinks by Kombi Keg\, Food Vans and our favourite musician\, Ryan Gay. \n\n\n\nLTSA’s Twilight Welcome Fest is on again and is a great way to start 2025. \n\n\n\nEnjoy the unique experience of grabbing a drink from Kombi Keg\, live music from Ryan Gay (KNOT Music) and delicious food provided by the following food vans: \n\n\n\n\nTacoman Meal choices: 3 x beef\, chicken\, vegetarian\, vegan\n\n\n\n\n\nThe Yumpling Truck Meal choices: pork dumplings\, stir fried noodles\, vegetarian\n\n\n\n\n\nLTSA Ice Cream Cart: with a variety of delicious flavours\n\n\n\n\nThis event is 18+ only. \n\n\n\nCost: $10 buys you 5 alcoholic drinks (soft drink & water also available)\, live music\, and food.
URL:https://www.latrobe.edu.au/mylatrobe/event/ltsa-bendigo-twilight-welcome-to-2025/
LOCATION:La Trobe University Campus Bendigo\, Edwards Road\, Flora Hill\, Victoria\, 3552\, Australia
CATEGORIES:Bendigo
ATTACH;FMTTYPE=image/png:https://www.latrobe.edu.au/mylatrobe/wp-content/uploads/2025/02/WordPress-Article-650-x-400-6.png
END:VEVENT
BEGIN:VEVENT
DTSTART;TZID=Australia/Melbourne:20250225T180000
DTEND;TZID=Australia/Melbourne:20250225T200000
DTSTAMP:20260420T122714
CREATED:20250207T030704Z
LAST-MODIFIED:20250211T003010Z
UID:48749-1740506400-1740513600@www.latrobe.edu.au
SUMMARY:LTSA Bendigo - Barefoot Bowls & Pizza Night
DESCRIPTION:Join fellow students for a relaxed night of Barefoot Bowls\, Pizza and socialising at the Bendigo East Bowls Club. \n\n\n\nBuses will pick up and return you to the La Trobe University Bus Stop\, Ellis Street at 5:35pm and return at 8:15pm. \n\n\n\nPizza will be provided free of charge. Drinks available at the venue at bar prices.
URL:https://www.latrobe.edu.au/mylatrobe/event/bendigo-barefoot-bowls-pizza-night/
LOCATION:Bendigo East Bowling Club\, 33 Lansell Street\, East Bendigo\, VIC 3550\, VIC\, 3550\, Australia
CATEGORIES:Bendigo
ATTACH;FMTTYPE=image/png:https://www.latrobe.edu.au/mylatrobe/wp-content/uploads/2025/02/Barefoot-bowls-650-x-400.png
END:VEVENT
BEGIN:VEVENT
DTSTART;TZID=Australia/Melbourne:20250224T120000
DTEND;TZID=Australia/Melbourne:20250224T140000
DTSTAMP:20260420T122715
CREATED:20250219T052410Z
LAST-MODIFIED:20250219T052413Z
UID:48877-1740398400-1740405600@www.latrobe.edu.au
SUMMARY:Welcome Festival: Bendigo
DESCRIPTION:Location: Heywood Library Gallery and Plaza \n\n\n\nThe Bendigo Orientation Welcome Festival is an event not to be missed.  \n\n\n\nGet to know La Trobe Clubs\, prepare to meet new people and find out about the great range of La Trobe Sports clubs. Vibe to the music\, have some free food\, meet La Trobe Leaders\, enjoy the giveaways and lots more. See you there! \n\n\n\nThis event is designed for all students.
URL:https://www.latrobe.edu.au/mylatrobe/event/welcome-festival-bendigo/
LOCATION:VICTORIA
CATEGORIES:Bendigo
ATTACH;FMTTYPE=image/png:https://www.latrobe.edu.au/mylatrobe/wp-content/uploads/2025/02/Bendigo-O-Week-image_WordPress-Article-650-x-400.png
END:VEVENT
BEGIN:VEVENT
DTSTART;TZID=Australia/Melbourne:20250224T000000
DTEND;TZID=Australia/Melbourne:20250227T235959
DTSTAMP:20260420T122715
CREATED:20250219T060058Z
LAST-MODIFIED:20250224T000753Z
UID:48902-1740355200-1740700799@www.latrobe.edu.au
SUMMARY:2025 Orientation Week
DESCRIPTION:O Week is on from Monday 24 February – Thursday 27 February. \n\n\n\nCome along to our Orientation events across all campuses and online and prepare to meet a whole bunch of new people. There’ll be music\, fun activities\, free food\, and giveaways\, you can join a club or society and lots more! \n\n\n\nRemember to check the Orientation Planner regularly to see what’s on. Please note\, your plan won’t automatically update if new compulsory sessions are added\, so make sure to keep checking what’s on.  \n\n\n\nToo excited to wait until O Week starts? Get a head start and explore the On Demand content available 24/7 via the Orientation Planner.  \n\n\n\nLa Trobe is committed to providing events that are accessible and inclusive for Neurodivergent and/or Neurominority students. Each Festival has designated Quiet Zones and the final 30 minutes of each Festival event will be designated as a ‘Quiet’ period. \n\n\n\nAll students across all years are welcome to join! \n\n\n\nWhat are you waiting for? Create your custom Orientation planner now. \n\n\n\nHere’s a run-down of key festival events being held at each campus:\n\n\n\nFor details about these events and more check out the Orientation Planner. \n\n\n\n2025 Orientation Highlights\n\n\n\n\nMelbourne (Bundoora) – Wominjeka Ceremonies and Day 1 Festivals – Monday 24 February & Tuesday 25 February\n\n\n\nMelbourne (Bundoora) – Day 2 (Sports Fest) – Wednesday 26 February\n\n\n\nMelbourne (Bundoora) – Day 3 (Clubs Fest) – Thursday 27 February\n\n\n\nAlbury Wodonga – Orientation Welcome and Festival\, Course Meet & Greets – Tuesday 25 February\n\n\n\nBendigo – Orientation Welcome and Festival\, Course Meet & Greets – Monday 24 February\n\n\n\nCity – Orientation Welcome and Festival\, Course Meet & Greets – Wednesday 26 February\n\n\n\nMildura – Orientation Welcome and Festival\, Course Meet & Greets – Thursday 27 February\n\n\n\nShepparton – Orientation Welcome and Festival\, Course Meet & Greets – Wednesday 26 February
URL:https://www.latrobe.edu.au/mylatrobe/event/2025-orientation-week/
LOCATION:VICTORIA
CATEGORIES:Albury-Wodonga,Bendigo,Bundoora,City,Mildura,Online,Shepparton
ATTACH;FMTTYPE=image/png:https://www.latrobe.edu.au/mylatrobe/wp-content/uploads/2025/02/Main-O-Week-image_WordPress-Article-650-x-400.png
END:VEVENT
BEGIN:VEVENT
DTSTART;TZID=Australia/Melbourne:20241202T150000
DTEND;TZID=Australia/Melbourne:20241202T163000
DTSTAMP:20260420T122715
CREATED:20240711T062004Z
LAST-MODIFIED:20240711T062006Z
UID:46138-1733151600-1733157000@www.latrobe.edu.au
SUMMARY:How To Start A Club - Online Info Session
DESCRIPTION:Looking to start your own student club? Want to find out more about community on campus?  \nJoin the next ‘How To Start A Club’ information session online and find out more! \nRegister to attend one of the upcoming virtual sessions HERE. \nDiscover more about the La Trobe University Clubs & Societies program online. 
URL:https://www.latrobe.edu.au/mylatrobe/event/how-to-start-a-club-online-info-session-2/
LOCATION:VICTORIA
CATEGORIES:Albury-Wodonga,Bendigo,Bundoora,City,Mildura,Online,Shepparton,Sydney
ORGANIZER;CN="La Trobe Clubs Team":MAILTO:clubs@latrobe.edu.au
END:VEVENT
BEGIN:VEVENT
DTSTART;TZID=Australia/Melbourne:20241104T120000
DTEND;TZID=Australia/Melbourne:20241104T133000
DTSTAMP:20260420T122715
CREATED:20240711T061758Z
LAST-MODIFIED:20240711T061804Z
UID:46104-1730721600-1730727000@www.latrobe.edu.au
SUMMARY:How To Start A Club - Online Info Session
DESCRIPTION:Looking to start your own student club? Want to find out more about community on campus?  \nJoin the next ‘How To Start A Club’ information session online and find out more! \nRegister to attend one of the upcoming virtual sessions HERE. \nDiscover more about the La Trobe University Clubs & Societies program online. 
URL:https://www.latrobe.edu.au/mylatrobe/event/how-to-start-a-club-online-info-session/
LOCATION:VICTORIA
CATEGORIES:Albury-Wodonga,Bendigo,Bundoora,City,Mildura,Online,Shepparton,Sydney
ORGANIZER;CN="La Trobe Clubs Team":MAILTO:clubs@latrobe.edu.au
END:VEVENT
BEGIN:VEVENT
DTSTART;TZID=Australia/Melbourne:20241024T170000
DTEND;TZID=Australia/Melbourne:20241024T200000
DTSTAMP:20260420T122715
CREATED:20240925T052827Z
LAST-MODIFIED:20240925T053447Z
UID:47614-1729789200-1729800000@www.latrobe.edu.au
SUMMARY:LTSA Bendigo End of Year Celebration
DESCRIPTION:LTSA’s End of Year Celebration is sure to be a great way to end 2024! \n\n\n\nCome along to the Plaza and enjoy the unique experience of grabbing a drink from Kombi Keg\, live music from Ryan Gay (KNOT Music) and delicious food provided by the following food vans: \n\n\n\nSmoke N Roast meal choices: Smoked pulled brisket burger and chips\, pulled lamb burger with chips and Cajun spiced pumpkin fritters. Vegetarian options. \n\n\n\nJas’s Indian Kitchen meal choices: TBC – gluten free\, Halal\, vegetarian and vegan options. \n\n\n\nLTSA Ice Cream Cart: with Dixie cups and toppings. \n\n\n\nTickets are only $10 and includes five alcoholic drinks (soft drink and water also available)\, live music and food. \n\n\n\nNote: this event is 18+ Please bring your photo ID \n\n\n\n\nBook your ticket now!
URL:https://www.latrobe.edu.au/mylatrobe/event/ltsa-end-of-year-celebration/
LOCATION:VICTORIA
CATEGORIES:Bendigo
END:VEVENT
BEGIN:VEVENT
DTSTART;TZID=Australia/Melbourne:20241022T053000
DTEND;TZID=Australia/Melbourne:20241022T190000
DTSTAMP:20260420T122715
CREATED:20240905T042804Z
LAST-MODIFIED:20240905T043503Z
UID:47251-1729575000-1729623600@www.latrobe.edu.au
SUMMARY:Health for Every Body
DESCRIPTION:Hear from a panel of experts who will discuss how you can embrace a well-rounded approach to health\, tailored to your body.   \n\n\n\nJoin us for this engaging and FREE discussion with experts in nutrition\, fitness and wellness. Learn the basics of balanced nutrition\, why personalized fitness routines matter and how to look at health in a way that goes beyond what you see on the scales. \n\n\n\nWhere: La Trobe University Bendigo Campus – LSU Gallery \n\n\n\n*Refreshments included
URL:https://www.latrobe.edu.au/mylatrobe/event/health-for-every-body/
LOCATION:VICTORIA
CATEGORIES:Bendigo,Online
ATTACH;FMTTYPE=image/png:https://www.latrobe.edu.au/mylatrobe/wp-content/uploads/2024/09/Banner-Health-for-Every-Body-571.5-x-285.75-mm-1.png
END:VEVENT
BEGIN:VEVENT
DTSTART;TZID=Australia/Melbourne:20241017T180000
DTEND;TZID=Australia/Melbourne:20241017T193000
DTSTAMP:20260420T122715
CREATED:20240926T064908Z
LAST-MODIFIED:20241010T014353Z
UID:47654-1729188000-1729193400@www.latrobe.edu.au
SUMMARY:The 2024 Sir John Quick Lecture -  A Living Democracy: How Well Has Australian Democracy Responded to a Changing Society?
DESCRIPTION:Presented by Professor Frank Bongiorno AM \n\n\n\n\n\n\n\nThe lecture will run from 6 – 7.15 pm\, followed by networking and refreshments.  \n\n\n\nSince 1893\, Sir John Quick has an honoured place in the history of Australian democracy\, arising from his key role in the design\, of a democratic pathway to the achievement of Federation.  \n\n\n\nHe was also co-author with Robert Garran\, of the foundational study of the federal movement and constitution.  \n\n\n\nYet Quick’s career also reminds us of the racially restrictive features of Australia’s emerging democracy in the nineteenth century.  \n\n\n\nAs a young politician in 1880\, he had initiated a bill to restrict the voting rights of Chinese migrants in Victorian elections – ‘a vindictive proceeding’\, said the Bendigo Advertiser.  \n\n\n\nThis lecture will explore some aspects of the past and present of Australian democracy\, by examining its double-sidedness as a system designed by and for white British men; that nonetheless provided openings for wider participation and influence by marginalised groups.  \n\n\n\nWhile much has changed since Quick’s time\, similar tensions and possibilities remain at the heart of our democracy – a system that ostensibly welcomes wide participation while still imposing formal and informal restrictions that undermine its quality. \n\n\n\n\nGET TICKETS
URL:https://www.latrobe.edu.au/mylatrobe/event/the-2024-sir-john-quick-lecture-a-living-democracy-how-well-has-australian-democracy-responded-to-a-changing-society/
LOCATION:The Capital\, 50 View Street\, Bendigo\, Victoria\, 3550\, Australia
CATEGORIES:Bendigo
END:VEVENT
BEGIN:VEVENT
DTSTART;TZID=Australia/Melbourne:20241017T100000
DTEND;TZID=Australia/Melbourne:20241017T100000
DTSTAMP:20260420T122715
CREATED:20240705T000622Z
LAST-MODIFIED:20240705T003249Z
UID:45903-1729159200-1729159200@www.latrobe.edu.au
SUMMARY:Weekly Activation - Free Coffee Thursdays
DESCRIPTION:Enjoy a complimentary coffee on us at the LSU! Just show your student ID to claim your free hot drink.
URL:https://www.latrobe.edu.au/mylatrobe/event/weekly-activation-free-coffee-thursdays-7/
LOCATION:LSU
CATEGORIES:Bendigo
END:VEVENT
BEGIN:VEVENT
DTSTART;TZID=Australia/Melbourne:20241016T080000
DTEND;TZID=Australia/Melbourne:20241016T100000
DTSTAMP:20260420T122715
CREATED:20240705T000622Z
LAST-MODIFIED:20240711T020933Z
UID:45901-1729065600-1729072800@www.latrobe.edu.au
SUMMARY:Bendigo Bikers Brekkie - Ride to Uni Day
DESCRIPTION:Free breakfast on the LSU for students and staff who ride to campus today! 
URL:https://www.latrobe.edu.au/mylatrobe/event/bikers-brekkie-ride-to-uni-day/
LOCATION:VICTORIA
CATEGORIES:Bendigo,Online
END:VEVENT
BEGIN:VEVENT
DTSTART;TZID=Australia/Melbourne:20241010T100000
DTEND;TZID=Australia/Melbourne:20241010T100000
DTSTAMP:20260420T122715
CREATED:20240705T000623Z
LAST-MODIFIED:20240705T003251Z
UID:45895-1728554400-1728554400@www.latrobe.edu.au
SUMMARY:Weekly Activation - Free Coffee Thursdays
DESCRIPTION:Enjoy a complimentary coffee on us at the LSU! Just show your student ID to claim your free hot drink.
URL:https://www.latrobe.edu.au/mylatrobe/event/weekly-activation-free-coffee-thursdays-8/
LOCATION:LSU
CATEGORIES:Bendigo
END:VEVENT
BEGIN:VEVENT
DTSTART;TZID=Australia/Melbourne:20241009T163000
DTEND;TZID=Australia/Melbourne:20241009T183000
DTSTAMP:20260420T122715
CREATED:20241004T030528Z
LAST-MODIFIED:20241004T030531Z
UID:47752-1728491400-1728498600@www.latrobe.edu.au
SUMMARY:PINK-TOBER: interactive information session
DESCRIPTION:Join us for a free\, interactive information session about cervical and breast cancer screening options. \n\n\n\nDelivered in collaboration with the Multicultural Youth Advocacy Network (MYAN) Youth Advisory Group\, the Bendigo Campus team\, as well as local health and screening professionals\, PINK-TOBER is open to all individuals eligible for breast and cervical cancer screening whether you have questions or are just looking to stay informed. Supper and goodies will also be provided for all attendees! \n\n\n\n\nRegister now
URL:https://www.latrobe.edu.au/mylatrobe/event/pink-tober-interactive-information-session/
LOCATION:Engineering Building ET 103\, Bendigo Campus\, Edwards Road\, Flora Hill\, VIC\, 3550\, Australia
CATEGORIES:Bendigo
END:VEVENT
BEGIN:VEVENT
DTSTART;TZID=Australia/Melbourne:20241008T163000
DTEND;TZID=Australia/Melbourne:20241008T163000
DTSTAMP:20260420T122715
CREATED:20240705T000624Z
LAST-MODIFIED:20240925T051905Z
UID:45888-1728405000-1728405000@www.latrobe.edu.au
SUMMARY:Night Market (End of Year Party Celebration)
DESCRIPTION:Join us for the highly anticipated return of the Night Market at La Trobe Bendigo—an exciting End of Year Party! Explore club stalls\, information booths\, food trucks\, enjoy live music\, be mesmerized by a hypnotist’s show\, and celebrate the year in style. Don’t miss out on this fun-filled evening!
URL:https://www.latrobe.edu.au/mylatrobe/event/night-market-end-of-year-party-celebration/
LOCATION:Plaza\, Australia
CATEGORIES:Bendigo
END:VEVENT
END:VCALENDAR