BEGIN:VCALENDAR
VERSION:2.0
PRODID:-//MyLaTrobe - ECPv6.15.20//NONSGML v1.0//EN
CALSCALE:GREGORIAN
METHOD:PUBLISH
X-ORIGINAL-URL:https://www.latrobe.edu.au/mylatrobe
X-WR-CALDESC:Events for MyLaTrobe
REFRESH-INTERVAL;VALUE=DURATION:PT1H
X-Robots-Tag:noindex
X-PUBLISHED-TTL:PT1H
BEGIN:VTIMEZONE
TZID:Australia/Melbourne
BEGIN:STANDARD
TZOFFSETFROM:+1100
TZOFFSETTO:+1000
TZNAME:AEST
DTSTART:20240406T160000
END:STANDARD
BEGIN:DAYLIGHT
TZOFFSETFROM:+1000
TZOFFSETTO:+1100
TZNAME:AEDT
DTSTART:20241005T160000
END:DAYLIGHT
BEGIN:STANDARD
TZOFFSETFROM:+1100
TZOFFSETTO:+1000
TZNAME:AEST
DTSTART:20250405T160000
END:STANDARD
BEGIN:DAYLIGHT
TZOFFSETFROM:+1000
TZOFFSETTO:+1100
TZNAME:AEDT
DTSTART:20251004T160000
END:DAYLIGHT
BEGIN:STANDARD
TZOFFSETFROM:+1100
TZOFFSETTO:+1000
TZNAME:AEST
DTSTART:20260404T160000
END:STANDARD
BEGIN:DAYLIGHT
TZOFFSETFROM:+1000
TZOFFSETTO:+1100
TZNAME:AEDT
DTSTART:20261003T160000
END:DAYLIGHT
END:VTIMEZONE
BEGIN:VEVENT
DTSTART;TZID=Australia/Melbourne:20250513T113000
DTEND;TZID=Australia/Melbourne:20250513T113000
DTSTAMP:20260420T091633
CREATED:20250312T230833Z
LAST-MODIFIED:20250312T230833Z
UID:49913-1747135800-1747135800@www.latrobe.edu.au
SUMMARY:Market Day
DESCRIPTION:Final Market day for Semester 1 – Club stalls\, internal or external stalls and promotions\, music
URL:https://www.latrobe.edu.au/mylatrobe/event/market-day-26/
LOCATION:LSU
CATEGORIES:Bendigo
END:VEVENT
BEGIN:VEVENT
DTSTART;TZID=Australia/Melbourne:20250508T100000
DTEND;TZID=Australia/Melbourne:20250508T100000
DTSTAMP:20260420T091633
CREATED:20250312T230833Z
LAST-MODIFIED:20250312T230833Z
UID:49904-1746698400-1746698400@www.latrobe.edu.au
SUMMARY:Free Coffee Thursdays
DESCRIPTION:Weekly Activation – Enjoy a complimentary coffee on us at the LSU! Just show your student ID to claim your free hot drink.
URL:https://www.latrobe.edu.au/mylatrobe/event/free-coffee-thursdays-6/
LOCATION:LSU
CATEGORIES:Bendigo
END:VEVENT
BEGIN:VEVENT
DTSTART;TZID=Australia/Melbourne:20250507T180000
DTEND;TZID=Australia/Melbourne:20250507T203000
DTSTAMP:20260420T091633
CREATED:20250414T071124Z
LAST-MODIFIED:20250414T071129Z
UID:51021-1746640800-1746649800@www.latrobe.edu.au
SUMMARY:LTSA Bendigo – Ten-Pin Bowling
DESCRIPTION:Join your fellow students for a friendly game of ten-pin bowling. Price includes two games\, shoe hire and finger food.
URL:https://www.latrobe.edu.au/mylatrobe/event/ltsa-bendigo-ten-pin-bowling/
LOCATION:Bendigo Bowling Centre\, 159 Hargreaves St\, Bendigo\, VICTORIA\, 3550
CATEGORIES:Bendigo
END:VEVENT
BEGIN:VEVENT
DTSTART;TZID=Australia/Melbourne:20250505T113000
DTEND;TZID=Australia/Melbourne:20250505T113000
DTSTAMP:20260420T091633
CREATED:20250312T230833Z
LAST-MODIFIED:20250312T230833Z
UID:49893-1746444600-1746444600@www.latrobe.edu.au
SUMMARY:International Day of the Midwife and International Nurses Day
DESCRIPTION:Celebrating International Nurses Day and the Day of the Midwife with a catered lunch\, giveaways\, and free massages.
URL:https://www.latrobe.edu.au/mylatrobe/event/international-day-of-the-midwife-and-international-nurses-day-2/
CATEGORIES:Bendigo
END:VEVENT
BEGIN:VEVENT
DTSTART;TZID=Australia/Melbourne:20250429T120000
DTEND;TZID=Australia/Melbourne:20250429T120000
DTSTAMP:20260420T091633
CREATED:20250312T230833Z
LAST-MODIFIED:20250312T230833Z
UID:49877-1745928000-1745928000@www.latrobe.edu.au
SUMMARY:Understanding Australian Workplace Culture for International Students
DESCRIPTION:This is an online session providing information on working at Australia and important insights for international students across different campuses and disciplines
URL:https://www.latrobe.edu.au/mylatrobe/event/understanding-australian-workplace-culture-for-international-students-4/
CATEGORIES:Bendigo
END:VEVENT
BEGIN:VEVENT
DTSTART;TZID=Australia/Melbourne:20250429T113000
DTEND;TZID=Australia/Melbourne:20250429T113000
DTSTAMP:20260420T091633
CREATED:20250312T230833Z
LAST-MODIFIED:20250312T230833Z
UID:49875-1745926200-1745926200@www.latrobe.edu.au
SUMMARY:Uni Mental Health Day Restival (Market Day Takeover)
DESCRIPTION:Club stalls\, internal or external stalls and promotions\, music
URL:https://www.latrobe.edu.au/mylatrobe/event/uni-mental-health-day-restival-market-day-takeover/
LOCATION:LSU
CATEGORIES:Bendigo
END:VEVENT
BEGIN:VEVENT
DTSTART;TZID=Australia/Melbourne:20250427T090000
DTEND;TZID=Australia/Melbourne:20250427T090000
DTSTAMP:20260420T091633
CREATED:20250312T230833Z
LAST-MODIFIED:20250312T230833Z
UID:49868-1745744400-1745744400@www.latrobe.edu.au
SUMMARY:UniSport Triathlon Nationals Commences
DESCRIPTION:Represent La Trobe University with pride! UniSport Triathlon Nationals heads to Wollongong in an event not to be missed by triathletes. “For updated event information please visit\, https://www.latrobe.edu.au/sport/play-sport/represent/university-nationals”
URL:https://www.latrobe.edu.au/mylatrobe/event/unisport-triathlon-nationals-commences-2/
CATEGORIES:Bendigo
END:VEVENT
BEGIN:VEVENT
DTSTART;TZID=Australia/Melbourne:20250417T100000
DTEND;TZID=Australia/Melbourne:20250417T100000
DTSTAMP:20260420T091633
CREATED:20250312T230833Z
LAST-MODIFIED:20250312T230833Z
UID:49858-1744884000-1744884000@www.latrobe.edu.au
SUMMARY:Free Coffee Thursdays
DESCRIPTION:Weekly Activation – Enjoy a complimentary coffee on us at the LSU! Just show your student ID to claim your free hot drink.
URL:https://www.latrobe.edu.au/mylatrobe/event/free-coffee-thursdays-5/
LOCATION:LSU
CATEGORIES:Bendigo
END:VEVENT
BEGIN:VEVENT
DTSTART;TZID=Australia/Melbourne:20250411T133000
DTEND;TZID=Australia/Melbourne:20250411T163000
DTSTAMP:20260420T091633
CREATED:20250404T044740Z
LAST-MODIFIED:20250404T044820Z
UID:50765-1744378200-1744389000@www.latrobe.edu.au
SUMMARY:LTSA BENDIGO-GREAT STUPA TOUR
DESCRIPTION:Join our LTSA Committee Member for a tour of the iconic Great Stupa. \n\n\n\nLTSA will provide transport to and from The Great Stupa tour. \n\n\n\nOn arrival at The Great Stupa\, you will be given a guided tour of the Stupa and grounds. \n\n\n\nYou will have free time to wander around the beautiful gardens that surround the Stupa and the Peace Park showcasing symbols from many faiths including Catholic\, Sikh\, Islam\, Hindu and Buddhist. \n\n\n\nWhen: Friday 11th April 2025 \n\n\n\nWhere: Mini Bus will depart from the LTU Flag Poles at 1:30pm sharp and return at 4:30pm \n\n\n\nCost: $5 – includes bus and guided tour.
URL:https://www.latrobe.edu.au/mylatrobe/event/ltsa-bendigo-great-stupa-tour/
LOCATION:The Great Stupa of Universal Compassion\, 25 Sandhurst Town Road\, Myers Flat\, VIC\, 3556\, Australia
CATEGORIES:Bendigo
ATTACH;FMTTYPE=image/jpeg:https://www.latrobe.edu.au/mylatrobe/wp-content/uploads/2025/04/https___cdn.evbuc_.com_images_998463903_507892869331_1_original.jpeg
END:VEVENT
BEGIN:VEVENT
DTSTART;TZID=Australia/Melbourne:20250410T100000
DTEND;TZID=Australia/Melbourne:20250410T100000
DTSTAMP:20260420T091633
CREATED:20250312T230833Z
LAST-MODIFIED:20250312T230833Z
UID:49842-1744279200-1744279200@www.latrobe.edu.au
SUMMARY:Free Coffee Thursdays
DESCRIPTION:Weekly Activation – Enjoy a complimentary coffee on us at the LSU! Just show your student ID to claim your free hot drink.
URL:https://www.latrobe.edu.au/mylatrobe/event/free-coffee-thursdays-4/
LOCATION:LSU
CATEGORIES:Bendigo
END:VEVENT
BEGIN:VEVENT
DTSTART;TZID=Australia/Melbourne:20250408T113000
DTEND;TZID=Australia/Melbourne:20250408T113000
DTSTAMP:20260420T091633
CREATED:20250312T230832Z
LAST-MODIFIED:20250312T230832Z
UID:49831-1744111800-1744111800@www.latrobe.edu.au
SUMMARY:Market Day
DESCRIPTION:Club stalls\, info stalls\, free bbq
URL:https://www.latrobe.edu.au/mylatrobe/event/market-day-25/
LOCATION:LSU
CATEGORIES:Bendigo
END:VEVENT
BEGIN:VEVENT
DTSTART;TZID=Australia/Melbourne:20250403T180000
DTEND;TZID=Australia/Melbourne:20250403T210000
DTSTAMP:20260420T091633
CREATED:20250321T043147Z
LAST-MODIFIED:20250321T043152Z
UID:50390-1743703200-1743714000@www.latrobe.edu.au
SUMMARY:LTSA Bendigo – Pinot & Picasso Night
DESCRIPTION:Want to get in touch with your artistic side and get to know your fellow students at the same time? Join us at Pinot & Picasso Bendigo for a 3-hour paint and sip session. This activity is suitable for all skill levels\, with expert hosts on hand to give you step-by-step instructions – leaving plenty of room for your inner Picasso to run wild! \n\n\n\nThe artwork we will be working on for this events is: ‘LAVENDER HORIZONS’. \n\n\n\nBYO drinks and nibbles. Art supplies and glasses will be provided on the night. \n\n\n\nPlease note: This is an 18+ event only.
URL:https://www.latrobe.edu.au/mylatrobe/event/ltsa-bendigo-pinot-picasso-night/
LOCATION:Pinot & Picasso Bendigo\, 288 Hargreaves Street\, Bendigo\, VICTORIA\, 3550\, Australia
CATEGORIES:Bendigo
END:VEVENT
BEGIN:VEVENT
DTSTART;TZID=Australia/Melbourne:20250403T180000
DTEND;TZID=Australia/Melbourne:20250403T180000
DTSTAMP:20260420T091633
CREATED:20250312T230832Z
LAST-MODIFIED:20250312T230832Z
UID:49828-1743703200-1743703200@www.latrobe.edu.au
SUMMARY:LTSA Pinot & Picasso
DESCRIPTION:Come and join fellow students for a fun 3 hour\, step by step unique painting session at the unique Pinot & Picasso studio.
URL:https://www.latrobe.edu.au/mylatrobe/event/ltsa-pinot-picasso/
CATEGORIES:Bendigo
END:VEVENT
BEGIN:VEVENT
DTSTART;TZID=Australia/Melbourne:20250403T100000
DTEND;TZID=Australia/Melbourne:20250403T100000
DTSTAMP:20260420T091633
CREATED:20250312T230832Z
LAST-MODIFIED:20250312T230832Z
UID:49825-1743674400-1743674400@www.latrobe.edu.au
SUMMARY:Free Coffee Thursdays
DESCRIPTION:Enjoy a complimentary coffee on us at the LSU! Just show your student ID to claim your free hot drink.
URL:https://www.latrobe.edu.au/mylatrobe/event/free-coffee-thursdays-3/
LOCATION:LSU
CATEGORIES:Bendigo
END:VEVENT
BEGIN:VEVENT
DTSTART;TZID=Australia/Melbourne:20250401T120000
DTEND;TZID=Australia/Melbourne:20250401T120000
DTSTAMP:20260420T091633
CREATED:20250312T230832Z
LAST-MODIFIED:20250312T230832Z
UID:49813-1743508800-1743508800@www.latrobe.edu.au
SUMMARY:Chill Tuesday
DESCRIPTION:Free Gelato and Music to make your Tuesday special!
URL:https://www.latrobe.edu.au/mylatrobe/event/chill-tuesday-2/
LOCATION:LSU
CATEGORIES:Bendigo
END:VEVENT
BEGIN:VEVENT
DTSTART;TZID=Australia/Melbourne:20250327T100000
DTEND;TZID=Australia/Melbourne:20250327T100000
DTSTAMP:20260420T091633
CREATED:20250312T230832Z
LAST-MODIFIED:20250312T230832Z
UID:49803-1743069600-1743069600@www.latrobe.edu.au
SUMMARY:Free Coffee Thursdays
DESCRIPTION:Enjoy a complimentary coffee on us at the LSU! Just show your student ID to claim your free hot drink.
URL:https://www.latrobe.edu.au/mylatrobe/event/free-coffee-thursdays-2/
LOCATION:LSU
CATEGORIES:Bendigo
END:VEVENT
BEGIN:VEVENT
DTSTART;TZID=Australia/Melbourne:20250326T183000
DTEND;TZID=Australia/Melbourne:20250326T210000
DTSTAMP:20260420T091633
CREATED:20250224T023431Z
LAST-MODIFIED:20250224T023434Z
UID:48979-1743013800-1743022800@www.latrobe.edu.au
SUMMARY:LTSA Bendigo Trivia Night
DESCRIPTION:The LTSA Student Committee are holding a Trivia Night to be held in the LSU. FREE pizza and soft drinks. Prizes throughout the night. \n\n\n\nPrizes throughout the night will include; Vouchers from the Queens Arm\, Walkers Donuts\, LTSA Merch and other goodies. \n\n\n\nTeams will be: minimum 2 – maximum 8. \n\n\n\nRegister as a team\, or if coming alone\, register as an individual and we’ll create a team for you! \n\n\n\n***STRICTLY NO BYO**
URL:https://www.latrobe.edu.au/mylatrobe/event/ltsa-bendigo-trivia-night-2/
LOCATION:La Trobe University Campus Bendigo\, Edwards Road\, Flora Hill\, Victoria\, 3552\, Australia
CATEGORIES:Bendigo
ATTACH;FMTTYPE=image/avif:https://www.latrobe.edu.au/mylatrobe/wp-content/uploads/2025/02/https___cdn.evbuc_.com_images_957688933_507892869331_1_original.avif
END:VEVENT
BEGIN:VEVENT
DTSTART;TZID=Australia/Melbourne:20250326T180000
DTEND;TZID=Australia/Melbourne:20250326T180000
DTSTAMP:20260420T091633
CREATED:20250312T230832Z
LAST-MODIFIED:20250312T230832Z
UID:49800-1743012000-1743012000@www.latrobe.edu.au
SUMMARY:LTSA Trivia Night
DESCRIPTION:LTSA will be running a Trivia Night for all student. Come as an individual or as a team. Pizza & soft drink will be provided\, along with prizes.
URL:https://www.latrobe.edu.au/mylatrobe/event/ltsa-trivia-night/
LOCATION:LSU
CATEGORIES:Bendigo
END:VEVENT
BEGIN:VEVENT
DTSTART;TZID=Australia/Melbourne:20250326T120000
DTEND;TZID=Australia/Melbourne:20250326T120000
DTSTAMP:20260420T091633
CREATED:20250312T230832Z
LAST-MODIFIED:20250312T230832Z
UID:49796-1742990400-1742990400@www.latrobe.edu.au
SUMMARY:Career Options in Government.
DESCRIPTION:A panel discussion on career pathways with recruiters from government departments.
URL:https://www.latrobe.edu.au/mylatrobe/event/career-options-in-government-2/
CATEGORIES:Bendigo
END:VEVENT
BEGIN:VEVENT
DTSTART;TZID=Australia/Melbourne:20250325T130000
DTEND;TZID=Australia/Melbourne:20250325T150000
DTSTAMP:20260420T091633
CREATED:20250314T010713Z
LAST-MODIFIED:20250319T021524Z
UID:50225-1742907600-1742914800@www.latrobe.edu.au
SUMMARY:Celebrate Holi with a splash of fun!
DESCRIPTION:When: Tuesday March 25\, 1 – 3 pm *new date* \n\n\n\nWhere: La Trobe Bendigo Sports Field \n\n\n\nCost: Free! \n\n\n\nGet ready to run\, laugh and get covered in colour!Join the La Trobe Rural Health School Holi Colour Run and Festival of Colours and celebrate Holi with a splash of fun! \n\n\n\n \n\n\n\nOpen to students and staff\, this is your chance to celebrate Holi with a splash of fun! \n\n\n\nWhat to expect: \n\n\n\n\nColour\, water guns & bubbles\n\n\n\nFun obstacles along the course\n\n\n\nWear a white t-shirt for maximum color effect\n\n\n\nProtective glasses provided\n\n\n\n\nGive back while you run!For every participant\, La Trobe Rural Health School will make a donation to a health student club of your choice. \n\n\n\nCome for the fun\, stay for the colour\, and support your student clubs while you’re at it! See you there!  \n\n\n\nRegister and find out more!
URL:https://www.latrobe.edu.au/mylatrobe/event/celebrate-holi-with-a-splash-of-fun/
CATEGORIES:Bendigo
ATTACH;FMTTYPE=image/jpeg:https://www.latrobe.edu.au/mylatrobe/wp-content/uploads/2025/03/Holi-Change-of-date.jpg
END:VEVENT
BEGIN:VEVENT
DTSTART;TZID=Australia/Melbourne:20250325T120000
DTEND;TZID=Australia/Melbourne:20250325T140000
DTSTAMP:20260420T091633
CREATED:20250307T005838Z
LAST-MODIFIED:20250307T010326Z
UID:49281-1742904000-1742911200@www.latrobe.edu.au
SUMMARY:Bendigo Employability Expo
DESCRIPTION:📍 Bendigo Campus | Library + Gallery \n\n\n\nWant to explore career pathways and connect with top employers? Join us at the Employability Expo\, where you’ll meet representatives from 30+ leading organisations offering opportunities for domestic and international students. \n\n\n\n\n\n\n\n\n\nWhat to Expect: \n\n\n\nIndustry Insights & Career PlanningThis event is perfect for students at any stage of their studies who want to:✔️ Understand the graduate recruitment process✔️ Explore future career options✔️ Learn about summer vacation programs✔️ Discover internships\, placements\, and part-time roles \n\n\n\n12:00 PM – 2:00 PM | Expo Open! \n\n\n\n\nVisit 30+ employers to learn about job opportunities\, placements\, and graduate programs\n\n\n\n\n12:30 PM – 2:30 PM | FREE LinkedIn Headshots @ Circular Lecture Theatre (CLT is adjacent to Expo) \n\n\n\n\nGet a professional headshot to boost your online profile!\n\n\n\nFirst in\, first served – no bookings required\n\n\n\n\nExpo Prizes – Win Big! \n\n\n\nEmployability Passport Prize \n\n\n\n\nSpeak to six organisations\, collect stickers\, and enter to win Apple AirPods!\n\n\n\nDrop off your completed passport at the Feedback Stand before you leave.\n\n\n\n\nDoor Prize \n\n\n\n\nScan your student ID for a chance to win a La Trobe Hoodie & Drink Bottle!\n\n\n\n\nGot questions? Email employability@latrobe.edu.au \n\n\n\nDon’t miss this chance to kick-start your career – see you there!
URL:https://www.latrobe.edu.au/mylatrobe/event/bendigo-employability-expo/
CATEGORIES:Bendigo
ATTACH;FMTTYPE=image/png:https://www.latrobe.edu.au/mylatrobe/wp-content/uploads/2025/03/Employability-Expo-2025-Bendigo-Digital-Screen.png
END:VEVENT
BEGIN:VEVENT
DTSTART;TZID=Australia/Melbourne:20250325T120000
DTEND;TZID=Australia/Melbourne:20250325T120000
DTSTAMP:20260420T091633
CREATED:20250312T230832Z
LAST-MODIFIED:20250312T230832Z
UID:49786-1742904000-1742904000@www.latrobe.edu.au
SUMMARY:Employability Expo
DESCRIPTION:An event for industry organisations to showcase their employment\, placement\, internship opportunities with students.
URL:https://www.latrobe.edu.au/mylatrobe/event/employability-expo-3/
CATEGORIES:Bendigo
END:VEVENT
BEGIN:VEVENT
DTSTART;TZID=Australia/Melbourne:20250325T113000
DTEND;TZID=Australia/Melbourne:20250325T113000
DTSTAMP:20260420T091633
CREATED:20250312T230613Z
LAST-MODIFIED:20250312T230613Z
UID:49785-1742902200-1742902200@www.latrobe.edu.au
SUMMARY:Re- Orientation (Market Day Takeover)
DESCRIPTION:Reorientation is here!  Join us for club stalls\, exciting promos\, and live music! Connect\, explore\, and enjoy the vibes\,don’t miss out!
URL:https://www.latrobe.edu.au/mylatrobe/event/re-orientation-market-day-takeover/
LOCATION:Plaza\, Australia
CATEGORIES:Bendigo
END:VEVENT
BEGIN:VEVENT
DTSTART;TZID=Australia/Melbourne:20250320T120000
DTEND;TZID=Australia/Melbourne:20250320T130000
DTSTAMP:20260420T091633
CREATED:20250305T043117Z
LAST-MODIFIED:20250305T050400Z
UID:49119-1742472000-1742475600@www.latrobe.edu.au
SUMMARY:World Social Work Day celebration - Bendigo
DESCRIPTION:Celebrate World Social Work Day with fellow students and social workers in the field.  \n\n\n\nEnjoy lunch plus an interactive getting-to-know-you activity with prompted questions and topics of discussion.  Have the opportunity to share what you love about social work and help us to promote social work as a profession.  \n\n\n\nLocation: Business building\, Room 2.09 \n\n\n\nRegister now (registrations close on March 14)
URL:https://www.latrobe.edu.au/mylatrobe/event/world-social-work-day-celebration/
CATEGORIES:Bendigo
END:VEVENT
BEGIN:VEVENT
DTSTART;TZID=Australia/Melbourne:20250320T120000
DTEND;TZID=Australia/Melbourne:20250320T120000
DTSTAMP:20260420T091633
CREATED:20250312T230613Z
LAST-MODIFIED:20250312T230613Z
UID:49774-1742472000-1742472000@www.latrobe.edu.au
SUMMARY:Cohort Catch Up - World Social Work Day
DESCRIPTION:Join us for World Social Work Day! If you’re a Social Work student\, come along for a bite to eat and connect with your peers and academics. It’s the perfect opportunity to take a break from your studies and engage with your Social Work community!
URL:https://www.latrobe.edu.au/mylatrobe/event/cohort-catch-up-world-social-work-day-2/
CATEGORIES:Bendigo
END:VEVENT
BEGIN:VEVENT
DTSTART;TZID=Australia/Melbourne:20250320T110000
DTEND;TZID=Australia/Melbourne:20250320T110000
DTSTAMP:20260420T091633
CREATED:20250312T230613Z
LAST-MODIFIED:20250312T230613Z
UID:49770-1742468400-1742468400@www.latrobe.edu.au
SUMMARY:Developing targeted job applications.
DESCRIPTION:The focus of this webinar is on how you can stand out from your competitors by tailoring resumes and cover letters while strategically using AI to market your skills effectively.
URL:https://www.latrobe.edu.au/mylatrobe/event/developing-targeted-job-applications-2/
CATEGORIES:Bendigo
END:VEVENT
BEGIN:VEVENT
DTSTART;TZID=Australia/Melbourne:20250320T000000
DTEND;TZID=Australia/Melbourne:20250320T000000
DTSTAMP:20260420T091633
CREATED:20250312T230613Z
LAST-MODIFIED:20250312T230613Z
UID:49767-1742428800-1742428800@www.latrobe.edu.au
SUMMARY:Harmony Week
DESCRIPTION:Enjoy free doughnuts and coffee with an African drumming workshop for Bendigo students on Harmony Day!
URL:https://www.latrobe.edu.au/mylatrobe/event/harmony-week-6/
LOCATION:LSU
CATEGORIES:Bendigo
END:VEVENT
BEGIN:VEVENT
DTSTART;TZID=Australia/Melbourne:20250319T110000
DTEND;TZID=Australia/Melbourne:20250319T110000
DTSTAMP:20260420T091633
CREATED:20250312T230613Z
LAST-MODIFIED:20250312T230613Z
UID:49763-1742382000-1742382000@www.latrobe.edu.au
SUMMARY:LTSA Student Services Expo
DESCRIPTION:Come and meet all of the LTU Student Services who can support and assist you throughout your studies. Students will receive a free small coffee & donut upon completing a passport.
URL:https://www.latrobe.edu.au/mylatrobe/event/ltsa-student-services-expo/
LOCATION:LSU
CATEGORIES:Bendigo
END:VEVENT
BEGIN:VEVENT
DTSTART;TZID=Australia/Melbourne:20250318T180000
DTEND;TZID=Australia/Melbourne:20250318T180000
DTSTAMP:20260420T091633
CREATED:20250312T230613Z
LAST-MODIFIED:20250312T230613Z
UID:49758-1742320800-1742320800@www.latrobe.edu.au
SUMMARY:La Trobe League Mixed Netball Bendigo - Season 1 Commences
DESCRIPTION:Round 1 of the La Trobe League (social) Mixed Netball Bendigo season commences!
URL:https://www.latrobe.edu.au/mylatrobe/event/la-trobe-league-mixed-netball-bendigo-season-1-commences/
CATEGORIES:Bendigo
END:VEVENT
BEGIN:VEVENT
DTSTART;TZID=Australia/Melbourne:20250318T130000
DTEND;TZID=Australia/Melbourne:20250318T130000
DTSTAMP:20260420T091633
CREATED:20250312T225405Z
LAST-MODIFIED:20250312T225405Z
UID:49753-1742302800-1742302800@www.latrobe.edu.au
SUMMARY:Exploring career options with your degree
DESCRIPTION:Broaden your perspective on potential career pathways.
URL:https://www.latrobe.edu.au/mylatrobe/event/exploring-career-options-with-your-degree-2/
CATEGORIES:Bendigo
END:VEVENT
END:VCALENDAR