BEGIN:VCALENDAR
VERSION:2.0
PRODID:-//MyLaTrobe - ECPv6.15.20//NONSGML v1.0//EN
CALSCALE:GREGORIAN
METHOD:PUBLISH
X-ORIGINAL-URL:https://www.latrobe.edu.au/mylatrobe
X-WR-CALDESC:Events for MyLaTrobe
REFRESH-INTERVAL;VALUE=DURATION:PT1H
X-Robots-Tag:noindex
X-PUBLISHED-TTL:PT1H
BEGIN:VTIMEZONE
TZID:Australia/Melbourne
BEGIN:STANDARD
TZOFFSETFROM:+1100
TZOFFSETTO:+1000
TZNAME:AEST
DTSTART:20240406T160000
END:STANDARD
BEGIN:DAYLIGHT
TZOFFSETFROM:+1000
TZOFFSETTO:+1100
TZNAME:AEDT
DTSTART:20241005T160000
END:DAYLIGHT
BEGIN:STANDARD
TZOFFSETFROM:+1100
TZOFFSETTO:+1000
TZNAME:AEST
DTSTART:20250405T160000
END:STANDARD
BEGIN:DAYLIGHT
TZOFFSETFROM:+1000
TZOFFSETTO:+1100
TZNAME:AEDT
DTSTART:20251004T160000
END:DAYLIGHT
BEGIN:STANDARD
TZOFFSETFROM:+1100
TZOFFSETTO:+1000
TZNAME:AEST
DTSTART:20260404T160000
END:STANDARD
BEGIN:DAYLIGHT
TZOFFSETFROM:+1000
TZOFFSETTO:+1100
TZNAME:AEDT
DTSTART:20261003T160000
END:DAYLIGHT
END:VTIMEZONE
BEGIN:VEVENT
DTSTART;TZID=Australia/Melbourne:20250718T083000
DTEND;TZID=Australia/Melbourne:20250718T170000
DTSTAMP:20260420T072854
CREATED:20250709T040629Z
LAST-MODIFIED:20250709T040637Z
UID:52514-1752827400-1752858000@www.latrobe.edu.au
SUMMARY:Dentistry and Oral Health Discipline Day 2025
DESCRIPTION:Welcome to La Trobe University’s Dentistry and Oral Health Discipline Day. \n\n\n\nThis will be explored through individual student research or group community-based projects undertaken by our fifth-year dental and oral health students as part of the Bachelor of Dental Science (Hons) program. Their presentations will reflect the scope\, challenges\, and influence that participatory initiatives can have on our regional rural communities through the engagement of partners. \n\n\n\nWe look forward to you joining us on this auspicious occasion as our final-year students prepare to embark on their careers as the next generation of healthcare professionals. \n\n\n\nDate: Friday 18 July 2025 \n\n\n\nTime: 8.30am – 5.00pm \n\n\n\nLocation: La Trobe Rural Health School\, Sharon St\, Flora Hill\, Bendigo – Nancy Long and HHS2 Level 3 \n\n\n\nRegistrations Close –  5pm\, Friday 11 July 2025
URL:https://www.latrobe.edu.au/mylatrobe/event/dentistry-and-oral-health-discipline-day-2025/
LOCATION:La Trobe Rural Health School\, Sharon St\, Flora Hill\, Bendigo\, 3550\, Australia
CATEGORIES:Bendigo
ATTACH;FMTTYPE=image/png:https://www.latrobe.edu.au/mylatrobe/wp-content/uploads/2025/07/WordPress-Article-650-x-400-1.png
END:VEVENT
BEGIN:VEVENT
DTSTART;TZID=Australia/Melbourne:20250729T110000
DTEND;TZID=Australia/Melbourne:20250729T110000
DTSTAMP:20260420T072854
CREATED:20250724T061639Z
LAST-MODIFIED:20250724T061639Z
UID:53149-1753786800-1753786800@www.latrobe.edu.au
SUMMARY:Tuesday - Free Soup Day
DESCRIPTION:Warm up this winter with a free soup and roll! Show your ID to pick up your Winter Warmer voucher from a member of the Campus Engagement Team in the LSU and redeem it at JD Café. A perfect way to beat the chill – delicious\, comforting\, and completely free! Don’t miss out – grab yours while they last!
URL:https://www.latrobe.edu.au/mylatrobe/event/tuesday-free-soup-day/
LOCATION:LSU
CATEGORIES:Bendigo
END:VEVENT
BEGIN:VEVENT
DTSTART;TZID=Australia/Melbourne:20250731T100000
DTEND;TZID=Australia/Melbourne:20250731T233000
DTSTAMP:20260420T072854
CREATED:20250718T062749Z
LAST-MODIFIED:20250723T060333Z
UID:52736-1753956000-1754004600@www.latrobe.edu.au
SUMMARY:La Trobe Rural Health School Orientation morning tea
DESCRIPTION:Welcome to La Trobe Rural Health School! Join us for a relaxed morning tea event to ease into Semester 2\, connect with fellow students and meet your academics in a casual setting. \n\n\n\nWhere: La Trobe Bendigo Campus\, Health Science 2\, Level 2 FoyerWhen: 10 am – 11.30 am\, 24 July \n\n\n\nNo lectures\, just good conversation and even better desserts. \n\n\n\nWhether you’re new to the School or a continuing student\, this is your invitation to connect\, recharge\, and build the relationships that support your success. \n\n\n\nWhat’s on the table? \n\n\n\n\nA warm\, welcoming space to catch up or meet new people\n\n\n\nThe chance to chat with teaching staff outside the classroom\, including:\n\n\n\nHelen Irving – Biomedical Science\n\n\n\nSarah Beasleigh – Masters of Nursing Practice\n\n\n\nRachael Sanders – Social Work\n\n\n\nMiniature desserts — beautifully bite-sized and delicious\n\n\n\nChild-friendly event\n\n\n\n\nPlease RSVP for catering purposes.  \n\n\n\n\n\n\n\n\n\nPop in\, say hello\, grab a treat — we can’t wait to see you there!
URL:https://www.latrobe.edu.au/mylatrobe/event/la-trobe-rural-health-school-orientation-morning-tea/
LOCATION:La Trobe University Campus Bendigo\, Edwards Road\, Flora Hill\, Victoria\, 3552\, Australia
CATEGORIES:Bendigo
ATTACH;FMTTYPE=image/png:https://www.latrobe.edu.au/mylatrobe/wp-content/uploads/2025/07/WordPress-Article-650-x-400-4.png
END:VEVENT
BEGIN:VEVENT
DTSTART;TZID=Australia/Melbourne:20250731T110000
DTEND;TZID=Australia/Melbourne:20250731T110000
DTSTAMP:20260420T072854
CREATED:20250724T061703Z
LAST-MODIFIED:20250724T061703Z
UID:53150-1753959600-1753959600@www.latrobe.edu.au
SUMMARY:Semester 2 Orientation Welcome Back Festival
DESCRIPTION:Kick off Semester 2 at the Bendigo Welcome Festival! Explore club stalls\, learn about support services\, enjoy free food\, and experience live entertainment. It’s a great opportunity to meet new people\, discover your interests\, and begin the semester with energy and excitement. Don’t miss out on making the most of your university experience!
URL:https://www.latrobe.edu.au/mylatrobe/event/semester-2-orientation-welcome-back-festival/
CATEGORIES:Bendigo
END:VEVENT
END:VCALENDAR