BEGIN:VCALENDAR
VERSION:2.0
PRODID:-//MyLaTrobe - ECPv6.15.20//NONSGML v1.0//EN
CALSCALE:GREGORIAN
METHOD:PUBLISH
X-ORIGINAL-URL:https://www.latrobe.edu.au/mylatrobe
X-WR-CALDESC:Events for MyLaTrobe
REFRESH-INTERVAL;VALUE=DURATION:PT1H
X-Robots-Tag:noindex
X-PUBLISHED-TTL:PT1H
BEGIN:VTIMEZONE
TZID:Australia/Melbourne
BEGIN:STANDARD
TZOFFSETFROM:+1100
TZOFFSETTO:+1000
TZNAME:AEST
DTSTART:20250405T160000
END:STANDARD
BEGIN:DAYLIGHT
TZOFFSETFROM:+1000
TZOFFSETTO:+1100
TZNAME:AEDT
DTSTART:20251004T160000
END:DAYLIGHT
BEGIN:STANDARD
TZOFFSETFROM:+1100
TZOFFSETTO:+1000
TZNAME:AEST
DTSTART:20260404T160000
END:STANDARD
BEGIN:DAYLIGHT
TZOFFSETFROM:+1000
TZOFFSETTO:+1100
TZNAME:AEDT
DTSTART:20261003T160000
END:DAYLIGHT
BEGIN:STANDARD
TZOFFSETFROM:+1100
TZOFFSETTO:+1000
TZNAME:AEST
DTSTART:20270403T160000
END:STANDARD
BEGIN:DAYLIGHT
TZOFFSETFROM:+1000
TZOFFSETTO:+1100
TZNAME:AEDT
DTSTART:20271002T160000
END:DAYLIGHT
END:VTIMEZONE
BEGIN:VEVENT
DTSTART;TZID=Australia/Melbourne:20260511T110000
DTEND;TZID=Australia/Melbourne:20260511T120000
DTSTAMP:20260420T083005
CREATED:20260415T063740Z
LAST-MODIFIED:20260415T063740Z
UID:58406-1778497200-1778500800@www.latrobe.edu.au
SUMMARY:Assessment Writing Skills
DESCRIPTION:Understand what is expected in academic writing at university\, including: academic language\, tone\, structure\, paragraphs\, using sources and referencing. And know where to get support for these areas.
URL:https://www.latrobe.edu.au/mylatrobe/event/assessment-writing-skills-10/
LOCATION:Online via Zoom
CATEGORIES:Albury-Wodonga,Albury-Wodonga;Bendigo;Bundoora;City;Mildura;Shepparton;Online,Bendigo,Bundoora,City,Mildura,Online,Shepparton,Sydney
END:VEVENT
BEGIN:VEVENT
DTSTART;TZID=Australia/Melbourne:20260512T100000
DTEND;TZID=Australia/Melbourne:20260512T110000
DTSTAMP:20260420T083005
CREATED:20260415T063740Z
LAST-MODIFIED:20260415T063740Z
UID:58407-1778580000-1778583600@www.latrobe.edu.au
SUMMARY:Improve your Library Search Skills
DESCRIPTION:Boost your study success by exploring strategies to find the right resources for your assessments and developing your search skills in Library Search.
URL:https://www.latrobe.edu.au/mylatrobe/event/improve-your-library-search-skills-10/
LOCATION:Online via Zoom
CATEGORIES:Albury-Wodonga,Albury-Wodonga;Bendigo;Bundoora;City;Mildura;Shepparton;Online,Bendigo,Bundoora,City,Mildura,Online,Shepparton,Sydney
END:VEVENT
BEGIN:VEVENT
DTSTART;TZID=Australia/Melbourne:20260513T110000
DTEND;TZID=Australia/Melbourne:20260513T120000
DTSTAMP:20260420T083005
CREATED:20260415T063740Z
LAST-MODIFIED:20260415T063740Z
UID:58408-1778670000-1778673600@www.latrobe.edu.au
SUMMARY:Using Library Databases and Google Scholar
DESCRIPTION:Boost your study success by exploring strategies to find the right resources for your assessments and developing your search skills in Library databases and Google Scholar.
URL:https://www.latrobe.edu.au/mylatrobe/event/using-library-databases-and-google-scholar-8/
LOCATION:Online via Zoom
CATEGORIES:Albury-Wodonga,Albury-Wodonga;Bendigo;Bundoora;City;Mildura;Shepparton;Online,Bendigo,Bundoora,City,Mildura,Online,Shepparton,Sydney
END:VEVENT
END:VCALENDAR