BEGIN:VCALENDAR
VERSION:2.0
PRODID:-//MyLaTrobe - ECPv6.15.20//NONSGML v1.0//EN
CALSCALE:GREGORIAN
METHOD:PUBLISH
X-WR-CALNAME:MyLaTrobe
X-ORIGINAL-URL:https://www.latrobe.edu.au/mylatrobe
X-WR-CALDESC:Events for MyLaTrobe
REFRESH-INTERVAL;VALUE=DURATION:PT1H
X-Robots-Tag:noindex
X-PUBLISHED-TTL:PT1H
BEGIN:VTIMEZONE
TZID:Australia/Melbourne
BEGIN:STANDARD
TZOFFSETFROM:+1100
TZOFFSETTO:+1000
TZNAME:AEST
DTSTART:20250405T160000
END:STANDARD
BEGIN:DAYLIGHT
TZOFFSETFROM:+1000
TZOFFSETTO:+1100
TZNAME:AEDT
DTSTART:20251004T160000
END:DAYLIGHT
BEGIN:STANDARD
TZOFFSETFROM:+1100
TZOFFSETTO:+1000
TZNAME:AEST
DTSTART:20260404T160000
END:STANDARD
BEGIN:DAYLIGHT
TZOFFSETFROM:+1000
TZOFFSETTO:+1100
TZNAME:AEDT
DTSTART:20261003T160000
END:DAYLIGHT
BEGIN:STANDARD
TZOFFSETFROM:+1100
TZOFFSETTO:+1000
TZNAME:AEST
DTSTART:20270403T160000
END:STANDARD
BEGIN:DAYLIGHT
TZOFFSETFROM:+1000
TZOFFSETTO:+1100
TZNAME:AEDT
DTSTART:20271002T160000
END:DAYLIGHT
END:VTIMEZONE
BEGIN:VEVENT
DTSTART;TZID=Australia/Melbourne:20260423T103000
DTEND;TZID=Australia/Melbourne:20260423T160000
DTSTAMP:20260423T021031
CREATED:20260416T230132Z
LAST-MODIFIED:20260416T231010Z
UID:58472-1776940200-1776960000@www.latrobe.edu.au
SUMMARY:Augment 2026 - Startup 101 program
DESCRIPTION:An interactive student-led\, pre-accelerator experience. Engage with AI and no-code tools in an interactive and hands-on format. NO EXPERIENCE NEEDED! \n\n\n\n\nRegister
URL:https://www.latrobe.edu.au/mylatrobe/event/augment-2026-startup-101-program/
CATEGORIES:Bundoora
ATTACH;FMTTYPE=image/png:https://www.latrobe.edu.au/mylatrobe/wp-content/uploads/2026/04/Augment-2026.png
END:VEVENT
BEGIN:VEVENT
DTSTART;TZID=Australia/Melbourne:20260423T110000
DTEND;TZID=Australia/Melbourne:20260423T110000
DTSTAMP:20260423T021031
CREATED:20260302T231850Z
LAST-MODIFIED:20260302T231850Z
UID:57474-1776942000-1776942000@www.latrobe.edu.au
SUMMARY:Free Hot Chips Thursday!!
DESCRIPTION:Free hot chips? Yes please!!On Thursday\, students can grab a serve of FREE hot chips—just pop into the LSU and visit a friendly face from the Student Engagement Team.\nHot\, crispy\, and totally free. Limited numbers available\, so get in quick!
URL:https://www.latrobe.edu.au/mylatrobe/event/free-hot-chips-thursday-2/
CATEGORIES:Bendigo,In-person
END:VEVENT
END:VCALENDAR