BEGIN:VCALENDAR
VERSION:2.0
PRODID:-//MyLaTrobe - ECPv6.15.20//NONSGML v1.0//EN
CALSCALE:GREGORIAN
METHOD:PUBLISH
X-WR-CALNAME:MyLaTrobe
X-ORIGINAL-URL:https://www.latrobe.edu.au/mylatrobe
X-WR-CALDESC:Events for MyLaTrobe
REFRESH-INTERVAL;VALUE=DURATION:PT1H
X-Robots-Tag:noindex
X-PUBLISHED-TTL:PT1H
BEGIN:VTIMEZONE
TZID:Australia/Melbourne
BEGIN:STANDARD
TZOFFSETFROM:+1100
TZOFFSETTO:+1000
TZNAME:AEST
DTSTART:20250405T160000
END:STANDARD
BEGIN:DAYLIGHT
TZOFFSETFROM:+1000
TZOFFSETTO:+1100
TZNAME:AEDT
DTSTART:20251004T160000
END:DAYLIGHT
BEGIN:STANDARD
TZOFFSETFROM:+1100
TZOFFSETTO:+1000
TZNAME:AEST
DTSTART:20260404T160000
END:STANDARD
BEGIN:DAYLIGHT
TZOFFSETFROM:+1000
TZOFFSETTO:+1100
TZNAME:AEDT
DTSTART:20261003T160000
END:DAYLIGHT
BEGIN:STANDARD
TZOFFSETFROM:+1100
TZOFFSETTO:+1000
TZNAME:AEST
DTSTART:20270403T160000
END:STANDARD
BEGIN:DAYLIGHT
TZOFFSETFROM:+1000
TZOFFSETTO:+1100
TZNAME:AEDT
DTSTART:20271002T160000
END:DAYLIGHT
END:VTIMEZONE
BEGIN:VEVENT
DTSTART;TZID=Australia/Melbourne:20260421T110000
DTEND;TZID=Australia/Melbourne:20260421T120000
DTSTAMP:20260421T012816
CREATED:20260415T063739Z
LAST-MODIFIED:20260415T063739Z
UID:58396-1776769200-1776772800@www.latrobe.edu.au
SUMMARY:Write that Assignment: Essays
DESCRIPTION:This workshop focuses on how to tackle essays with tips on structure\, writing good paragraphs\, using evidence\, and writing great introductions and conclusions.
URL:https://www.latrobe.edu.au/mylatrobe/event/write-that-assignment-essays-8/
LOCATION:Online via Zoom
CATEGORIES:Albury-Wodonga,Albury-Wodonga;Bendigo;Bundoora;City;Mildura;Shepparton;Online,Bendigo,Bundoora,City,Mildura,Online,Shepparton,Sydney
END:VEVENT
BEGIN:VEVENT
DTSTART;TZID=Australia/Melbourne:20260421T110000
DTEND;TZID=Australia/Melbourne:20260421T140000
DTSTAMP:20260421T012816
CREATED:20260409T024526Z
LAST-MODIFIED:20260409T024753Z
UID:58257-1776769200-1776780000@www.latrobe.edu.au
SUMMARY:LTSA Bendigo Student Services Expo
DESCRIPTION:Students! Drop by the La Trobe Student Union (LSU) and meet staff from a range of La Trobe student services who are here to support and assist you while you study at the Bendigo Campus. \n\n\n\nAll students will be given an expo ‘passport’. Get it stamped at the expo tables and you’ll get a free coffee and donut/cake! \n\n\n\nConnect with and learn more about a range of student services including: \n\n\n\n \n\n\n\n\nAccessibility\n\n\n\nClubs\n\n\n\nInternational Advising\n\n\n\nLa Trobe Student Association (LTSA)\n\n\n\nLTSA Advocacy\n\n\n\nLibrary\n\n\n\nMulti Faith Chaplains\n\n\n\nStudent Advising\n\n\n\nStudent Experience & Employability\n\n\n\n\n  \n\n\n\nFind out more!
URL:https://www.latrobe.edu.au/mylatrobe/event/ltsa-bendigo-student-services-expo-2/
CATEGORIES:Bendigo
ATTACH;FMTTYPE=image/webp:https://www.latrobe.edu.au/mylatrobe/wp-content/uploads/2026/04/LTSA-Services-Expo-Bendigo.webp
END:VEVENT
BEGIN:VEVENT
DTSTART;TZID=Australia/Melbourne:20260421T120000
DTEND;TZID=Australia/Melbourne:20260421T120000
DTSTAMP:20260421T012816
CREATED:20260303T055801Z
LAST-MODIFIED:20260324T003858Z
UID:57628-1776772800-1776772800@www.latrobe.edu.au
SUMMARY:Chill Out Tuesdays
DESCRIPTION:Come down to the Agora for a FREE gelati and sit back and relax.
URL:https://www.latrobe.edu.au/mylatrobe/event/chill-out-tuesdays-4/
LOCATION:Agora
CATEGORIES:Bundoora
ATTACH;FMTTYPE=image/png:https://www.latrobe.edu.au/mylatrobe/wp-content/uploads/2026/03/BU-Free-Gelato-.png
END:VEVENT
BEGIN:VEVENT
DTSTART;TZID=Australia/Melbourne:20260421T140000
DTEND;TZID=Australia/Melbourne:20260421T140000
DTSTAMP:20260421T012816
CREATED:20260302T110841Z
LAST-MODIFIED:20260310T051354Z
UID:57363-1776780000-1776780000@www.latrobe.edu.au
SUMMARY:Act on Procrastination: Online Group Program
DESCRIPTION:Do you find yourself: \n\nStaring at your screen\, unsure where to start?\nScrolling through social media\, watching videos\, cleaning the house or completing random tasks instead of tackling assignments or other important tasks?\nFeeling overwhelmed by tasks and unsure how to proceed?\n\nYou’re not alone. Procrastination is a common challenge among students. The ACT on Procrastination program\, offered by La Trobe’s Counselling team\, is designed to help you overcome these hurdles – giving you practical tools to shift your mindset and take action. \nWhat you will gain:\nIn this three-session online program\, you will: \n\nUnderstand your personal procrastination patterns.\nLearn strategies to boost motivation and take committed action\nUse strategies to change unhelpful behaviours.\nHave the chance to connect with other students who get it—you’re not in this alone.\n\nSession dates:\nYou attend all three sessions: \n\nTuesday 21 April\nTuesday 28 April\nTuesday 5 May\n\nTime: 2pm–3:30pm \nLocation: Online via Zoom (link provided upon registration) \nThis is a small group program. To help create a supportive space\, we ask that you: \n\nHave your camera on (as much as you’re able to)\nArrive on time to each session\n\nHow to register:\n\nRegister your interest via the link below and fill in your personal details and follow the prompts.\nWhen completing the form select these options:\n\n\nIs your enquiry regarding AccessAbility Services? → Select No\nWhat sort of assistance do you need? → Select Group Program\n\nIf you have any questions before registering\, please contact us at counselling@latrobe.edu.au. \nLearn more about our group programs on the Wellbeing Services Group Programs website. \n\n\n\nRegister now
URL:https://www.latrobe.edu.au/mylatrobe/event/wellbeing-services-act-on-procrastination-online-group-program/
CATEGORIES:Albury-Wodonga,Bendigo,Bundoora,City,Mildura,Online,Shepparton
END:VEVENT
BEGIN:VEVENT
DTSTART;TZID=Australia/Melbourne:20260421T140000
DTEND;TZID=Australia/Melbourne:20260421T150000
DTSTAMP:20260421T012816
CREATED:20260415T063739Z
LAST-MODIFIED:20260415T063739Z
UID:58397-1776780000-1776783600@www.latrobe.edu.au
SUMMARY:Write that Assignment: Reports
DESCRIPTION:This workshop focuses on how to write reports\, with tips on structure\, style and use of evidence. It will detail what should be included in each section\, and also cover common errors.
URL:https://www.latrobe.edu.au/mylatrobe/event/write-that-assignment-reports-6/
LOCATION:Online via Zoom
CATEGORIES:Albury-Wodonga,Albury-Wodonga;Bendigo;Bundoora;City;Mildura;Shepparton;Online,Bendigo,Bundoora,City,Mildura,Online,Shepparton,Sydney
END:VEVENT
END:VCALENDAR