BEGIN:VCALENDAR
VERSION:2.0
PRODID:-//MyLaTrobe - ECPv6.15.20//NONSGML v1.0//EN
CALSCALE:GREGORIAN
METHOD:PUBLISH
X-WR-CALNAME:MyLaTrobe
X-ORIGINAL-URL:https://www.latrobe.edu.au/mylatrobe
X-WR-CALDESC:Events for MyLaTrobe
REFRESH-INTERVAL;VALUE=DURATION:PT1H
X-Robots-Tag:noindex
X-PUBLISHED-TTL:PT1H
BEGIN:VTIMEZONE
TZID:Australia/Melbourne
BEGIN:STANDARD
TZOFFSETFROM:+1100
TZOFFSETTO:+1000
TZNAME:AEST
DTSTART:20250405T160000
END:STANDARD
BEGIN:DAYLIGHT
TZOFFSETFROM:+1000
TZOFFSETTO:+1100
TZNAME:AEDT
DTSTART:20251004T160000
END:DAYLIGHT
BEGIN:STANDARD
TZOFFSETFROM:+1100
TZOFFSETTO:+1000
TZNAME:AEST
DTSTART:20260404T160000
END:STANDARD
BEGIN:DAYLIGHT
TZOFFSETFROM:+1000
TZOFFSETTO:+1100
TZNAME:AEDT
DTSTART:20261003T160000
END:DAYLIGHT
BEGIN:STANDARD
TZOFFSETFROM:+1100
TZOFFSETTO:+1000
TZNAME:AEST
DTSTART:20270403T160000
END:STANDARD
BEGIN:DAYLIGHT
TZOFFSETFROM:+1000
TZOFFSETTO:+1100
TZNAME:AEDT
DTSTART:20271002T160000
END:DAYLIGHT
END:VTIMEZONE
BEGIN:VEVENT
DTSTART;TZID=Australia/Melbourne:20260420T110000
DTEND;TZID=Australia/Melbourne:20260420T120000
DTSTAMP:20260420T020042
CREATED:20260415T063739Z
LAST-MODIFIED:20260415T063739Z
UID:58394-1776682800-1776686400@www.latrobe.edu.au
SUMMARY:Getting Back on Track with your Assessments
DESCRIPTION:This workshop will look at strategies to help you get back on track. We’ll talk about prioritising tasks\, time management\, and where to go for more support.
URL:https://www.latrobe.edu.au/mylatrobe/event/getting-back-on-track-with-your-assessments-2/
LOCATION:Online via Zoom
CATEGORIES:Albury-Wodonga,Bendigo,Bundoora,City,Mildura,Online,Shepparton,Sydney
END:VEVENT
BEGIN:VEVENT
DTSTART;TZID=Australia/Melbourne:20260420T170000
DTEND;TZID=Australia/Melbourne:20260420T183000
DTSTAMP:20260420T020042
CREATED:20260415T063739Z
LAST-MODIFIED:20260415T063739Z
UID:58395-1776704400-1776709800@www.latrobe.edu.au
SUMMARY:Advanced Database Search Skills for Health
DESCRIPTION:In this advanced database searching session\, you will learn how to systematically search Medline as well as translate your search across other databases.
URL:https://www.latrobe.edu.au/mylatrobe/event/advanced-database-search-skills-for-health-8/
LOCATION:Online via Zoom
CATEGORIES:Albury-Wodonga,Albury-Wodonga;Bendigo;Bundoora;City;Mildura;Shepparton;Online,Bendigo,Bundoora,City,Mildura,Online,Shepparton,Sydney
END:VEVENT
END:VCALENDAR