BEGIN:VCALENDAR
VERSION:2.0
PRODID:-//La Trobe Events//NONSGML v1.0//EN
BEGIN:VEVENT
UID:1824070@latrobe.edu.au
DTSTART;TZID="/Australia/Melbourne":20260519T110000
DTEND;TZID="/Australia/Melbourne":20260519T120000
SUMMARY:Write that Assignment: Reports
DESCRIPTION:This workshop focuses on how to write reports, with tips on structure, style and use of evidence. It will detail what should be included in each section, and also cover common errors.
X-ALT-DESC;FMTTYPE=text/html:<!doctype html><html><body>
    <p><strong>This workshop focuses on how to write reports, with tips on structure, style and use of evidence. It will detail what should be included in each section, and also cover common errors.</strong></p>
        <p><strong><a href="https://employabilityhub.latrobe.edu.au/s/learning-hub/events/detail/1293058" style="color: #fff;background: #e2231b;border-radius: 5px;padding:5px 10px;display:inline-block;text-decoration:none;font-size:24px;">
        &nbsp;Register&nbsp;
    </a></strong></p>
        <p>In this workshop, you will learn:</p><ul><li>differences in types of reports</li><li>the key features of a report</li><li>where and how to include evidence in your report writing</li></ul><p><em>This is a live online workshop and is&nbsp;<strong>not recorded</strong>. Registered attendees will receive the slides after the workshop.</em></p></body></html>
    
LOCATION:Online

CATEGORIES:Spotlights on Success,Seminar/Workshop/Training,Current student: Undergraduate,Current student: Postgraduate,Current student: New students
END:VEVENT
END:VCALENDAR
