BEGIN:VCALENDAR
VERSION:2.0
PRODID:-//La Trobe Events//NONSGML v1.0//EN
BEGIN:VEVENT
UID:1782765@latrobe.edu.au
DTSTART;TZID="/Australia/Melbourne":20260505T100000
DTEND;TZID="/Australia/Melbourne":20260505T120000
SUMMARY:On Being Ruthless: Strategies and Tips for Editing your Thesis
DESCRIPTION:Effective editing is key to the clarity and precision of your writing.
X-ALT-DESC;FMTTYPE=text/html:<!doctype html><html><body>
    <p><strong>Effective editing is key to the clarity and precision of your writing.</strong></p>
        <p><strong><a href="https://outlook.office.com/book/LibraryResearchEducation@latrobeuni.onmicrosoft.com/s/D_Ogw2vvB0eTrEu4v3IDMA2" style="color: #fff;background: #e2231b;border-radius: 5px;padding:5px 10px;display:inline-block;text-decoration:none;font-size:24px;">
        &nbsp;Register&nbsp;
    </a></strong></p>
        <p>Effective editing is key to the clarity and precision of your writing. It makes a huge difference to the success of your thesis in communicating your key ideas and arguments to your examiner.</p><p>In this session, we will look at key editorial issues that arise in graduate theses and demonstrate practical strategies for working with your text.</p><p>Participants should bring along a couple of samples of their own writing.</p><p><strong>Who should attend?</strong></p><p>Graduate Research Students in the mid to latter stages of their candidature</p></body></html>
    
LOCATION:online

CATEGORIES:Library Researcher Education,Seminar/Workshop/Training,Researcher/Graduate researcher
END:VEVENT
END:VCALENDAR
