BEGIN:VCALENDAR
VERSION:2.0
PRODID:-//La Trobe Events//NONSGML v1.0//EN
BEGIN:VEVENT
UID:1822769@latrobe.edu.au
DTSTART;TZID="/Australia/Melbourne":20260504T140000
DTEND;TZID="/Australia/Melbourne":20260504T150000
SUMMARY:Master your Motivation
DESCRIPTION:Struggling with waning motivation and focus as the semester ends? Join our Academic Skills Advisor to discover effective strategies for clearing those final hurdles and finishing strong.
X-ALT-DESC;FMTTYPE=text/html:<!doctype html><html><body>
    <p><strong>Struggling with waning motivation and focus as the semester ends? Join our Academic Skills Advisor to discover effective strategies for clearing those final hurdles and finishing strong.</strong></p>
        <p><strong><a href="https://employabilityhub.latrobe.edu.au/s/learning-hub/events/detail/1292866" style="color: #fff;background: #e2231b;border-radius: 5px;padding:5px 10px;display:inline-block;text-decoration:none;font-size:24px;">
        &nbsp;Register&nbsp;
    </a></strong></p>
        <p>This workshop equips you with proven strategies for maintaining focus and motivation, overcoming common study obstacles, eliminating distractions, and mastering effective writing and productivity techniques.</p><p>In this workshop, you&rsquo;ll learn:</p><ul><li>strategies for staying focused and motivated</li><li>common study challenges</li><li>how to remove distractions</li><li>effective writing and productivity techniques</li></ul><p><em><strong>This is a live online workshop and is not recorded</strong>. Registered attendees will receive the slides after the workshop.</em></p></body></html>
    
LOCATION:Online

CATEGORIES:Spotlights on Success,Seminar/Workshop/Training,Current student: Undergraduate,Current student: Postgraduate,Current student: New students
END:VEVENT
END:VCALENDAR
