BEGIN:VCALENDAR
VERSION:2.0
PRODID:-//La Trobe Events//NONSGML v1.0//EN
BEGIN:VEVENT
UID:1822777@latrobe.edu.au
DTSTART;TZID="/Australia/Melbourne":20260505T140000
DTEND;TZID="/Australia/Melbourne":20260505T150000
SUMMARY:Getting Back on Track with your Assessments
DESCRIPTION:This workshop will look at strategies to help you get back on track. We'll talk about prioritising tasks, time management, and where to go for more support.
X-ALT-DESC;FMTTYPE=text/html:<!doctype html><html><body>
    <p><strong>This workshop will look at strategies to help you get back on track. We'll talk about prioritising tasks, time management, and where to go for more support.</strong></p>
        <p><strong><a href="https://employabilityhub.latrobe.edu.au/s/learning-hub/events/detail/1293028" style="color: #fff;background: #e2231b;border-radius: 5px;padding:5px 10px;display:inline-block;text-decoration:none;font-size:24px;">
        &nbsp;Register&nbsp;
    </a></strong></p>
        <p>In this workshop, you will learn:</p><ul><li>some steps for getting back on track after falling behind</li><li>strategies for time management and prioritising tasks</li><li>where to go for more support</li></ul><p>A video and resources are available in the LMS -&nbsp;<a href="https://lms.latrobe.edu.au/mod/page/view.php?id=7600531" target="_blank">Library: Getting back on track with your assessments* | My LMS subjects</a></p><p><em>This is a live online workshop and is&nbsp;<strong>not recorded.</strong> Registered attendees will receive the slides after the workshop.</em></p></body></html>
    
LOCATION:Online

CATEGORIES:Spotlights on Success,Seminar/Workshop/Training,Current student: Undergraduate,Current student: Postgraduate,Current student: New students
END:VEVENT
END:VCALENDAR
