BEGIN:VCALENDAR
VERSION:2.0
PRODID:-//La Trobe Events//NONSGML v1.0//EN
BEGIN:VEVENT
UID:1794574@latrobe.edu.au
DTSTART;TZID="/Australia/Melbourne":20260402T123000
DTEND;TZID="/Australia/Melbourne":20260402T130000
SUMMARY:Database Demo - Medline
DESCRIPTION:Drop in at 12.30 for a live demonstration of a search in Medline
X-ALT-DESC;FMTTYPE=text/html:<!doctype html><html><body>
    <p><strong>Drop in at 12.30 for a live demonstration of a search in Medline</strong></p>
        <p><strong><a href="https://latrobe.zoom.us/j/89279873252?pwd=KIU6ov4oT5QA8Q4embKnzlEQg53N7V.1" style="color: #fff;background: #e2231b;border-radius: 5px;padding:5px 10px;display:inline-block;text-decoration:none;font-size:24px;">
        &nbsp;Join session&nbsp;
    </a></strong></p>
        <p>Learn how to:</p><ul><li>enter your search terms effectively using the appropriate database search operators</li><li>create an account</li><li>export your results</li></ul><p>How to join:</p><p>Select &lsquo;join session&rsquo; during the database demo to join via Zoom. (See <a href="https://www.latrobe.edu.au/students/support/it/study-tools/zoom" target="_blank">Getting started with Zoom</a>.)</p></body></html>
    
LOCATION:online

CATEGORIES:Library Researcher Education,Seminar/Workshop/Training,Researcher/Graduate researcher
END:VEVENT
END:VCALENDAR
